BEGIN:VCALENDAR
VERSION:2.0
PRODID:IEEE vTools.Events//EN
CALSCALE:GREGORIAN
BEGIN:VTIMEZONE
TZID:US/Eastern
BEGIN:DAYLIGHT
DTSTART:20250309T030000
TZOFFSETFROM:-0500
TZOFFSETTO:-0400
RRULE:FREQ=YEARLY;BYDAY=2SU;BYMONTH=3
TZNAME:EDT
END:DAYLIGHT
BEGIN:STANDARD
DTSTART:20251102T010000
TZOFFSETFROM:-0400
TZOFFSETTO:-0500
RRULE:FREQ=YEARLY;BYDAY=1SU;BYMONTH=11
TZNAME:EST
END:STANDARD
END:VTIMEZONE
BEGIN:VEVENT
DTSTAMP:20250527T131357Z
UID:C279BC30-E556-4A2F-94AE-EA4797DFDBCF
DTSTART;TZID=US/Eastern:20250520T190000
DTEND;TZID=US/Eastern:20250520T200000
DESCRIPTION:Unit Substation Engineering and Design Considerations\n\nLarge 
 Commercial and Industrial Facilities that have received or distributed Med
 ium Voltage (&gt;1\,000 Volts) install Unit Substations to provide power at U
 tilization Voltages (4\,160 Volts or &lt;1\,000 Volts) for many years. Unit S
 ubstations include three major sections: Medium Voltage Disconnect and Tra
 nsformer Protection Section\; the Transformer Section: and the Secondary P
 rotection and Distribution Section. This course describes various options 
 and components within each section and how the options can be used to miti
 gate the effects of harmonics\, to reduce incident energy levels due to ar
 c flashes\, and to provide data to building management systems.\n\nSpeaker
 (s): Joseph F. Maida\, PE\n\nAgenda: \nWEBINAR: 7:00 - 8:00 P.M.\n\nThe Zo
 om Webinar link and password will be forwarded to all registered participa
 nts after Noon on the day of the meeting. Check your spam folder if you do
 n&#39;t see the email.\n\nWebinar is open to all.\n\nPDH certificates are avai
 lable and an evaluation form will be emailed to you after the meeting. PDH
  certificate are sent by IEEE USA 3-4 weeks after the meeting.\n\nVirtual:
  https://events.vtools.ieee.org/m/481430
LOCATION:Virtual: https://events.vtools.ieee.org/m/481430
ORGANIZER:ieee@gpamg.org
SEQUENCE:21
SUMMARY:Unit Substation Engineering and Design Considerations
URL;VALUE=URI:https://events.vtools.ieee.org/m/481430
X-ALT-DESC:Description: &lt;br /&gt;&lt;p class=&quot;MsoNormal&quot; style=&quot;text-align: left\
 ;&quot; align=&quot;center&quot;&gt;&lt;strong&gt;&lt;span style=&quot;font-size: 12pt\;&quot;&gt;Unit Substation 
 Engineering and Design Considerations&lt;/span&gt;&lt;/strong&gt;&lt;/p&gt;\n&lt;p class=&quot;MsoNo
 rmal&quot;&gt;&lt;span style=&quot;mso-bidi-font-weight: bold\;&quot;&gt;Large Commercial and Indu
 strial Facilities that have received or distributed Medium Voltage (&amp;gt\;1
 \,000 Volts) install Unit Substations to provide power at Utilization Volt
 ages (4\,160 Volts or &amp;lt\;1\,000 Volts) for many years. Unit Substations 
 include three major sections: Medium Voltage Disconnect and Transformer Pr
 otection Section\; the Transformer Section: and the Secondary Protection a
 nd Distribution Section. This course describes various options and compone
 nts within each section and how the options can be used to mitigate the ef
 fects of harmonics\, to reduce incident energy levels due to arc flashes\,
  and to provide data to building management systems.&lt;/span&gt;&lt;/p&gt;&lt;br /&gt;&lt;br /
 &gt;Agenda: &lt;br /&gt;&lt;p&gt;&lt;strong&gt;WEBINAR:&lt;/strong&gt;&amp;nbsp\;7:00 - 8:00 P.M.&amp;nbsp\;&lt;
 /p&gt;\n&lt;p&gt;The Zoom Webinar link and password will be forwarded to all regist
 ered participants after Noon on the day of the meeting. &lt;strong&gt;Check your
  spam folder if you don&#39;t see the email.&amp;nbsp\;&lt;/strong&gt;&lt;/p&gt;\n&lt;p&gt;Webinar i
 s open to all.&lt;/p&gt;\n&lt;p&gt;PDH certificates are available and an evaluation fo
 rm will be emailed to you after the meeting. PDH certificate are sent by I
 EEE USA 3-4 weeks after the meeting.&lt;/p&gt;
END:VEVENT
END:VCALENDAR

