BEGIN:VCALENDAR
VERSION:2.0
PRODID:IEEE vTools.Events//EN
CALSCALE:GREGORIAN
BEGIN:VTIMEZONE
TZID:America/New_York
BEGIN:DAYLIGHT
DTSTART:20250309T030000
TZOFFSETFROM:-0500
TZOFFSETTO:-0400
RRULE:FREQ=YEARLY;BYDAY=2SU;BYMONTH=3
TZNAME:EDT
END:DAYLIGHT
BEGIN:STANDARD
DTSTART:20251102T010000
TZOFFSETFROM:-0400
TZOFFSETTO:-0500
RRULE:FREQ=YEARLY;BYDAY=1SU;BYMONTH=11
TZNAME:EST
END:STANDARD
END:VTIMEZONE
BEGIN:VEVENT
DTSTAMP:20250418T190334Z
UID:EF65B109-37CD-4B3E-9B6B-547679EE0D52
DTSTART;TZID=America/New_York:20250415T180000
DTEND;TZID=America/New_York:20250415T190000
DESCRIPTION:Learn more about what IEEE at UMD has to offer for the Universi
 ty of Maryland\, College Park students.\n\nLearn about opportunities to se
 rve on the executive board of IEEE at UMD.\n\nElections are coming soon!\n
 \nRoom: 2460\, Bldg: A.V. Williams\, 8223 Paint Branch Dr\, College Park\,
  Maryland\, United States\, 20740
LOCATION:Room: 2460\, Bldg: A.V. Williams\, 8223 Paint Branch Dr\, College 
 Park\, Maryland\, United States\, 20740
ORGANIZER:falvare2@umd.edu
SEQUENCE:15
SUMMARY:IEEE at UMD - General Body Meeting
URL;VALUE=URI:https://events.vtools.ieee.org/m/481434
X-ALT-DESC:Description: &lt;br /&gt;&lt;p&gt;Learn more about what IEEE at UMD has to o
 ffer for the University of Maryland\, College Park students.&lt;/p&gt;\n&lt;p&gt;Learn
  about opportunities to serve on the executive board of IEEE at UMD.&amp;nbsp\
 ;&lt;/p&gt;\n&lt;p&gt;Elections are coming soon!&lt;/p&gt;
END:VEVENT
END:VCALENDAR

