BEGIN:VCALENDAR
VERSION:2.0
PRODID:IEEE vTools.Events//EN
CALSCALE:GREGORIAN
BEGIN:VTIMEZONE
TZID:America/New_York
BEGIN:DAYLIGHT
DTSTART:20250309T030000
TZOFFSETFROM:-0500
TZOFFSETTO:-0400
RRULE:FREQ=YEARLY;BYDAY=2SU;BYMONTH=3
TZNAME:EDT
END:DAYLIGHT
BEGIN:STANDARD
DTSTART:20251102T010000
TZOFFSETFROM:-0400
TZOFFSETTO:-0500
RRULE:FREQ=YEARLY;BYDAY=1SU;BYMONTH=11
TZNAME:EST
END:STANDARD
END:VTIMEZONE
BEGIN:VEVENT
DTSTAMP:20250419T211803Z
UID:D7B67EF9-0504-4C42-ADCE-D5A22CD3510A
DTSTART;TZID=America/New_York:20250416T160000
DTEND;TZID=America/New_York:20250416T180000
DESCRIPTION:Dear Friends of the College of Engineering\,\n\nWe are thrilled
  to invite you to our upcoming Career Connections Mixer on Wednesday\, Apr
 il 16th in the VCU Engineering Research Building Atrium. This event is an 
 excellent opportunity for you to connect with students in a relaxed settin
 g while enjoying complimentary food. We ask that mentors\, alumni and indu
 stry partners arrive at 4 pm so that you can check in\, find your table an
 d have some food\, before students arrive at 4:30 pm.\n\nWe hope that you 
 can join us to share your insights\, answer questions\, and to continue to
  build strong relationships with the students.\n\nWe look forward to seein
 g you! Free parking will be offered to all who RSVP.\n\n[RSVP HERE](https:
 //forms.gle/kCFq9Yqbyiu33kWz8)\n\nBest Regards\nJayanna Hallur\nIEEE Gener
 al Secretary for Richmond Section.\n\nAgenda: \n- To provide the Mentoring
  to students for the right career path\n- To provide the information requi
 red to begin career in particular domain/industry\n- To clarify any questi
 ons the students needs assistance for choosing the career path\n\nVCU Engi
 neering Research Building Atrium\, Richmond\, Virginia\, United States\, 2
 3220
LOCATION:VCU Engineering Research Building Atrium\, Richmond\, Virginia\, U
 nited States\, 23220
ORGANIZER:jayannah@ieee.org
SEQUENCE:19
SUMMARY:Career Connections Mixer on Wednesday\, April 16th in the VCU Engin
 eering Research Building Atrium
URL;VALUE=URI:https://events.vtools.ieee.org/m/481490
X-ALT-DESC:Description: &lt;br /&gt;&lt;div&gt;&lt;span style=&quot;font-family: tahoma\, sans-
 serif\;&quot;&gt;Dear&amp;nbsp\;&lt;span class=&quot;gmail_default&quot;&gt;Friends of the College of 
 Engineering\,&lt;/span&gt;&lt;/span&gt;&lt;/div&gt;\n&lt;div class=&quot;gmail_quote&quot;&gt;\n&lt;div dir=&quot;lt
 r&quot;&gt;\n&lt;div&gt;\n&lt;p&gt;&lt;span style=&quot;font-family: tahoma\, sans-serif\;&quot;&gt;We are thr
 illed to invite you to our upcoming&amp;nbsp\;&lt;span class=&quot;gmail_default&quot;&gt;&lt;str
 ong&gt;Career Connections&lt;/strong&gt;&lt;/span&gt;&lt;strong&gt;&amp;nbsp\;M&lt;span class=&quot;gmail_d
 efault&quot;&gt;ixer&lt;/span&gt;&lt;/strong&gt;&amp;nbsp\;on&amp;nbsp\;&lt;strong&gt;Wednesda&lt;span class=&quot;g
 mail_default&quot;&gt;y&lt;/span&gt;&lt;wbr&gt;\,&amp;nbsp\;&lt;span class=&quot;gmail_default&quot;&gt;April&lt;/spa
 n&gt;&amp;nbsp\;1&lt;span class=&quot;gmail_default&quot;&gt;6&lt;/span&gt;th&lt;/strong&gt;&amp;nbsp\;in the&amp;nbs
 p\;&lt;strong&gt;VCU&lt;/strong&gt;&amp;nbsp\;&lt;strong&gt;Engineering Research Building Atrium
 &lt;/strong&gt;. This event is an excellent opportunity for you to connect with 
 students in a relaxed setting while enjoying complimentary food.&amp;nbsp\;&lt;sp
 an class=&quot;gmail_default&quot;&gt;We ask that mentors\, alumni and industry partner
 s arrive at 4 pm so that you can check in\, find your table and have some 
 food\, before students arrive at 4:30 pm.&lt;/span&gt;&lt;/span&gt;&lt;/p&gt;\n&lt;p&gt;&lt;span styl
 e=&quot;font-family: tahoma\, sans-serif\;&quot;&gt;We hope&lt;span class=&quot;gmail_default&quot;&gt;
 &amp;nbsp\;that&lt;/span&gt;&amp;nbsp\;you can join us to share your insights\, answer q
 uestions\, and to continue to build strong&amp;nbsp\;relationships&lt;span class=
 &quot;gmail_default&quot;&gt;&amp;nbsp\;with the students.&amp;nbsp\;&lt;/span&gt;&lt;/span&gt;&lt;/p&gt;\n&lt;p&gt;&lt;sp
 an style=&quot;font-family: tahoma\, sans-serif\;&quot;&gt;We look forward to seeing yo
 u!&lt;span class=&quot;gmail_default&quot;&gt;&amp;nbsp\;Free parking&amp;nbsp\;will be offered to
  all who RSVP.&amp;nbsp\;&lt;/span&gt;&lt;/span&gt;&lt;/p&gt;\n&lt;p&gt;&lt;span class=&quot;gmail_default&quot;&gt;&lt;a
  href=&quot;https://forms.gle/kCFq9Yqbyiu33kWz8&quot; target=&quot;_blank&quot; rel=&quot;noopener&quot;
  data-saferedirecturl=&quot;https://www.google.com/url?q=https://forms.gle/kCFq
 9Yqbyiu33kWz8&amp;amp\;source=gmail&amp;amp\;ust=1744756534020000&amp;amp\;usg=AOvVaw3
 wAmwbFGBx12vkwoT8ZlUO&quot;&gt;&lt;span style=&quot;font-size: xx-large\;&quot;&gt;&lt;strong&gt;RSVP HE
 RE&lt;/strong&gt;&lt;/span&gt;&lt;/a&gt;&lt;/span&gt;&lt;/p&gt;\n&lt;/div&gt;\n&lt;/div&gt;\n&lt;/div&gt;\n&lt;p&gt;&lt;br&gt;Best Reg
 ards&lt;br&gt;Jayanna Hallur&amp;nbsp\;&lt;br&gt;IEEE General Secretary for Richmond Secti
 on.&lt;/p&gt;&lt;br /&gt;&lt;br /&gt;Agenda: &lt;br /&gt;&lt;ul&gt;\n&lt;li&gt;To provide the Mentoring to stu
 dents for the right career path&lt;/li&gt;\n&lt;li&gt;To provide the information requi
 red to begin career in particular domain/industry&lt;/li&gt;\n&lt;li&gt;To clarify any
  questions the students needs assistance for choosing the career path&lt;/li&gt;
 \n&lt;/ul&gt;
END:VEVENT
END:VCALENDAR

