BEGIN:VCALENDAR
VERSION:2.0
PRODID:IEEE vTools.Events//EN
CALSCALE:GREGORIAN
BEGIN:VTIMEZONE
TZID:America/Bogota
BEGIN:DAYLIGHT
DTSTART:20380118T221407
TZOFFSETFROM:-0500
TZOFFSETTO:-0500
RRULE:FREQ=YEARLY;BYDAY=3MO;BYMONTH=1
TZNAME:-05
END:DAYLIGHT
BEGIN:STANDARD
DTSTART:19930206T230000
TZOFFSETFROM:-0400
TZOFFSETTO:-0500
RRULE:FREQ=YEARLY;BYDAY=1SA;BYMONTH=2
TZNAME:-05
END:STANDARD
END:VTIMEZONE
BEGIN:VEVENT
DTSTAMP:20250501T024637Z
UID:61BAEA84-E3AA-4EB9-A766-9C1B8CACB87F
DTSTART;TZID=America/Bogota:20250429T160000
DTEND;TZID=America/Bogota:20250429T173000
DESCRIPTION:EVENTO GRATUITO\, CON INSCRIPCION PREVIA\, PARA VOLUNTARIOS IEE
 E.\nTUTORIAL SOBRE EL USO DE LAS HERRAMIENTAS &quot;VTOOLS&quot;\, DISPONIBLES PARA 
 FACILITAR SUS TAREAS.\nSE BRINDARA UN PANORAMA GENERAL SOBRE LAS MISMAS\, 
 Y SE VERAN ALGUNAS EN MAYOR DETALLE\,\nEN PARTICULAR &quot;EVENTS&quot; Y &quot;ENOTICE&quot;\
 , DESTINADAS A PUBLICITAR Y REPORTAR ACTIVIDADES\, Y A\nCOMUNICACIONES CON
  LOS MIEMBROS.\nCONDUCTOR: ING. LUIS REMEZ (LIFE SENIOR\, SECCION ARGENTIN
 A)\nINSCRIPCION EN https://events.vtools.ieee.org/m/481664\n\nAgenda: \nMa
 rtes 29 de abril de 2025.\n15:00 - El Salvador y Monterrey\n16:00 - Panama
 \, Colombia\, Peru\n17:00 - Chile y Puerto Rico\n18:00 - Uruguay\, Argenti
 na\, Brasil\n21:00 - UTC\n\nVirtual: https://events.vtools.ieee.org/m/4816
 64
LOCATION:Virtual: https://events.vtools.ieee.org/m/481664
ORGANIZER:ysolis@ieee.org
SEQUENCE:58
SUMMARY:IEEE R9 LMAG - TUTORIAL &quot;USO DE HERRAMIENTAS IEEE VTOOLS&quot;
URL;VALUE=URI:https://events.vtools.ieee.org/m/481664
X-ALT-DESC:Description: &lt;br /&gt;&lt;div&gt;&lt;strong&gt;EVENTO GRATUITO\, CON INSCRIPCIO
 N PREVIA\, PARA&amp;nbsp\;VOLUNTARIOS IEEE.&lt;/strong&gt;&lt;/div&gt;\n&lt;div&gt;&lt;strong&gt;TUTOR
 IAL SOBRE EL USO DE LAS HERRAMIENTAS &quot;VTOOLS&quot;&lt;/strong&gt;\, DISPONIBLES PARA 
 FACILITAR SUS TAREAS.&lt;/div&gt;\n&lt;div&gt;SE BRINDARA UN PANORAMA GENERAL SOBRE LA
 S MISMAS\, Y SE VERAN ALGUNAS EN MAYOR DETALLE\,&lt;/div&gt;\n&lt;div&gt;EN PARTICULAR
  &quot;&lt;strong&gt;EVENTS&lt;/strong&gt;&quot; Y &quot;&lt;strong&gt;ENOTICE&lt;/strong&gt;&quot;\, DESTINADAS A PUB
 LICITAR Y REPORTAR ACTIVIDADES\, Y&amp;nbsp\;A&lt;/div&gt;\n&lt;div&gt;COMUNICACIONES CON 
 LOS MIEMBROS.&lt;/div&gt;\n&lt;div&gt;CONDUCTOR: ING. LUIS REMEZ (LIFE SENIOR\, SECCIO
 N ARGENTINA)&lt;/div&gt;\n&lt;div&gt;INSCRIPCION EN &lt;a title=&quot;Tutorial vTools - Inscri
 pci&amp;oacute\;n&quot; href=&quot;https://events.vtools.ieee.org/m/481664&quot; target=&quot;_bla
 nk&quot; rel=&quot;noopener&quot;&gt;https://events.vtools.ieee.org/m/481664&lt;/a&gt;&lt;/div&gt;\n&lt;div
 &gt;&amp;nbsp\;&lt;/div&gt;\n&lt;p&gt;&lt;img src=&quot;https://events.vtools.ieee.org/vtools_ui/medi
 a/display/f47c40cc-e7b3-4b32-9c4d-269e4b0ebab9&quot; width=&quot;487&quot; height=&quot;514&quot;&gt;&lt;
 /p&gt;\n&lt;p&gt;&amp;nbsp\;&lt;/p&gt;&lt;br /&gt;&lt;br /&gt;Agenda: &lt;br /&gt;&lt;div&gt;&lt;strong&gt;Martes 29 de abr
 il de 2025.&lt;/strong&gt;&lt;/div&gt;\n&lt;div&gt;15:00 - El Salvador y Monterrey&lt;/div&gt;\n&lt;d
 iv&gt;16:00 - Panama\, Colombia\, Peru&amp;nbsp\;&lt;/div&gt;\n&lt;div&gt;17:00 - Chile y Pue
 rto Rico&lt;/div&gt;\n&lt;div&gt;18:00 - Uruguay\, Argentina\, Brasil&lt;/div&gt;\n&lt;div&gt;21:0
 0 - UTC&lt;/div&gt;\n&lt;div&gt;&amp;nbsp\;&lt;/div&gt;
END:VEVENT
END:VCALENDAR

