BEGIN:VCALENDAR
VERSION:2.0
PRODID:IEEE vTools.Events//EN
CALSCALE:GREGORIAN
BEGIN:VTIMEZONE
TZID:Asia/Kolkata
BEGIN:STANDARD
DTSTART:19451014T230000
TZOFFSETFROM:+0630
TZOFFSETTO:+0530
TZNAME:IST
END:STANDARD
END:VTIMEZONE
BEGIN:VEVENT
DTSTAMP:20250518T125143Z
UID:92ADECD7-946A-4FFF-B658-DD70AD90DF2F
DTSTART;TZID=Asia/Kolkata:20250422T183000
DTEND;TZID=Asia/Kolkata:20250422T203200
DESCRIPTION:Programme Details:\n\n06:30 Ρ.Μ. - 06:45 Ρ.Μ. :- Opening Ce
 remony (Lamp Lighting)\n06:45 Ρ.Μ. - 06:50 Ρ.Μ. :- Welcome Address by 
 Chapter Chair\n06:50 Ρ.Μ. – 07:00 Ρ.Μ. :- Address by IEEE Bhubaneswa
 r Section Chair\n07:00 Ρ.Μ. - 07:05 P.M. :- Address by Director General\
 , School of CSE\, KIIT DU\n07:05 Ρ.Μ. - 07:10 Р.М. :- Address by Regis
 trar\, KIIT DU\n07:10 Ρ.Μ. - 07:15 Ρ.Μ. :- Address by Vice-Chancellor\
 , KIIT DU\n07:15 Ρ.Μ. - 07:20 Ρ.Μ. :- Address by Shri. Deepak Mathur\,
  2024 IEEE VP (MGA)\n07:20 Ρ.Μ. - 07:25 Ρ.Μ. :- Address by Dr. Jyotika
  Athavale\, 2024 IEEE CS President\n07:25 Ρ.Μ. - 07:30 Ρ.Μ. :- Address
  by Prof. H. Washizaki\, 2025 IEEE CS President\n07:30 Ρ.Μ. - 07:35 P.M.
  :- Address by Prof. Prerna Gaur\, IEEE India Council Chair\n07:35 Ρ.Μ. 
 - 07:55 Ρ.Μ. :- Inauguration and Introduction to the Executive Committee
 \n07:55 Ρ.Μ. - 08:05 P.M. :- Felicitation of the Guests\n08:05 Ρ.Μ. - 
 08:10 Ρ.Μ. :- Vote of Thanks followed by High Tea\n\nCo-sponsored by: Sc
 hool of Computer Engineering\, KIIT DU\n\nSpeaker(s): Shri. Deepak Mathur\
 , Dr. Jyotika Athavale\,  Prof. H. Washizaki\, Prof. Prerna Gaur \, Prof. 
 S. R. Samantaray\n\nRoom: Seminar Hall\, Bldg: Campus-14\, Bhubaneswar\, O
 rissa\, India\, 751024
LOCATION:Room: Seminar Hall\, Bldg: Campus-14\, Bhubaneswar\, Orissa\, Indi
 a\, 751024
ORGANIZER:amiya.pandafcs@kiit.ac.in
SEQUENCE:50
SUMMARY:Inauguration Ceremony of IEEE Computer Society Chapter\, Bhubaneswa
 r Section
URL;VALUE=URI:https://events.vtools.ieee.org/m/481678
X-ALT-DESC:Description: &lt;br /&gt;&lt;p&gt;&lt;strong&gt;Programme Details:&lt;/strong&gt;&lt;/p&gt;\n&lt;
 p&gt;06:30 &amp;Rho\;.&amp;Mu\;. - 06:45 &amp;Rho\;.&amp;Mu\;. :- Opening Ceremony (Lamp Ligh
 ting)&amp;nbsp\;&lt;br&gt;06:45 &amp;Rho\;.&amp;Mu\;. - 06:50 &amp;Rho\;.&amp;Mu\;. :- Welcome Addre
 ss by Chapter Chair&amp;nbsp\;&lt;br&gt;06:50 &amp;Rho\;.&amp;Mu\;. &amp;ndash\; 07:00 &amp;Rho\;.&amp;M
 u\;. :- Address by IEEE Bhubaneswar Section Chair&amp;nbsp\;&lt;br&gt;07:00 &amp;Rho\;.&amp;
 Mu\;. - 07:05 P.M. :- Address by Director General\, School of CSE\, KIIT D
 U&amp;nbsp\;&lt;br&gt;07:05 &amp;Rho\;.&amp;Mu\;. - 07:10 Р.М. :- Address by Registrar\, K
 IIT DU&amp;nbsp\;&lt;br&gt;07:10 &amp;Rho\;.&amp;Mu\;. - 07:15 &amp;Rho\;.&amp;Mu\;. :- Address by V
 ice-Chancellor\, KIIT DU&amp;nbsp\;&lt;br&gt;07:15 &amp;Rho\;.&amp;Mu\;. - 07:20 &amp;Rho\;.&amp;Mu\
 ;. :- Address by Shri. Deepak Mathur\, 2024 IEEE VP (MGA)&amp;nbsp\;&lt;br&gt;07:20 
 &amp;Rho\;.&amp;Mu\;. - 07:25 &amp;Rho\;.&amp;Mu\;. :- Address by Dr. Jyotika Athavale\, 2
 024 IEEE CS President&amp;nbsp\;&lt;br&gt;07:25 &amp;Rho\;.&amp;Mu\;. - 07:30 &amp;Rho\;.&amp;Mu\;. 
 :- Address by Prof. H. Washizaki\, 2025 IEEE CS President&amp;nbsp\;&lt;br&gt;07:30 
 &amp;Rho\;.&amp;Mu\;. - 07:35 P.M. :- Address by Prof. Prerna Gaur\, IEEE India Co
 uncil Chair&amp;nbsp\;&lt;br&gt;07:35 &amp;Rho\;.&amp;Mu\;. - 07:55 &amp;Rho\;.&amp;Mu\;. :- Inaugur
 ation and Introduction to the Executive Committee&amp;nbsp\;&lt;br&gt;07:55 &amp;Rho\;.&amp;
 Mu\;. - 08:05 P.M. :- Felicitation of the Guests&amp;nbsp\;&lt;br&gt;08:05 &amp;Rho\;.&amp;M
 u\;. - 08:10 &amp;Rho\;.&amp;Mu\;. :- Vote of Thanks followed by High Tea&lt;/p&gt;
END:VEVENT
END:VCALENDAR

