BEGIN:VCALENDAR
VERSION:2.0
PRODID:IEEE vTools.Events//EN
CALSCALE:GREGORIAN
BEGIN:VTIMEZONE
TZID:America/Los_Angeles
BEGIN:DAYLIGHT
DTSTART:20250309T030000
TZOFFSETFROM:-0800
TZOFFSETTO:-0700
RRULE:FREQ=YEARLY;BYDAY=2SU;BYMONTH=3
TZNAME:PDT
END:DAYLIGHT
BEGIN:STANDARD
DTSTART:20251102T010000
TZOFFSETFROM:-0700
TZOFFSETTO:-0800
RRULE:FREQ=YEARLY;BYDAY=1SU;BYMONTH=11
TZNAME:PST
END:STANDARD
END:VTIMEZONE
BEGIN:VEVENT
DTSTAMP:20250426T155136Z
UID:130C7F6A-8DFF-481A-AF6F-C1CD32AA6CAC
DTSTART;TZID=America/Los_Angeles:20250424T110000
DTEND;TZID=America/Los_Angeles:20250424T120000
DESCRIPTION:NEED TO MONITOR ROTARY OR LINEAR POSITION?\nTHE FAQS ABOUT ENCO
 DERS\, RESOLVERS AND LIMIT SWITCHES.\n\nNeed a position sensor? This semin
 ar provides answers the FAQs about choosing sensors for monitoring rotary 
 or linear motion. Incremental or Absolute Encoder? Solid or hollow shaft? 
 Resolution? What interface is required? For what applications should I use
  a resolver instead of an encoder? What is the purpose of limit switches a
 nd what do they do that encoders cannot?\n\nThis event is part of the IEEE
  San Diego Section&#39;s PDH series at the Del Mar Electronics and Manufacturi
 ng Show (Apr 23 - 24).\n\nSpeaker(s):  Dennis Horwitz\n\nAgenda: \nPlease 
 use this event&#39;s registration to sign up for PHD credits. Everyone is welc
 ome to attend this talk.\n\nIf you want PDH credit for this talk\, please 
 register on this site. If you simply want to attend\, see more info[on the
  show site](https://www.mfgshow.com/seminars/speak.cfm?Id=225).\n\nPlease 
 register on this site using the name you want on the PDH certificate. Also
  use the email address that you want the certificate mailed to.\n\nRoom: R
 oom D\, Bldg: Mission Tower\, 2260 Jimmy Durante Blvd\, Del Mar Fairground
 s\, Del Mar\, California\, United States\, 92014
LOCATION:Room: Room D\, Bldg: Mission Tower\, 2260 Jimmy Durante Blvd\, Del
  Mar Fairgrounds\, Del Mar\, California\, United States\, 92014
ORGANIZER:m.w.bryant@ieee.org
SEQUENCE:23
SUMMARY:DMEMS - PDH Series -&quot;NEED TO MONITOR ROTARY OR LINEAR POSITION? THE
  FAQS ABOUT ENCODERS\, RESOLVERS AND LIMIT SWITCHES.&quot;
URL;VALUE=URI:https://events.vtools.ieee.org/m/481898
X-ALT-DESC:Description: &lt;br /&gt;&lt;h1 class=&quot;heading-23&quot; style=&quot;text-align: cen
 ter\;&quot;&gt;NEED TO MONITOR ROTARY OR LINEAR POSITION? &lt;br&gt;THE FAQS ABOUT ENCOD
 ERS\, RESOLVERS AND LIMIT SWITCHES.&lt;/h1&gt;\n&lt;p&gt;Need a position sensor? This 
 seminar provides answers the FAQs about choosing sensors for monitoring ro
 tary or linear motion. Incremental or Absolute Encoder? Solid or hollow sh
 aft? Resolution? What interface is required? For what applications should 
 I use a resolver instead of an encoder? What is the purpose of limit switc
 hes and what do they do that encoders cannot?&lt;/p&gt;\n&lt;p class=&quot;MsoNormal&quot;&gt;&amp;n
 bsp\;&lt;/p&gt;\n&lt;p class=&quot;MsoNormal&quot;&gt;&lt;span style=&quot;font-family: arial\, helvetic
 a\, sans-serif\;&quot;&gt;This event is part of the IEEE San Diego Section&#39;s PDH s
 eries at the Del Mar Electronics and Manufacturing Show (Apr 23 - 24).&amp;nbs
 p\;&lt;/span&gt;&lt;/p&gt;\n&lt;p class=&quot;MsoNormal&quot;&gt;&amp;nbsp\;&lt;/p&gt;&lt;br /&gt;&lt;br /&gt;Agenda: &lt;br /&gt;
 &lt;p&gt;Please use this event&#39;s registration to sign up for PHD credits.&amp;nbsp\;
  Everyone is welcome to attend this talk.&amp;nbsp\;&lt;/p&gt;\n&lt;p&gt;If you want PDH c
 redit for this talk\, please register on this site.&amp;nbsp\;&amp;nbsp\; If you s
 imply want to attend\, see more info&lt;a href=&quot;https://www.mfgshow.com/semin
 ars/speak.cfm?Id=225&quot; target=&quot;_blank&quot; rel=&quot;noopener&quot;&gt; on the show site&lt;/a&gt;
 .&lt;/p&gt;\n&lt;p&gt;Please register on this site using the name you want on the PDH 
 certificate.&amp;nbsp\; Also use the email address that you want the certifica
 te mailed to.&lt;/p&gt;
END:VEVENT
END:VCALENDAR

