BEGIN:VCALENDAR
VERSION:2.0
PRODID:IEEE vTools.Events//EN
CALSCALE:GREGORIAN
BEGIN:VTIMEZONE
TZID:America/New_York
BEGIN:DAYLIGHT
DTSTART:20250309T030000
TZOFFSETFROM:-0500
TZOFFSETTO:-0400
RRULE:FREQ=YEARLY;BYDAY=2SU;BYMONTH=3
TZNAME:EDT
END:DAYLIGHT
BEGIN:STANDARD
DTSTART:20251102T010000
TZOFFSETFROM:-0400
TZOFFSETTO:-0500
RRULE:FREQ=YEARLY;BYDAY=1SU;BYMONTH=11
TZNAME:EST
END:STANDARD
END:VTIMEZONE
BEGIN:VEVENT
DTSTAMP:20250516T160105Z
UID:EE9E7C5C-B606-4702-BFC9-7AE38D8F88EF
DTSTART;TZID=America/New_York:20250424T173000
DTEND;TZID=America/New_York:20250424T183000
DESCRIPTION:Abstract: How You Can Accelerate Your Career by Thinking Data-C
 entric and Digital First\n\nIn this talk\, Omron Automation Control Produc
 t Management will introduce the integration of robotics into all-in-one au
 tomation control platforms. By focusing on integration into native ecosyst
 ems\, teams can accelerate their projects’ success through high fidelity
  data and digital first validation. Specifically\, the tech talk will intr
 oduce how this mindset decreases commissioning time by designing programs 
 in an integrated development environment\, increases machine performance w
 ith a centralized control of secure communication on globally open industr
 ial protocols\, and preserves the relevancy of data collection methods to 
 continuously increase OEE while building the foundation for future agentic
  AI.\n\nCo-sponsored by: Holcombe Department of Electrical and Computer En
 gineering\n\nSpeaker(s): \, Thomas \n\nBldg: Humanities Hall\, Delta Epsil
 on Ct\, Clemson\, South Carolina\, United States\, 29634
LOCATION:Bldg: Humanities Hall\, Delta Epsilon Ct\, Clemson\, South Carolin
 a\, United States\, 29634
ORGANIZER:hraza@clemson.edu
SEQUENCE:12
SUMMARY:ECE Tech Talk by Omron: All-In-One: Accelerating Robotic Success th
 rough Holistic Factory Control
URL;VALUE=URI:https://events.vtools.ieee.org/m/482142
X-ALT-DESC:Description: &lt;br /&gt;&lt;p&gt;&lt;strong style=&quot;color: rgb(32\, 33\, 36)\; 
 font-family: docs-Roboto\; font-size: 16px\; font-style: normal\; font-var
 iant-ligatures: normal\; font-variant-caps: normal\; letter-spacing: norma
 l\; orphans: 2\; text-align: start\; text-indent: 0px\; text-transform: no
 ne\; widows: 2\; word-spacing: 0px\; -webkit-text-stroke-width: 0px\; whit
 e-space: normal\; background-color: rgb(241\, 243\, 244)\; text-decoration
 -thickness: initial\; text-decoration-style: initial\; text-decoration-col
 or: initial\;&quot;&gt;Abstract:&amp;nbsp\;&lt;/strong&gt;&lt;span style=&quot;color: rgb(32\, 33\, 
 36)\; font-family: docs-Roboto\; font-size: 16px\; font-style: normal\; fo
 nt-variant-ligatures: normal\; font-variant-caps: normal\; font-weight: 40
 0\; letter-spacing: normal\; orphans: 2\; text-align: start\; text-indent:
  0px\; text-transform: none\; widows: 2\; word-spacing: 0px\; -webkit-text
 -stroke-width: 0px\; white-space: normal\; background-color: rgb(241\, 243
 \, 244)\; text-decoration-thickness: initial\; text-decoration-style: init
 ial\; text-decoration-color: initial\;&quot;&gt;&lt;em&gt;&lt;strong&gt;How You Can Accelerate
  Your Career by Thinking Data-Centric and Digital First&lt;/strong&gt;&lt;/em&gt;&lt;/spa
 n&gt;&lt;/p&gt;\n&lt;p&gt;&lt;span style=&quot;color: rgb(32\, 33\, 36)\; font-family: docs-Robot
 o\; font-size: 16px\; font-style: normal\; font-variant-ligatures: normal\
 ; font-variant-caps: normal\; font-weight: 400\; letter-spacing: normal\; 
 orphans: 2\; text-align: start\; text-indent: 0px\; text-transform: none\;
  widows: 2\; word-spacing: 0px\; -webkit-text-stroke-width: 0px\; white-sp
 ace: normal\; background-color: rgb(241\, 243\, 244)\; text-decoration-thi
 ckness: initial\; text-decoration-style: initial\; text-decoration-color: 
 initial\;&quot;&gt;&lt;span style=&quot;color: rgb(32\, 33\, 36)\; font-family: docs-Robot
 o\; font-size: 14.6667px\; font-style: normal\; font-variant-ligatures: no
 rmal\; font-variant-caps: normal\; font-weight: 400\; letter-spacing: norm
 al\; orphans: 2\; text-align: start\; text-indent: 0px\; text-transform: n
 one\; widows: 2\; word-spacing: 0px\; -webkit-text-stroke-width: 0px\; whi
 te-space: normal\; background-color: rgb(255\, 255\, 255)\; text-decoratio
 n-thickness: initial\; text-decoration-style: initial\; text-decoration-co
 lor: initial\; display: inline !important\; float: none\;&quot;&gt;In this talk\, 
 Omron Automation Control Product Management will introduce the integration
  of robotics into all-in-one automation control platforms. By focusing on 
 integration into native ecosystems\, teams can accelerate their projects&amp;r
 squo\; success through high fidelity data and digital first validation. Sp
 ecifically\, the tech talk will introduce how this mindset decreases commi
 ssioning time by designing programs in an integrated development environme
 nt\, increases machine performance with a centralized control of secure co
 mmunication on globally open industrial protocols\, and preserves the rele
 vancy of data collection methods to continuously increase OEE while buildi
 ng the foundation for future agentic AI.&lt;/span&gt;&lt;/span&gt;&lt;/p&gt;
END:VEVENT
END:VCALENDAR

