BEGIN:VCALENDAR
VERSION:2.0
PRODID:IEEE vTools.Events//EN
CALSCALE:GREGORIAN
BEGIN:VTIMEZONE
TZID:America/New_York
BEGIN:DAYLIGHT
DTSTART:20250309T030000
TZOFFSETFROM:-0500
TZOFFSETTO:-0400
RRULE:FREQ=YEARLY;BYDAY=2SU;BYMONTH=3
TZNAME:EDT
END:DAYLIGHT
BEGIN:STANDARD
DTSTART:20251102T010000
TZOFFSETFROM:-0400
TZOFFSETTO:-0500
RRULE:FREQ=YEARLY;BYDAY=1SU;BYMONTH=11
TZNAME:EST
END:STANDARD
END:VTIMEZONE
BEGIN:VEVENT
DTSTAMP:20250522T150504Z
UID:FC3445D9-7CA8-4AAF-B277-97577146F617
DTSTART;TZID=America/New_York:20250521T190000
DTEND;TZID=America/New_York:20250521T194500
DESCRIPTION:Autonomous AI Agents are emerging as a groundbreaking paradigm 
 in artificial intelligence\, redefining how systems execute tasks\, reason
 \, and collaborate to solve complex problems. From intelligent assistants 
 to research copilots and automation pipelines\, AI Agents are not just the
 oretical—they are driving real-world innovation across industries.\n\nTh
 is session will explore the architecture of AI Agents\, the key components
  that make them intelligent and autonomous\, and how they are orchestrated
  using modern frameworks such as CrewAI\, LangGraph\, and Autogen. The pre
 sentation will culminate with a live Proof of Concept (PoC) showcasing AI 
 Agents solving a real-world business or research problem.\n\nParticipants 
 will be able to:\n\n-\nUnderstand what AI Agents are and how they differ f
 rom traditional AI systems.\n\n-\nExplore the core components of agent arc
 hitecture: memory\, planning\, tool use\, communication\, and environment.
 \n\n-\nGet introduced to the leading frameworks enabling rapid development
  of AI Agents.\n\n-\nLearn about real-world applications and enterprise us
 e cases of autonomous agents.\n\n-\nWatch a Proof of Concept that demonstr
 ates the power of a multi-agent system in action.\n\nWhether you are an AI
  practitioner\, a developer\, or a tech decision-maker\, this talk will pr
 ovide a foundational and practical perspective on how AI Agents can transf
 orm digital workflows and unlock new efficiencies.\n\nSpeaker(s): Roberto 
 Williams Batista\, \n\nAgenda: \nIntroduction: Introduction of AI agents\n
 \nComponents of AI architecture\n\nAI agent development frameworks\n\nReal
 -world use cases\n\nPOC of multi agent system\n\nQuestion and Answers\n\nV
 irtual: https://events.vtools.ieee.org/m/482282
LOCATION:Virtual: https://events.vtools.ieee.org/m/482282
ORGANIZER:nihad@ieee.org
SEQUENCE:76
SUMMARY:Unlocking the Power of AI Agents: Architecture\, Frameworks\, and R
 eal-World Applications
URL;VALUE=URI:https://events.vtools.ieee.org/m/482282
X-ALT-DESC:Description: &lt;br /&gt;&lt;p&gt;&lt;span style=&quot;color: rgb(0\, 0\, 0)\;&quot;&gt;Auto
 nomous AI Agents are emerging as a groundbreaking paradigm in artificial i
 ntelligence\, redefining how systems execute tasks\, reason\, and collabor
 ate to solve complex problems. From intelligent assistants to research cop
 ilots and automation pipelines\, AI Agents are not just theoretical&amp;mdash\
 ;they are driving real-world innovation across industries.&lt;/span&gt;&lt;/p&gt;\n&lt;p&gt;
 &lt;span style=&quot;color: rgb(0\, 0\, 0)\;&quot;&gt;This session will explore the archit
 ecture of AI Agents\, the key components that make them intelligent and au
 tonomous\, and how they are orchestrated using modern frameworks such as&amp;n
 bsp\;&lt;strong&gt;CrewAI&lt;/strong&gt;\,&amp;nbsp\;&lt;strong&gt;LangGraph&lt;/strong&gt;\, and&amp;nbsp
 \;&lt;strong&gt;Autogen&lt;/strong&gt;. The presentation will culminate with a live Pr
 oof of Concept (PoC) showcasing AI Agents solving a real-world business or
  research problem.&lt;/span&gt;&lt;/p&gt;\n&lt;p&gt;&lt;strong&gt;&lt;br&gt;Participants will be able to
 :&lt;br&gt;&lt;/strong&gt;&lt;/p&gt;\n&lt;ul&gt;\n&lt;li&gt;\n&lt;p&gt;&lt;span style=&quot;color: rgb(0\, 0\, 0)\;&quot;&gt;U
 nderstand what AI Agents are and how they differ from traditional AI syste
 ms.&lt;/span&gt;&lt;/p&gt;\n&lt;/li&gt;\n&lt;li style=&quot;color: rgb(0\, 0\, 0)\;&quot;&gt;\n&lt;p&gt;&lt;span styl
 e=&quot;color: rgb(0\, 0\, 0)\;&quot;&gt;Explore the core components of agent architect
 ure: memory\, planning\, tool use\, communication\, and environment.&lt;/span
 &gt;&lt;/p&gt;\n&lt;/li&gt;\n&lt;li style=&quot;color: rgb(0\, 0\, 0)\;&quot;&gt;\n&lt;p&gt;&lt;span style=&quot;color:
  rgb(0\, 0\, 0)\;&quot;&gt;Get introduced to the leading frameworks enabling rapid
  development of AI Agents.&lt;/span&gt;&lt;/p&gt;\n&lt;/li&gt;\n&lt;li style=&quot;color: rgb(0\, 0\
 , 0)\;&quot;&gt;\n&lt;p&gt;&lt;span style=&quot;color: rgb(0\, 0\, 0)\;&quot;&gt;Learn about real-world 
 applications and enterprise use cases of autonomous agents.&lt;/span&gt;&lt;/p&gt;\n&lt;/
 li&gt;\n&lt;li style=&quot;color: rgb(0\, 0\, 0)\;&quot;&gt;\n&lt;p&gt;&lt;span style=&quot;color: rgb(0\, 
 0\, 0)\;&quot;&gt;Watch a Proof of Concept that demonstrates the power of a multi-
 agent system in action.&lt;/span&gt;&lt;/p&gt;\n&lt;/li&gt;\n&lt;/ul&gt;\n&lt;p&gt;&lt;span style=&quot;color: r
 gb(0\, 0\, 0)\;&quot;&gt;&lt;br&gt;Whether you are an AI practitioner\, a developer\, or
  a tech decision-maker\, this talk will provide a foundational and practic
 al perspective on how AI Agents can transform digital workflows and unlock
  new efficiencies.&lt;/span&gt;&lt;/p&gt;&lt;br /&gt;&lt;br /&gt;Agenda: &lt;br /&gt;&lt;p&gt;Introduction: In
 troduction of AI agents&lt;/p&gt;\n&lt;p&gt;Components of AI architecture&lt;/p&gt;\n&lt;p&gt;AI a
 gent development frameworks&lt;/p&gt;\n&lt;p&gt;Real-world use cases&lt;/p&gt;\n&lt;p&gt;POC of mu
 lti agent system&lt;/p&gt;\n&lt;p&gt;Question and Answers&lt;/p&gt;
END:VEVENT
END:VCALENDAR

