BEGIN:VCALENDAR
VERSION:2.0
PRODID:IEEE vTools.Events//EN
CALSCALE:GREGORIAN
BEGIN:VTIMEZONE
TZID:America/Los_Angeles
BEGIN:DAYLIGHT
DTSTART:20250309T030000
TZOFFSETFROM:-0800
TZOFFSETTO:-0700
RRULE:FREQ=YEARLY;BYDAY=2SU;BYMONTH=3
TZNAME:PDT
END:DAYLIGHT
BEGIN:STANDARD
DTSTART:20251102T010000
TZOFFSETFROM:-0700
TZOFFSETTO:-0800
RRULE:FREQ=YEARLY;BYDAY=1SU;BYMONTH=11
TZNAME:PST
END:STANDARD
END:VTIMEZONE
BEGIN:VEVENT
DTSTAMP:20250506T155936Z
UID:BD436657-CA3C-4BE3-B7A4-53C101F3DB03
DTSTART;TZID=America/Los_Angeles:20250423T173000
DTEND;TZID=America/Los_Angeles:20250423T183000
DESCRIPTION:This research aims to implement a data warehouse (DW) to manage
  data for a YOLO (You Only Look Once) model\, which identifies objects in 
 images. It does this by integrating advanced data processing pipelines. Da
 ta are also stored and easily accessible for future use\, including compar
 ing current and historical data to understand growth or declining patterns
 . In addition\, the design is used to optimize resource usage. It also sca
 les easily\, not affecting other parts of the data warehouse when adding d
 imension tables or other fields to the fact table. DW performance and esti
 mations for growing workloads are also explored in this presentation.\n\nA
 genda: \n5:30 pm - 6:15 pm - Kristina Cormier - Data Warehouse Design for 
 Multiple Source Forest Inventory Management and Image Processing Workshop\
 n\n6:15 pm - 6:30 pm - Coffee &amp; discussions\n\nRoom: 301\, Bldg: HS\, 1000
  K.L.O. Rd\, Kelowna\, British Columbia\, Canada\, V1Y 4X8\, Virtual: http
 s://events.vtools.ieee.org/m/482421
LOCATION:Room: 301\, Bldg: HS\, 1000 K.L.O. Rd\, Kelowna\, British Columbia
 \, Canada\, V1Y 4X8\, Virtual: https://events.vtools.ieee.org/m/482421
ORGANIZER:kristina.cormier@ieee.org
SEQUENCE:14
SUMMARY:Data Warehouse Design for Multiple Source Forest Inventory Manageme
 nt and Image Processing
URL;VALUE=URI:https://events.vtools.ieee.org/m/482421
X-ALT-DESC:Description: &lt;br /&gt;&lt;p&gt;This research aims to implement a data war
 ehouse (DW) to manage data for a YOLO (You Only Look Once) model\, which i
 dentifies objects in images. It does this by integrating advanced data pro
 cessing pipelines. Data are also stored and easily accessible for future u
 se\, including comparing current and historical data to understand growth 
 or declining patterns. In addition\, the design is used to optimize resour
 ce usage. It also scales easily\, not affecting other parts of the data wa
 rehouse when adding dimension tables or other fields to the fact table. DW
  performance and estimations for growing workloads are also explored in th
 is presentation.&lt;/p&gt;&lt;br /&gt;&lt;br /&gt;Agenda: &lt;br /&gt;&lt;p&gt;5:30 pm - 6:15 pm - Krist
 ina Cormier - Data Warehouse Design for Multiple Source Forest Inventory M
 anagement and Image Processing Workshop&lt;/p&gt;\n&lt;p&gt;6:15 pm - 6:30 pm - Coffee
  &amp;amp\; discussions&amp;nbsp\;&lt;/p&gt;
END:VEVENT
END:VCALENDAR

