BEGIN:VCALENDAR
VERSION:2.0
PRODID:IEEE vTools.Events//EN
CALSCALE:GREGORIAN
BEGIN:VTIMEZONE
TZID:America/Chicago
BEGIN:DAYLIGHT
DTSTART:20250309T030000
TZOFFSETFROM:-0600
TZOFFSETTO:-0500
RRULE:FREQ=YEARLY;BYDAY=2SU;BYMONTH=3
TZNAME:CDT
END:DAYLIGHT
BEGIN:STANDARD
DTSTART:20251102T010000
TZOFFSETFROM:-0500
TZOFFSETTO:-0600
RRULE:FREQ=YEARLY;BYDAY=1SU;BYMONTH=11
TZNAME:CST
END:STANDARD
END:VTIMEZONE
BEGIN:VEVENT
DTSTAMP:20250424T005533Z
UID:DC6CEBA9-E676-4117-A56A-4C57015F0392
DTSTART;TZID=America/Chicago:20250423T180000
DTEND;TZID=America/Chicago:20250423T190000
DESCRIPTION:Discussion on establishing leadership for Colorado WIE\n\nVirtu
 al: https://events.vtools.ieee.org/m/482428
LOCATION:Virtual: https://events.vtools.ieee.org/m/482428
ORGANIZER:mpatrick@ieee.org
SEQUENCE:5
SUMMARY:Colorado WIE Leadership Establishment
URL;VALUE=URI:https://events.vtools.ieee.org/m/482428
X-ALT-DESC:Description: &lt;br /&gt;&lt;p&gt;Discussion on establishing leadership for 
 Colorado WIE&amp;nbsp\;&lt;/p&gt;
END:VEVENT
END:VCALENDAR

