BEGIN:VCALENDAR
VERSION:2.0
PRODID:IEEE vTools.Events//EN
CALSCALE:GREGORIAN
BEGIN:VTIMEZONE
TZID:America/New_York
BEGIN:DAYLIGHT
DTSTART:20250309T030000
TZOFFSETFROM:-0500
TZOFFSETTO:-0400
RRULE:FREQ=YEARLY;BYDAY=2SU;BYMONTH=3
TZNAME:EDT
END:DAYLIGHT
BEGIN:STANDARD
DTSTART:20251102T010000
TZOFFSETFROM:-0400
TZOFFSETTO:-0500
RRULE:FREQ=YEARLY;BYDAY=1SU;BYMONTH=11
TZNAME:EST
END:STANDARD
END:VTIMEZONE
BEGIN:VEVENT
DTSTAMP:20250528T164514Z
UID:4F8FB4BB-3CDF-43BB-BC6E-6FDE150A77A7
DTSTART;TZID=America/New_York:20250527T170000
DTEND;TZID=America/New_York:20250527T183000
DESCRIPTION:MAGNET Product Development and Startup Resources\n\nMAGNET’s 
 mission is to drive manufacturing growth in Ohio.​ We work primarily wit
 h small and medium-sized companies\, physical product startups\, and filli
 ng the talent gap in manufacturing\, to bring dollars and jobs to Ohio.\n\
 nMAGNET specializes in supporting physical products and hard technologies 
 by providing tailored resources for manufacturing innovations. We connect 
 startups and new product development projects with essential engineering e
 xpertise and industry funding to bring new products to market and grow man
 ufacturing in Ohio.\n\n[MAGNET website](https://www.manufacturingsuccess.o
 rg/)\n\nSome light refreshments will be available.\n\nparking is available
  by the building:\n\n[]\n\nAgenda: \n- Overview of MAGNET\n- MAGNET Startu
 p Services\, Startup Network\n- MAGNET product development case studies/ex
 amples\n- MAGNET impact\n- Tour of our Shop &amp; Capabilities\n\n1800 63rd St
 reet\, Cleveland\, Ohio\, United States\, 44103
LOCATION:1800 63rd Street\, Cleveland\, Ohio\, United States\, 44103
ORGANIZER:s.galecki@ieee.org
SEQUENCE:16
SUMMARY:Overview of MAGNET
URL;VALUE=URI:https://events.vtools.ieee.org/m/482434
X-ALT-DESC:Description: &lt;br /&gt;&lt;p class=&quot;yiv9195004723MsoNormal&quot;&gt;MAGNET Prod
 uct Development and Startup Resources&lt;/p&gt;\n&lt;p class=&quot;yiv9195004723MsoNorma
 l&quot;&gt;&amp;nbsp\;&lt;/p&gt;\n&lt;p class=&quot;yiv9195004723MsoNormal&quot;&gt;MAGNET&amp;rsquo\;s mission 
 is to drive manufacturing growth in Ohio.​ We work primarily with small 
 and medium-sized companies\, physical product startups\, and filling the t
 alent gap in manufacturing\, to bring dollars and jobs to Ohio.&lt;/p&gt;\n&lt;p cl
 ass=&quot;yiv9195004723MsoNormal&quot;&gt;&amp;nbsp\;MAGNET specializes in supporting physi
 cal products and hard technologies by providing tailored resources for man
 ufacturing innovations. We connect startups and new product development pr
 ojects with essential engineering expertise and industry funding to bring 
 new products to market and grow manufacturing in Ohio.&lt;/p&gt;\n&lt;p class=&quot;yiv9
 195004723MsoNormal&quot;&gt;&lt;a href=&quot;https://www.manufacturingsuccess.org/&quot;&gt;MAGNET
  website&lt;/a&gt;&lt;/p&gt;\n&lt;p class=&quot;yiv9195004723MsoNormal&quot;&gt;Some light refreshment
 s will be available.&lt;/p&gt;\n&lt;p class=&quot;yiv9195004723MsoNormal&quot;&gt;parking is ava
 ilable by the building:&lt;/p&gt;\n&lt;p class=&quot;yiv9195004723MsoNormal&quot;&gt;&lt;img src=&quot;h
 ttps://events.vtools.ieee.org/vtools_ui/media/display/bc48ee12-50aa-413f-9
 597-dccaab62af83&quot; alt=&quot;&quot; width=&quot;348&quot; height=&quot;620&quot;&gt;&lt;/p&gt;&lt;br /&gt;&lt;br /&gt;Agenda: 
 &lt;br /&gt;&lt;ul type=&quot;disc&quot;&gt;\n&lt;li class=&quot;yiv9195004723MsoListParagraph&quot;&gt;Overview
  of MAGNET&lt;/li&gt;\n&lt;li class=&quot;yiv9195004723MsoListParagraph&quot;&gt;MAGNET Startup 
 Services\, Startup Network&lt;/li&gt;\n&lt;li class=&quot;yiv9195004723MsoListParagraph&quot;
 &gt;MAGNET product development case studies/examples&lt;/li&gt;\n&lt;li class=&quot;yiv9195
 004723MsoListParagraph&quot;&gt;MAGNET impact&lt;/li&gt;\n&lt;li class=&quot;yiv9195004723MsoLis
 tParagraph&quot;&gt;Tour of our Shop &amp;amp\; Capabilities&lt;/li&gt;\n&lt;/ul&gt;
END:VEVENT
END:VCALENDAR

