BEGIN:VCALENDAR
VERSION:2.0
PRODID:IEEE vTools.Events//EN
CALSCALE:GREGORIAN
BEGIN:VTIMEZONE
TZID:Asia/Kolkata
BEGIN:STANDARD
DTSTART:19451014T230000
TZOFFSETFROM:+0630
TZOFFSETTO:+0530
TZNAME:IST
END:STANDARD
END:VTIMEZONE
BEGIN:VEVENT
DTSTAMP:20250614T130745Z
UID:91BD7AD1-A8E5-48B0-AE29-D5FA47314654
DTSTART;TZID=Asia/Kolkata:20250509T090000
DTEND;TZID=Asia/Kolkata:20250509T160000
DESCRIPTION:Dear IEEE Student Members\,\n\nWe are excited to invite you to 
 participate in the E-JIGYASA Project Expo organized by the University Coll
 ege of Engineering\, Science and Technology\, JNTUH\, in association with 
 the IEEE Student Branch and IEEE Hyderabad Section SAC.\n\n[🔧] Event: E
 -JIGNYASA Project Expo\n[📅] Date: 3rd May 2025\n[🕘] Time: 9:00 AM to
  4:00 PM\n[📍] Venue: JNTUH Campus\, Hyderabad\n------------------------
 ---------------------------------------\n\n[🎯] Why Participate?\n\n-\nS
 howcase your innovative software or hardware projects\n\n-\nGain visibilit
 y and feedback from peers and experts\n\n-\nWin exciting prizes and receiv
 e certificates\n\n--------------------------------------------------------
 -------\n\n[👥] Team Size: Up to 4 members\n[💰] IEEE Member Registrat
 ion Fee: ₹125 per head \, Non IEEE Member Registration Fee: ₹200 per h
 ead\n[🍽️] Lunch (Optional): ₹50\n----------------------------------
 -----------------------------\n\n[📝] Submission Guidelines:\n\n-\nSubmi
 t an abstract of ≤ 300 words covering the objective\, methodology\, key 
 features\, and expected outcomes.\n\n-\nProjects will be judged on origina
 lity\, feasibility\, and impact.\n\n--------------------------------------
 -------------------------\n\n[🔗] Register Now:\n[📲] Scan the QR code
  in the attached poster\n\nFor further queries\, feel free to contact:\n[
 📩] Dr. K. Anitha Sheela – Student Branch Counsellor\n[📩] Mr. P. Pa
 ul Praneeth – Student Branch Chair\n[📞] +91 9949495213\n\nDon’t mis
 s this opportunity to share your innovation and creativity with the world!
 \n\nWarm regards\,\nProf. Saikummar Tara\,\n\nChairman\, Student Activitie
 s Committee(SAC)\,\n\nIEEE Hyderabad Section.\n\n[]\n\nCo-sponsored by: IE
 EE JNTU HYDERABAD SB\n\nJNTUH\, Hyderabad \, Andhra Pradesh\, India
LOCATION:JNTUH\, Hyderabad \, Andhra Pradesh\, India
ORGANIZER:saikumar9@ieee.org
SEQUENCE:3
SUMMARY:Hyderabad Section &quot;E-JIGYASA- Project Expo&quot;
URL;VALUE=URI:https://events.vtools.ieee.org/m/482448
X-ALT-DESC:Description: &lt;br /&gt;&lt;p&gt;Dear IEEE Student Members\,&lt;/p&gt;\n&lt;p&gt;We are
  excited to invite you to participate in the&amp;nbsp\;&lt;strong&gt;E-JIGYASA Proje
 ct Expo&lt;/strong&gt;&amp;nbsp\;organized by the&amp;nbsp\;&lt;strong&gt;University College o
 f Engineering\, Science and Technology\, JNTUH&lt;/strong&gt;\, in association w
 ith the&amp;nbsp\;&lt;strong&gt;IEEE Student Branch&lt;/strong&gt;&amp;nbsp\;and&amp;nbsp\;&lt;strong
 &gt;IEEE Hyderabad Section SAC&lt;/strong&gt;.&lt;/p&gt;\n&lt;p&gt;&lt;img class=&quot;an1&quot; draggable=&quot;
 false&quot; src=&quot;https://fonts.gstatic.com/s/e/notoemoji/16.0/1f527/32.png&quot; alt
 =&quot;🔧&quot; loading=&quot;lazy&quot; data-emoji=&quot;🔧&quot; aria-label=&quot;🔧&quot;&gt;&amp;nbsp\;&lt;strong&gt;
 Event:&lt;/strong&gt;&amp;nbsp\;E-JIGNYASA Project Expo&lt;br&gt;&lt;img class=&quot;an1&quot; draggabl
 e=&quot;false&quot; src=&quot;https://fonts.gstatic.com/s/e/notoemoji/16.0/1f4c5/32.png&quot; 
 alt=&quot;📅&quot; loading=&quot;lazy&quot; data-emoji=&quot;📅&quot; aria-label=&quot;📅&quot;&gt;&amp;nbsp\;&lt;stro
 ng&gt;Date:&lt;/strong&gt;&amp;nbsp\;3rd May 2025&lt;br&gt;&lt;img class=&quot;an1&quot; draggable=&quot;false&quot;
  src=&quot;https://fonts.gstatic.com/s/e/notoemoji/16.0/1f558/32.png&quot; alt=&quot;🕘
 &quot; loading=&quot;lazy&quot; data-emoji=&quot;🕘&quot; aria-label=&quot;🕘&quot;&gt;&amp;nbsp\;&lt;strong&gt;Time:&lt;
 /strong&gt;&amp;nbsp\;9:00 AM to 4:00 PM&lt;br&gt;&lt;img class=&quot;an1&quot; draggable=&quot;false&quot; sr
 c=&quot;https://fonts.gstatic.com/s/e/notoemoji/16.0/1f4cd/32.png&quot; alt=&quot;📍&quot; l
 oading=&quot;lazy&quot; data-emoji=&quot;📍&quot; aria-label=&quot;📍&quot;&gt;&amp;nbsp\;&lt;strong&gt;Venue:&lt;/s
 trong&gt;&amp;nbsp\;JNTUH Campus\, Hyderabad&lt;/p&gt;\n&lt;hr&gt;\n&lt;p&gt;&lt;img class=&quot;an1&quot; dragg
 able=&quot;false&quot; src=&quot;https://fonts.gstatic.com/s/e/notoemoji/16.0/1f3af/32.pn
 g&quot; alt=&quot;🎯&quot; loading=&quot;lazy&quot; data-emoji=&quot;🎯&quot; aria-label=&quot;🎯&quot;&gt;&amp;nbsp\;&lt;s
 trong&gt;Why Participate?&lt;/strong&gt;&lt;/p&gt;\n&lt;ul&gt;\n&lt;li&gt;\n&lt;p&gt;Showcase your innovati
 ve&amp;nbsp\;&lt;strong&gt;software or hardware projects&lt;/strong&gt;&lt;/p&gt;\n&lt;/li&gt;\n&lt;li&gt;\n
 &lt;p&gt;Gain visibility and feedback from peers and experts&lt;/p&gt;\n&lt;/li&gt;\n&lt;li&gt;\n&lt;
 p&gt;Win&amp;nbsp\;&lt;strong&gt;exciting prizes&lt;/strong&gt;&amp;nbsp\;and receive&amp;nbsp\;&lt;stro
 ng&gt;certificates&lt;/strong&gt;&lt;/p&gt;\n&lt;/li&gt;\n&lt;/ul&gt;\n&lt;hr&gt;\n&lt;p&gt;&lt;img class=&quot;an1&quot; drag
 gable=&quot;false&quot; src=&quot;https://fonts.gstatic.com/s/e/notoemoji/16.0/1f465/32.p
 ng&quot; alt=&quot;👥&quot; loading=&quot;lazy&quot; data-emoji=&quot;👥&quot; aria-label=&quot;👥&quot;&gt;&amp;nbsp\;&lt;
 strong&gt;Team Size:&lt;/strong&gt;&amp;nbsp\;Up to 4 members&lt;br&gt;&lt;img class=&quot;an1&quot; dragg
 able=&quot;false&quot; src=&quot;https://fonts.gstatic.com/s/e/notoemoji/16.0/1f4b0/32.pn
 g&quot; alt=&quot;💰&quot; loading=&quot;lazy&quot; data-emoji=&quot;💰&quot; aria-label=&quot;💰&quot;&gt;&amp;nbsp\;&lt;s
 trong&gt;IEEE Member Registration Fee:&lt;/strong&gt; ₹125 per head \,&amp;nbsp\; &amp;nb
 sp\;Non&amp;nbsp\;&lt;strong&gt;IEEE Member Registration Fee:&lt;/strong&gt;&amp;nbsp\;₹200 
 per head&amp;nbsp\;&lt;br&gt;&lt;img class=&quot;an1&quot; draggable=&quot;false&quot; src=&quot;https://fonts.g
 static.com/s/e/notoemoji/16.0/1f37d_fe0f/32.png&quot; alt=&quot;🍽️&quot; loading=&quot;la
 zy&quot; data-emoji=&quot;🍽️&quot; aria-label=&quot;🍽️&quot;&gt;&amp;nbsp\;&lt;strong&gt;Lunch (Option
 al):&lt;/strong&gt;&amp;nbsp\;₹50&lt;/p&gt;\n&lt;hr&gt;\n&lt;p&gt;&lt;img class=&quot;an1&quot; draggable=&quot;false&quot;
  src=&quot;https://fonts.gstatic.com/s/e/notoemoji/16.0/1f4dd/32.png&quot; alt=&quot;📝
 &quot; loading=&quot;lazy&quot; data-emoji=&quot;📝&quot; aria-label=&quot;📝&quot;&gt;&amp;nbsp\;&lt;strong&gt;Submis
 sion Guidelines:&lt;/strong&gt;&lt;/p&gt;\n&lt;ul&gt;\n&lt;li&gt;\n&lt;p&gt;Submit an abstract of&amp;nbsp\;
 &lt;strong&gt;&amp;le\; 300 words&lt;/strong&gt;&amp;nbsp\;covering the objective\, methodolog
 y\, key features\, and expected outcomes.&lt;/p&gt;\n&lt;/li&gt;\n&lt;li&gt;\n&lt;p&gt;Projects wi
 ll be judged on&amp;nbsp\;&lt;strong&gt;originality\, feasibility\, and impact&lt;/stro
 ng&gt;.&lt;/p&gt;\n&lt;/li&gt;\n&lt;/ul&gt;\n&lt;hr&gt;\n&lt;p&gt;&lt;img class=&quot;an1&quot; draggable=&quot;false&quot; src=&quot;h
 ttps://fonts.gstatic.com/s/e/notoemoji/16.0/1f517/32.png&quot; alt=&quot;🔗&quot; loadi
 ng=&quot;lazy&quot; data-emoji=&quot;🔗&quot; aria-label=&quot;🔗&quot;&gt;&amp;nbsp\;&lt;strong&gt;Register Now:
 &lt;/strong&gt;&lt;br&gt;&lt;img class=&quot;an1&quot; draggable=&quot;false&quot; src=&quot;https://fonts.gstatic
 .com/s/e/notoemoji/16.0/1f4f2/32.png&quot; alt=&quot;📲&quot; loading=&quot;lazy&quot; data-emoji
 =&quot;📲&quot; aria-label=&quot;📲&quot;&gt;&amp;nbsp\;Scan the QR code in the attached poster&amp;n
 bsp\;&lt;/p&gt;\n&lt;p&gt;For further queries\, feel free to contact:&lt;br&gt;&lt;img class=&quot;a
 n1&quot; draggable=&quot;false&quot; src=&quot;https://fonts.gstatic.com/s/e/notoemoji/16.0/1f
 4e9/32.png&quot; alt=&quot;📩&quot; loading=&quot;lazy&quot; data-emoji=&quot;📩&quot; aria-label=&quot;📩&quot;&gt;
 &amp;nbsp\;&lt;strong&gt;Dr. K. Anitha Sheela&lt;/strong&gt;&amp;nbsp\;&amp;ndash\; Student Branch
  Counsellor&lt;br&gt;&lt;img class=&quot;an1&quot; draggable=&quot;false&quot; src=&quot;https://fonts.gstat
 ic.com/s/e/notoemoji/16.0/1f4e9/32.png&quot; alt=&quot;📩&quot; loading=&quot;lazy&quot; data-emo
 ji=&quot;📩&quot; aria-label=&quot;📩&quot;&gt;&amp;nbsp\;&lt;strong&gt;Mr. P. Paul Praneeth&lt;/strong&gt;&amp;n
 bsp\;&amp;ndash\; Student Branch Chair&lt;br&gt;&lt;img class=&quot;an1&quot; draggable=&quot;false&quot; s
 rc=&quot;https://fonts.gstatic.com/s/e/notoemoji/16.0/1f4de/32.png&quot; alt=&quot;📞&quot; 
 loading=&quot;lazy&quot; data-emoji=&quot;📞&quot; aria-label=&quot;📞&quot;&gt;&amp;nbsp\;+91 9949495213&lt;/
 p&gt;\n&lt;p&gt;Don&amp;rsquo\;t miss this opportunity to share your innovation and cre
 ativity with the world!&lt;/p&gt;\n&lt;p&gt;Warm regards\,&lt;br&gt;&lt;strong&gt;Prof. Saikummar 
 Tara\,&lt;/strong&gt;&lt;/p&gt;\n&lt;p&gt;Chairman\, Student Activities Committee(SAC)\,&amp;nbs
 p\;&lt;/p&gt;\n&lt;p&gt;IEEE Hyderabad Section.&lt;/p&gt;\n&lt;p&gt;&amp;nbsp\;&lt;/p&gt;\n&lt;p&gt;&amp;nbsp\;&lt;img sr
 c=&quot;https://events.vtools.ieee.org/vtools_ui/media/display/6ab2ed99-99cf-40
 ce-85c9-e4eca1425981&quot; alt=&quot;&quot;&gt;&lt;/p&gt;\n&lt;p&gt;&amp;nbsp\;&lt;/p&gt;
END:VEVENT
END:VCALENDAR

