BEGIN:VCALENDAR
VERSION:2.0
PRODID:IEEE vTools.Events//EN
CALSCALE:GREGORIAN
BEGIN:VTIMEZONE
TZID:Africa/Johannesburg
BEGIN:STANDARD
DTSTART:19440319T010000
TZOFFSETFROM:+0300
TZOFFSETTO:+0200
TZNAME:SAST
END:STANDARD
END:VTIMEZONE
BEGIN:VEVENT
DTSTAMP:20250708T141938Z
UID:57C18DA9-B7D2-4267-976E-7FC3113FF8C1
DTSTART;TZID=Africa/Johannesburg:20250630T081500
DTEND;TZID=Africa/Johannesburg:20250704T160000
DESCRIPTION:Interactive days about robotic research in the SMART lab\, with
  the opportunity for kids to build robotic kits for a competition\, and di
 fferent discussion opportunities\n\nCo-sponsored by: IEEE RA Student Chapt
 er / SAIMC / UKZN / SMART Lab\n\nBldg: SMART Lab\, UKZN\, Durban\, KwaZulu
 -Natal\, South Africa
LOCATION:Bldg: SMART Lab\, UKZN\, Durban\, KwaZulu-Natal\, South Africa
ORGANIZER:stopforth@ukzn.ac.za
SEQUENCE:12
SUMMARY:Winter School Robotics
URL;VALUE=URI:https://events.vtools.ieee.org/m/482480
X-ALT-DESC:Description: &lt;br /&gt;&lt;p&gt;Interactive days about robotic research in
  the SMART lab\, with the opportunity for kids to build robotic kits for a
  competition\, and different discussion opportunities&lt;/p&gt;
END:VEVENT
END:VCALENDAR

