BEGIN:VCALENDAR
VERSION:2.0
PRODID:IEEE vTools.Events//EN
CALSCALE:GREGORIAN
BEGIN:VTIMEZONE
TZID:Europe/Skopje
BEGIN:DAYLIGHT
DTSTART:20250330T030000
TZOFFSETFROM:+0100
TZOFFSETTO:+0200
RRULE:FREQ=YEARLY;BYDAY=-1SU;BYMONTH=3
TZNAME:CEST
END:DAYLIGHT
BEGIN:STANDARD
DTSTART:20251026T020000
TZOFFSETFROM:+0200
TZOFFSETTO:+0100
RRULE:FREQ=YEARLY;BYDAY=-1SU;BYMONTH=10
TZNAME:CET
END:STANDARD
END:VTIMEZONE
BEGIN:VEVENT
DTSTAMP:20250429T114733Z
UID:718CBEA5-AF74-4A50-BF5D-8C6D9E9D2BED
DTSTART;TZID=Europe/Skopje:20250428T100000
DTEND;TZID=Europe/Skopje:20250428T143000
DESCRIPTION:Workshop for Highschool Students (Mentored by University Studen
 ts)\nLocation: FEIT FabLab\n\nA hands‑on workshop introducing highschool
  students to renewable energy concepts and their real‑world applications
 . Under the guidance of university mentors\, participants will explore sus
 tainable power systems and get practical experience constructing a miniatu
 re solar‑powered house.\n\nAgenda\n\n-\n10:00 Welcome and Introduction
 \nBrief orientation and overview of the day’s activities.\n\n-\n10:05 
 “Switch ON: Renewables and a Sustainable Future”\nInteractive presenta
 tion on the importance of renewable energy\, current technologies\, and th
 e vision for a low‑carbon society.\n\n-\n10:30 “Self‑Consumption v
 s. RES Integration in Power Systems”\nDiscussion on balancing on‑site 
 energy use with grid integration\, exploring challenges and solutions for 
 effective renewable deployment.\n\n-\n11:00 Workshop: Build a Mini Solar
 ‑Powered House\nGuided\, hands‑on session where teams assemble and tes
 t small-scale solar‑powered models\, applying concepts of photovoltaic e
 nergy\, storage\, and load management.\n\nParticipants leave with foundati
 onal knowledge of renewables\, insights into power‑system integration\, 
 and a tangible prototype showcasing solar technology in action.\n\nCo-spon
 sored by: University of Ss. Cyril and Methodius in Skopje\, Faculty of Ele
 ctrical Engineering and Information Technologies\n\nSpeaker(s): Maja\, Ale
 ksandra\n\nAgenda: \n10 00 Welcome to highschoolers\n\n10 05 Switch ON: re
 newables and a sustainable future\n\n10 30 Self - consumption vs. RES\n\ni
 ntegration in power systems\n\n11 00 Workshop - Build up mini solar\n\npow
 ered house\n\nBldg: FABLAB\, Rugjer Boshkovikj 18\, Skopje\, Macedonia\, M
 acedonia\, 1000
LOCATION:Bldg: FABLAB\, Rugjer Boshkovikj 18\, Skopje\, Macedonia\, Macedon
 ia\, 1000
ORGANIZER:celeska@feit.ukim.edu.mk
SEQUENCE:16
SUMMARY:Workshop - Build up mini solar powered house
URL;VALUE=URI:https://events.vtools.ieee.org/m/482610
X-ALT-DESC:Description: &lt;br /&gt;&lt;p class=&quot;&quot; data-start=&quot;0&quot; data-end=&quot;98&quot;&gt;&lt;str
 ong data-start=&quot;0&quot; data-end=&quot;70&quot;&gt;Workshop for Highschool Students (Mentore
 d by University Students)&lt;/strong&gt;&lt;br data-start=&quot;70&quot; data-end=&quot;73&quot;&gt;&lt;stron
 g data-start=&quot;73&quot; data-end=&quot;86&quot;&gt;Location:&lt;/strong&gt; FEIT FabLab&lt;/p&gt;\n&lt;p cla
 ss=&quot;&quot; data-start=&quot;100&quot; data-end=&quot;384&quot;&gt;A hands‑on workshop introducing hi
 ghschool students to renewable energy concepts and their real‑world appl
 ications. Under the guidance of university mentors\, participants will exp
 lore sustainable power systems and get practical experience constructing a
  miniature solar‑powered house.&lt;/p&gt;\n&lt;p class=&quot;&quot; data-start=&quot;386&quot; data-e
 nd=&quot;398&quot;&gt;&lt;strong data-start=&quot;386&quot; data-end=&quot;396&quot;&gt;Agenda&lt;/strong&gt;&lt;/p&gt;\n&lt;ul 
 data-start=&quot;399&quot; data-end=&quot;1127&quot;&gt;\n&lt;li class=&quot;&quot; data-start=&quot;399&quot; data-end=
 &quot;497&quot;&gt;\n&lt;p class=&quot;&quot; data-start=&quot;401&quot; data-end=&quot;497&quot;&gt;&lt;strong data-start=&quot;40
 1&quot; data-end=&quot;435&quot;&gt;10:00&amp;ensp\;Welcome and Introduction&lt;/strong&gt;&lt;br data-st
 art=&quot;435&quot; data-end=&quot;438&quot;&gt;Brief orientation and overview of the day&amp;rsquo\;
 s activities.&lt;/p&gt;\n&lt;/li&gt;\n&lt;li class=&quot;&quot; data-start=&quot;499&quot; data-end=&quot;692&quot;&gt;\n&lt;
 p class=&quot;&quot; data-start=&quot;501&quot; data-end=&quot;692&quot;&gt;&lt;strong data-start=&quot;501&quot; data-e
 nd=&quot;559&quot;&gt;10:05&amp;ensp\;&amp;ldquo\;Switch ON: Renewables and a Sustainable Futur
 e&amp;rdquo\;&lt;/strong&gt;&lt;br data-start=&quot;559&quot; data-end=&quot;562&quot;&gt;Interactive presenta
 tion on the importance of renewable energy\, current technologies\, and th
 e vision for a low‑carbon society.&lt;/p&gt;\n&lt;/li&gt;\n&lt;li class=&quot;&quot; data-start=&quot;
 694&quot; data-end=&quot;904&quot;&gt;\n&lt;p class=&quot;&quot; data-start=&quot;696&quot; data-end=&quot;904&quot;&gt;&lt;strong 
 data-start=&quot;696&quot; data-end=&quot;761&quot;&gt;10:30&amp;ensp\;&amp;ldquo\;Self‑Consumption vs.
  RES Integration in Power Systems&amp;rdquo\;&lt;/strong&gt;&lt;br data-start=&quot;761&quot; dat
 a-end=&quot;764&quot;&gt;Discussion on balancing on‑site energy use with grid integra
 tion\, exploring challenges and solutions for effective renewable deployme
 nt.&lt;/p&gt;\n&lt;/li&gt;\n&lt;li class=&quot;&quot; data-start=&quot;906&quot; data-end=&quot;1127&quot;&gt;\n&lt;p class=&quot;
 &quot; data-start=&quot;908&quot; data-end=&quot;1127&quot;&gt;&lt;strong data-start=&quot;908&quot; data-end=&quot;960&quot;
 &gt;11:00&amp;ensp\;Workshop: Build a Mini Solar‑Powered House&lt;/strong&gt;&lt;br data
 -start=&quot;960&quot; data-end=&quot;963&quot;&gt;Guided\, hands‑on session where teams assemb
 le and test small-scale solar‑powered models\, applying concepts of phot
 ovoltaic energy\, storage\, and load management.&lt;/p&gt;\n&lt;/li&gt;\n&lt;/ul&gt;\n&lt;p cla
 ss=&quot;&quot; data-start=&quot;1129&quot; data-end=&quot;1294&quot;&gt;Participants leave with foundation
 al knowledge of renewables\, insights into power‑system integration\, an
 d a tangible prototype showcasing solar technology in action.&lt;/p&gt;&lt;br /&gt;&lt;br
  /&gt;Agenda: &lt;br /&gt;&lt;p class=&quot;cvGsUA direction-ltr align-start para-style-bod
 y&quot;&gt;&lt;span class=&quot;OYPEnA font-feature-liga-off font-feature-clig-off font-fe
 ature-calt-off text-decoration-none text-strikethrough-none&quot;&gt;10 00&lt;/span&gt;&lt;
 span class=&quot;OYPEnA font-feature-liga-off font-feature-clig-off font-featur
 e-calt-off text-decoration-none text-strikethrough-none&quot;&gt; Welcome to highs
 choolers&lt;/span&gt;&lt;/p&gt;\n&lt;p class=&quot;cvGsUA direction-ltr align-start para-style
 -body&quot;&gt;&lt;span class=&quot;OYPEnA font-feature-liga-off font-feature-clig-off fon
 t-feature-calt-off text-decoration-none text-strikethrough-none&quot;&gt;10 05&lt;/sp
 an&gt;&lt;span class=&quot;OYPEnA font-feature-liga-off font-feature-clig-off font-fe
 ature-calt-off text-decoration-none text-strikethrough-none&quot;&gt; Switch ON: r
 enewables and a sustainable future&lt;/span&gt;&lt;/p&gt;\n&lt;p class=&quot;cvGsUA direction-
 ltr align-start para-style-body&quot;&gt;&lt;span class=&quot;OYPEnA font-feature-liga-off
  font-feature-clig-off font-feature-calt-off text-decoration-none text-str
 ikethrough-none&quot;&gt;10 30&lt;/span&gt; &lt;span class=&quot;OYPEnA font-feature-liga-off fo
 nt-feature-clig-off font-feature-calt-off text-decoration-none text-strike
 through-none&quot;&gt;Self - consumption vs. RES&lt;/span&gt;&lt;/p&gt;\n&lt;p class=&quot;cvGsUA dire
 ction-ltr align-start para-style-body&quot;&gt;&lt;span class=&quot;OYPEnA font-feature-li
 ga-off font-feature-clig-off font-feature-calt-off text-decoration-none te
 xt-strikethrough-none&quot;&gt;integration in power systems&lt;/span&gt;&lt;/p&gt;\n&lt;p class=&quot;
 cvGsUA direction-ltr align-start para-style-body&quot;&gt;&lt;span class=&quot;OYPEnA font
 -feature-liga-off font-feature-clig-off font-feature-calt-off text-decorat
 ion-none text-strikethrough-none&quot;&gt;11 00&lt;/span&gt;&lt;span class=&quot;OYPEnA font-fea
 ture-liga-off font-feature-clig-off font-feature-calt-off text-decoration-
 none text-strikethrough-none&quot;&gt; Workshop - Build up mini solar&lt;/span&gt;&lt;/p&gt;\n
 &lt;p class=&quot;cvGsUA direction-ltr align-start para-style-body&quot;&gt;&lt;span class=&quot;O
 YPEnA font-feature-liga-off font-feature-clig-off font-feature-calt-off te
 xt-decoration-none text-strikethrough-none&quot;&gt;powered house&lt;/span&gt;&lt;/p&gt;
END:VEVENT
END:VCALENDAR

