BEGIN:VCALENDAR
VERSION:2.0
PRODID:IEEE vTools.Events//EN
CALSCALE:GREGORIAN
BEGIN:VTIMEZONE
TZID:Asia/Kuwait
BEGIN:DAYLIGHT
DTSTART:20380119T061407
TZOFFSETFROM:+0300
TZOFFSETTO:+0300
RRULE:FREQ=YEARLY;BYDAY=3TU;BYMONTH=1
TZNAME:+03
END:DAYLIGHT
BEGIN:STANDARD
DTSTART:19470313T235308
TZOFFSETFROM:+0306
TZOFFSETTO:+0300
RRULE:FREQ=YEARLY;BYDAY=2TH;BYMONTH=3
TZNAME:+03
END:STANDARD
END:VTIMEZONE
BEGIN:VEVENT
DTSTAMP:20250502T120804Z
UID:7F5FC890-D98D-4177-9D72-D38755765359
DTSTART;TZID=Asia/Kuwait:20250501T190000
DTEND;TZID=Asia/Kuwait:20250501T200000
DESCRIPTION:[]\n\n🙋‍♀Get ready to connect\, learn🧠\, and be inspi
 red✨!\n\nOur &quot;Meet the Alumni&quot; event is your chance to hear firsthand fr
 om graduates across different majors in ULFS2\, and ULFI2 as they share th
 eir incredible journeys📒\, career insights\, and the wisdom they&#39;ve gai
 ned since leaving university🙌. And to kick things off\, we&#39;re thrilled 
 to introduce you to the world of IEEE🤖\, a dynamic force shaping the fu
 ture of technology🧮. This is an unparalleled opportunity to network\, a
 sk questions\, and ignite your own path to success🚀.\n\nWhether you are
  an undergrad\, or a student in high school you are most welcome to join\,
  and learn from different graduates\, whether they are in the working or r
 esearch field.\n\nDon&#39;t miss out on this exciting evening of connection an
 d discovery! 🤩\n\nRegister NOW\n\n🗓 Date: Wednesday 1 May 2025\n🕓
  Time: 7:00 PM - 8:00 PM\n💻 Location: Google Meet\n#IEEEULFS2\n\nSpeake
 r(s): Miss Gabriella Shebly\, Miss Daniella Shebly\, Mr Joey Demiane\, Mis
 s Rita Arfoul\, Mr Ismail Kattar\n\nAgenda: \n[]\n\nVirtual: https://event
 s.vtools.ieee.org/m/482646
LOCATION:Virtual: https://events.vtools.ieee.org/m/482646
ORGANIZER:ieeeulfsii@gmail.com
SEQUENCE:71
SUMMARY:Meet The Alumnis
URL;VALUE=URI:https://events.vtools.ieee.org/m/482646
X-ALT-DESC:Description: &lt;br /&gt;&lt;p&gt;&lt;img style=&quot;display: block\; margin-left: 
 auto\; margin-right: auto\;&quot; src=&quot;https://events.vtools.ieee.org/vtools_ui
 /media/display/45b5be32-25b6-4336-a02c-2cb551c053eb&quot; alt=&quot;&quot; width=&quot;391&quot; he
 ight=&quot;489&quot;&gt;&lt;/p&gt;\n&lt;p&gt;🙋&amp;zwj\;♀Get ready to connect\, learn🧠\, and be
  inspired✨!&amp;nbsp\;&lt;/p&gt;\n&lt;p&gt;&lt;br&gt;Our &quot;Meet the Alumni&quot; event is your chanc
 e to hear firsthand from graduates across different majors in ULFS2\, and 
 ULFI2 as they share their incredible journeys📒\, career insights\, and 
 the wisdom they&#39;ve gained since leaving university🙌. And to kick things
  off\, we&#39;re thrilled to introduce you to the world of IEEE🤖\, a dynami
 c force shaping the future of technology🧮. This is an unparalleled oppo
 rtunity to network\, ask questions\, and ignite your own path to success
 🚀.&amp;nbsp\;&lt;/p&gt;\n&lt;p&gt;Whether you are an undergrad\, or a student in high s
 chool you are most welcome to join\, and learn from different graduates\, 
 whether they are in the working or research field.&lt;/p&gt;\n&lt;p&gt;Don&#39;t miss out 
 on this exciting evening of connection and discovery! 🤩&lt;/p&gt;\n&lt;p&gt;Registe
 r NOW&lt;/p&gt;\n&lt;p&gt;&lt;br&gt;🗓 Date: Wednesday 1 May 2025&lt;br&gt;🕓 Time: 7:00 PM - 
 8:00 PM&lt;br&gt;💻 Location: Google Meet&lt;br&gt;#IEEEULFS2&lt;/p&gt;&lt;br /&gt;&lt;br /&gt;Agenda:
  &lt;br /&gt;&lt;p&gt;&lt;img style=&quot;display: block\; margin-left: auto\; margin-right: a
 uto\;&quot; src=&quot;https://events.vtools.ieee.org/vtools_ui/media/display/afd32b6
 7-03ba-4224-a14c-3ce8aa6451a7&quot; alt=&quot;&quot; width=&quot;345&quot; height=&quot;432&quot;&gt;&lt;/p&gt;
END:VEVENT
END:VCALENDAR

