BEGIN:VCALENDAR
VERSION:2.0
PRODID:IEEE vTools.Events//EN
CALSCALE:GREGORIAN
BEGIN:VTIMEZONE
TZID:Pacific/Honolulu
BEGIN:STANDARD
DTSTART:19470608T023000
TZOFFSETFROM:-1130
TZOFFSETTO:-1000
TZNAME:HST
END:STANDARD
END:VTIMEZONE
BEGIN:VEVENT
DTSTAMP:20250629T075020Z
UID:88647E36-1711-435D-80FC-88105F84155F
DTSTART;TZID=Pacific/Honolulu:20250624T173000
DTEND;TZID=Pacific/Honolulu:20250624T193000
DESCRIPTION:Learn about IEEE and the Chapters and Affinity Groups we have h
 ere in Hawaii! Network with other engineers\, IEEE members\, and students.
 \n\n[]\n\nAloha Tower Marketplace Map found here: https://alohatower.com/e
 vents/images/1st-floor-map.pdf\n\nAgenda: \n5:30pm - Networking\n\n6:15pm 
 - Hawaii Section Chapter and Affinity Group presentations\n\n7:15pm - Clos
 ing remarks\n\n7:30pm - Wrap up\n\nRoom: Multipurpose Room 2\, Bldg: Aloha
  Tower Marketplace\, 1 Aloha Tower Dr\, Honolulu\, Hawaii\, United States\
 , 96813
LOCATION:Room: Multipurpose Room 2\, Bldg: Aloha Tower Marketplace\, 1 Aloh
 a Tower Dr\, Honolulu\, Hawaii\, United States\, 96813
ORGANIZER:brianne.tengan@ieee.org
SEQUENCE:20
SUMMARY:IEEE Hawaii General Meeting 
URL;VALUE=URI:https://events.vtools.ieee.org/m/482693
X-ALT-DESC:Description: &lt;br /&gt;&lt;p&gt;Learn about IEEE and the Chapters and Affi
 nity Groups we have here in Hawaii! Network with other engineers\, IEEE me
 mbers\, and students.&lt;/p&gt;\n&lt;p&gt;&lt;img style=&quot;display: block\; margin-left: au
 to\; margin-right: auto\;&quot; src=&quot;https://events.vtools.ieee.org/vtools_ui/m
 edia/display/733ba18f-1758-4cbb-8f77-d2109afcdbaf&quot; alt=&quot;&quot; width=&quot;393&quot; heig
 ht=&quot;524&quot;&gt;&lt;/p&gt;\n&lt;p&gt;&amp;nbsp\;&lt;/p&gt;\n&lt;p&gt;Aloha Tower Marketplace Map found here: 
 https://alohatower.com/events/images/1st-floor-map.pdf&lt;/p&gt;\n&lt;p&gt;&amp;nbsp\;&lt;/p&gt;
 &lt;br /&gt;&lt;br /&gt;Agenda: &lt;br /&gt;&lt;p&gt;5:30pm - Networking&lt;/p&gt;\n&lt;p&gt;6:15pm - Hawaii S
 ection Chapter and Affinity Group presentations&lt;/p&gt;\n&lt;p&gt;7:15pm - Closing r
 emarks&lt;/p&gt;\n&lt;p&gt;7:30pm - Wrap up&lt;/p&gt;
END:VEVENT
END:VCALENDAR

