BEGIN:VCALENDAR
VERSION:2.0
PRODID:IEEE vTools.Events//EN
CALSCALE:GREGORIAN
BEGIN:VTIMEZONE
TZID:America/New_York
BEGIN:DAYLIGHT
DTSTART:20250309T030000
TZOFFSETFROM:-0500
TZOFFSETTO:-0400
RRULE:FREQ=YEARLY;BYDAY=2SU;BYMONTH=3
TZNAME:EDT
END:DAYLIGHT
BEGIN:STANDARD
DTSTART:20251102T010000
TZOFFSETFROM:-0400
TZOFFSETTO:-0500
RRULE:FREQ=YEARLY;BYDAY=1SU;BYMONTH=11
TZNAME:EST
END:STANDARD
END:VTIMEZONE
BEGIN:VEVENT
DTSTAMP:20250516T162941Z
UID:BE246534-D0B9-4755-9155-485E4497E4C4
DTSTART;TZID=America/New_York:20250510T100000
DTEND;TZID=America/New_York:20250510T140000
DESCRIPTION:This work period is aimed for participants or interested groups
  for the Ottawa Robotics Competition 2025. Teams and their supervisors wil
 l be able to ask the organizers questions about the competition details an
 d try out test versions of many of the competitions.\n\nWork Period #1: Ma
 y 3rd Room T232\n\nWork Period #2: May 10th T102ABC\n\nAttendees under the
  age of 18 are expected to be accompanied by a parent or supervisor for th
 e duration of the work period attendance. Accessibility requests should be
  sent to robert.conrad@ieee.org in advance if necessary. This work period 
 is only guaranteed to have english judges/organizers\, if you require assi
 stance with translation\, please email an accessibility request.\n\nNOTE: 
 This event is not held at the same location as the final competition\, we 
 would like to thank Algonquin College for allowing us to use their space f
 or this event!\n\nCo-sponsored by: IEEE Ottawa Robotics Competition\n\nRoo
 m: T102ABC \, Algonquin College Building T\, Ottawa\, Ontario\, Canada\, 
 K2G 3H2 
LOCATION:Room: T102ABC \, Algonquin College Building T\, Ottawa\, Ontario\
 , Canada\, K2G 3H2 
ORGANIZER:robert.conrad@ieee.org
SEQUENCE:4
SUMMARY:IEEE Ottawa Robotics Competition 2025 - Work Period 2
URL;VALUE=URI:https://events.vtools.ieee.org/m/483018
X-ALT-DESC:Description: &lt;br /&gt;&lt;p&gt;This work period is aimed for participants
  or interested groups for the Ottawa Robotics Competition 2025. Teams and 
 their supervisors will be able to ask the organizers questions about the c
 ompetition details and try out test versions of many of the competitions.&lt;
 /p&gt;\n&lt;p&gt;&amp;nbsp\;&lt;/p&gt;\n&lt;p&gt;Work Period #1: May 3rd Room T232&lt;/p&gt;\n&lt;p&gt;&amp;nbsp\;&lt;
 /p&gt;\n&lt;p&gt;Work Period #2: May 10th &amp;nbsp\;T102ABC&amp;nbsp\;&lt;/p&gt;\n&lt;p&gt;&amp;nbsp\;&lt;/p&gt;
 \n&lt;p&gt;Attendees under the age of 18 are expected to be accompanied by a par
 ent or supervisor for the duration of the work period attendance. Accessib
 ility requests should be sent to &lt;a href=&quot;mailto:robert.conrad@ieee.org&quot;&gt;r
 obert.conrad@ieee.org&lt;/a&gt; in advance if necessary. This work period is onl
 y guaranteed to have english judges/organizers\, if you require assistance
  with translation\, please email an accessibility request.&lt;/p&gt;\n&lt;p&gt;&amp;nbsp\;
 &lt;/p&gt;\n&lt;p&gt;&lt;strong&gt;NOTE: This event is not held at the same location as the 
 final competition\, we would like to thank Algonquin College for allowing 
 us to use their space for this event!&lt;/strong&gt;&lt;/p&gt;
END:VEVENT
END:VCALENDAR

