BEGIN:VCALENDAR
VERSION:2.0
PRODID:IEEE vTools.Events//EN
CALSCALE:GREGORIAN
BEGIN:VTIMEZONE
TZID:America/New_York
BEGIN:DAYLIGHT
DTSTART:20250309T030000
TZOFFSETFROM:-0500
TZOFFSETTO:-0400
RRULE:FREQ=YEARLY;BYDAY=2SU;BYMONTH=3
TZNAME:EDT
END:DAYLIGHT
BEGIN:STANDARD
DTSTART:20251102T010000
TZOFFSETFROM:-0400
TZOFFSETTO:-0500
RRULE:FREQ=YEARLY;BYDAY=1SU;BYMONTH=11
TZNAME:EST
END:STANDARD
END:VTIMEZONE
BEGIN:VEVENT
DTSTAMP:20250507T135703Z
UID:ECE975BE-2D4C-41D6-80D6-6C4DDE33B016
DTSTART;TZID=America/New_York:20250505T180000
DTEND;TZID=America/New_York:20250505T203000
DESCRIPTION:The next meeting of the Worcester Section IEEE Consultants&#39; Net
 work will take place on Monday\, May 5\, 6:00 PM at Imperial Buffet in Shr
 ewsbury\, MA.\n\nWe will gather at 6:00 PM for dinner and mingle informall
 y\; In order to be included on the master bill you must be there by 6:30 P
 M. A $15.00 cash co-pay will be due upon arrival. The organization will co
 ver the balance of meal costs with non alcoholic beverages. Any alcohol is
  cash bar. We will start the Networking proceedings promptly at 7PM. I pla
 n to discuss expert witness work.\n\nAll are welcome to attend but you nee
 d to sign up as we need an accurate count. We will be organizing future me
 etings and topics of interest.\n\nAgenda: \nIntroductions\n\nMeal\n\nExper
 t Witness\n\nNetworking\n\nPlanning\n\n380 Maple Ave\, Shrewsbury\, Massac
 husetts\, United States\, 01545
LOCATION:380 Maple Ave\, Shrewsbury\, Massachusetts\, United States\, 01545
ORGANIZER:mchipguru@gmail.com
SEQUENCE:51
SUMMARY:Consultant Network Meeting on Monday May 5th at Imperial Buffet in 
 Shrewsbury MA
URL;VALUE=URI:https://events.vtools.ieee.org/m/483047
X-ALT-DESC:Description: &lt;br /&gt;&lt;p&gt;The next meeting of the Worcester Section 
 IEEE Consultants&#39; Network will take place on Monday\, May 5\, 6:00 PM at I
 mperial Buffet in Shrewsbury\, MA.&lt;/p&gt;\n&lt;p&gt;We will gather at 6:00 PM for d
 inner and mingle informally\; In order to be included on the master bill y
 ou must be there by 6:30 PM. A $15.00 cash co-pay will be due upon arrival
 . The organization will cover the balance of meal costs with non alcoholic
  beverages. Any alcohol is cash bar. We will start the Networking proceedi
 ngs promptly at 7PM. I plan to discuss expert witness work.&lt;/p&gt;\n&lt;p&gt;All ar
 e welcome to attend but you need to sign up as we need an accurate count. 
 We will be organizing future meetings and topics of interest.&amp;nbsp\;&lt;/p&gt;&lt;b
 r /&gt;&lt;br /&gt;Agenda: &lt;br /&gt;&lt;p&gt;Introductions&lt;/p&gt;\n&lt;p&gt;Meal&lt;/p&gt;\n&lt;p&gt;Expert Witne
 ss&lt;/p&gt;\n&lt;p&gt;Networking&lt;/p&gt;\n&lt;p&gt;Planning&lt;/p&gt;
END:VEVENT
END:VCALENDAR

