BEGIN:VCALENDAR
VERSION:2.0
PRODID:IEEE vTools.Events//EN
CALSCALE:GREGORIAN
BEGIN:VTIMEZONE
TZID:Europe/Berlin
BEGIN:DAYLIGHT
DTSTART:20250330T030000
TZOFFSETFROM:+0100
TZOFFSETTO:+0200
RRULE:FREQ=YEARLY;BYDAY=-1SU;BYMONTH=3
TZNAME:CEST
END:DAYLIGHT
BEGIN:STANDARD
DTSTART:20251026T020000
TZOFFSETFROM:+0200
TZOFFSETTO:+0100
RRULE:FREQ=YEARLY;BYDAY=-1SU;BYMONTH=10
TZNAME:CET
END:STANDARD
END:VTIMEZONE
BEGIN:VEVENT
DTSTAMP:20250515T152549Z
UID:687ED911-98A5-40F2-B17D-702C8E5C01E8
DTSTART;TZID=Europe/Berlin:20250512T170000
DTEND;TZID=Europe/Berlin:20250512T180000
DESCRIPTION:Join us\, Monday\, 12th of May\, 2025\, at 17:00 PM CET for an 
 exciting virtual talk by Prof. Steven Peters on the topic &quot;Automated Drivi
 ng – Why\, How and When?&quot;.\n\nThis talk is part of the ITSS Distinguishe
 d Lecture Series (DLS)\, organized by the [ITSS Germany Chapter](https://i
 eee-itss-germany.org/) and technically co-sponsored by [TU Darmstadt](http
 s://www.tu-darmstadt.de).\n\n[]\n\nBiosketch:\n\nProf. Dr.-Ing. Steven Pet
 ers has headed the Institute of Automotive Engineering at TU Darmstadt sin
 ce 2022\, focusing his research on automated driving of cars and trucks as
  well as on circular software defined vehicles which remain value stable. 
 Previously\, he worked at Mercedes-Benz AG for over six years as Head of A
 I Research and was part of the Vision EQXX technology program\, which crea
 ted the most efficient Mercedes to date.\n\nCo-sponsored by: TU Darmstadt\
 n\nVirtual: https://events.vtools.ieee.org/m/483284
LOCATION:Virtual: https://events.vtools.ieee.org/m/483284
ORGANIZER:lars.ullrich@ieee.org
SEQUENCE:43
SUMMARY:ITSS DLS Webinar - 12 May 2025 -- Automated Driving – Why\, How a
 nd When?
URL;VALUE=URI:https://events.vtools.ieee.org/m/483284
X-ALT-DESC:Description: &lt;br /&gt;&lt;p&gt;&lt;span style=&quot;font-size: 12pt\;&quot;&gt;Join us\,&amp;
 nbsp\;&lt;strong&gt;Monday\, 12th of May\, 2025\, at 17:00 PM CET&lt;/strong&gt; for a
 n exciting virtual talk by &lt;strong&gt;Prof. Steven Peters&lt;/strong&gt; on the top
 ic &quot;&lt;strong&gt;Automated Driving &amp;ndash\; Why\, How and When?&lt;/strong&gt;&quot;.&lt;/spa
 n&gt;&lt;/p&gt;\n&lt;p&gt;&lt;span style=&quot;font-size: 12pt\;&quot;&gt;This talk is part of the ITSS D
 istinguished Lecture Series (DLS)\, organized by the &lt;a href=&quot;https://ieee
 -itss-germany.org/&quot; target=&quot;_blank&quot; rel=&quot;noopener&quot;&gt;ITSS Germany Chapter&lt;/a
 &gt; and technically co-sponsored by &lt;a href=&quot;https://www.tu-darmstadt.de&quot; ta
 rget=&quot;_blank&quot; rel=&quot;noopener&quot;&gt;TU Darmstadt&lt;/a&gt;.&lt;/span&gt;&lt;/p&gt;\n&lt;p&gt;&lt;img src=&quot;ht
 tps://events.vtools.ieee.org/vtools_ui/media/display/69230e09-7301-4547-85
 30-7cf76fc027d0&quot; alt=&quot;&quot; width=&quot;912&quot; height=&quot;513&quot;&gt;&lt;/p&gt;\n&lt;p&gt;&lt;strong&gt;&lt;span st
 yle=&quot;font-size: 12pt\;&quot;&gt;Biosketch:&lt;/span&gt;&lt;/strong&gt;&lt;/p&gt;\n&lt;p style=&quot;text-ali
 gn: justify\;&quot;&gt;&lt;strong&gt;Prof. Dr.-Ing. Steven Peters&lt;/strong&gt; has headed th
 e Institute of Automotive Engineering at TU Darmstadt since 2022\, focusin
 g his research on automated driving of cars and trucks as well as on circu
 lar software defined vehicles which remain value stable. Previously\, he w
 orked at Mercedes-Benz AG for over six years as Head of AI Research and wa
 s part of the Vision EQXX technology program\, which created the most effi
 cient Mercedes to date.&lt;/p&gt;
END:VEVENT
END:VCALENDAR

