BEGIN:VCALENDAR
VERSION:2.0
PRODID:IEEE vTools.Events//EN
CALSCALE:GREGORIAN
BEGIN:VTIMEZONE
TZID:America/New_York
BEGIN:DAYLIGHT
DTSTART:20250309T030000
TZOFFSETFROM:-0500
TZOFFSETTO:-0400
RRULE:FREQ=YEARLY;BYDAY=2SU;BYMONTH=3
TZNAME:EDT
END:DAYLIGHT
BEGIN:STANDARD
DTSTART:20251102T010000
TZOFFSETFROM:-0400
TZOFFSETTO:-0500
RRULE:FREQ=YEARLY;BYDAY=1SU;BYMONTH=11
TZNAME:EST
END:STANDARD
END:VTIMEZONE
BEGIN:VEVENT
DTSTAMP:20250825T172507Z
UID:FE239870-BB3B-465C-B459-5F1A3A538A19
DTSTART;TZID=America/New_York:20250515T170000
DTEND;TZID=America/New_York:20250515T180000
DESCRIPTION:Angela Mazza is a Substation Controls Engineer IV with six year
 s of experience at Duquesne Light Company. She specializes in the design a
 nd integration of substation control systems\, ensuring reliable power del
 ivery across the grid. Angela holds a degree from Penn State in electrical
  engineering and a minor in mathematics.\n\nRoom: 134\, Bldg: Building 6\,
  2841 New Beaver Avenue \, Pittsburgh\, Pennsylvania\, United States\, 152
 19
LOCATION:Room: 134\, Bldg: Building 6\, 2841 New Beaver Avenue \, Pittsburg
 h\, Pennsylvania\, United States\, 15219
ORGANIZER:agorgacz@ieee.org
SEQUENCE:19
SUMMARY:Legacy and Innovation: Exploring Duquesne Light&#39;s Substation Equipm
 ent Past and Present
URL;VALUE=URI:https://events.vtools.ieee.org/m/483315
X-ALT-DESC:Description: &lt;br /&gt;&lt;p&gt;Angela Mazza is a Substation Controls Engi
 neer IV with six years of experience at Duquesne Light Company. She specia
 lizes in the design and integration of substation control systems\, ensuri
 ng reliable power delivery across the grid. Angela holds a degree from Pen
 n State in electrical engineering and a minor in mathematics.&lt;/p&gt;
END:VEVENT
END:VCALENDAR

