BEGIN:VCALENDAR
VERSION:2.0
PRODID:IEEE vTools.Events//EN
CALSCALE:GREGORIAN
BEGIN:VTIMEZONE
TZID:Africa/Casablanca
BEGIN:DAYLIGHT
DTSTART:20250406T030000
TZOFFSETFROM:+0000
TZOFFSETTO:+0100
RRULE:FREQ=YEARLY;BYDAY=1SU;BYMONTH=4
TZNAME:+01
END:DAYLIGHT
BEGIN:STANDARD
DTSTART:20260215T020000
TZOFFSETFROM:+0100
TZOFFSETTO:+0000
RRULE:FREQ=YEARLY;BYDAY=3SU;BYMONTH=2
TZNAME:+00
END:STANDARD
END:VTIMEZONE
BEGIN:VEVENT
DTSTAMP:20250429T214946Z
UID:D84F98B1-1554-40BC-A206-4D24DC8E08F2
DTSTART;TZID=Africa/Casablanca:20250419T140000
DTEND;TZID=Africa/Casablanca:20250419T160000
DESCRIPTION:As part of TechCamp 2.0\, the IEEE CIS ENIS SB hosted an exciti
 ng second session on April 19th\, 2025\, featuring Mr. Jawher Ennaceur. He
 ld online via Google Meet\, the session took participants on a captivating
  journey into the world of artificial intelligence and its role in space e
 xploration. From protecting the Mars Rover to enabling AI-driven navigatio
 n in uncharted environments\, the talk showcased how cutting-edge technolo
 gies are shaping the future of discovery beyond our planet. This event was
  a key highlight of TechCamp 2.0\, reflecting the IEEE CIS ENIS SB’s com
 mitment to inspiring innovation and engaging students with the real-world 
 impact of emerging technologies.\n\nVirtual: https://events.vtools.ieee.or
 g/m/483386
LOCATION:Virtual: https://events.vtools.ieee.org/m/483386
ORGANIZER:ghazza.ghorbel@ieee.org
SEQUENCE:2
SUMMARY:TechCamp 2.0 session 2
URL;VALUE=URI:https://events.vtools.ieee.org/m/483386
X-ALT-DESC:Description: &lt;br /&gt;&lt;table style=&quot;border-collapse: collapse\; wid
 th: 100.039%\; border-width: 0px\;&quot; border=&quot;1&quot;&gt;&lt;colgroup&gt;&lt;col style=&quot;width
 : 54.0834%\;&quot;&gt;&lt;col style=&quot;width: 45.8393%\;&quot;&gt;&lt;/colgroup&gt;\n&lt;tbody&gt;\n&lt;tr&gt;\n&lt;
 td style=&quot;border-width: 0px\;&quot;&gt;&lt;span style=&quot;font-size: 14pt\;&quot;&gt;As part of 
 &lt;span style=&quot;color: rgb(22\, 145\, 121)\;&quot;&gt;&lt;strong data-start=&quot;11&quot; data-en
 d=&quot;27&quot;&gt;TechCamp 2.0&lt;/strong&gt;&lt;/span&gt;\, the &lt;span style=&quot;color: rgb(35\, 111
 \, 161)\;&quot;&gt;&lt;strong&gt;IEEE CIS ENIS SB &lt;/strong&gt;&lt;/span&gt;hosted an exciting sec
 ond session on &lt;strong data-start=&quot;87&quot; data-end=&quot;107&quot;&gt;April 19th\, 2025&lt;/s
 trong&gt;\, featuring &lt;strong data-start=&quot;119&quot; data-end=&quot;142&quot;&gt;Mr. Jawher Enna
 ceur&lt;/strong&gt;. Held online via Google Meet\, the session took participants
  on a captivating journey into the world of artificial intelligence and it
 s role in space exploration. From protecting the Mars Rover to enabling AI
 -driven navigation in uncharted environments\, the talk showcased how cutt
 ing-edge technologies are shaping the future of discovery beyond our plane
 t. This event was a key highlight of TechCamp 2.0\, reflecting the IEEE CI
 S ENIS SB&amp;rsquo\;s commitment to inspiring innovation and engaging student
 s with the real-world impact of emerging technologies.&lt;/span&gt;&lt;/td&gt;\n&lt;td st
 yle=&quot;border-width: 0px\;&quot;&gt;&lt;img src=&quot;https://events.vtools.ieee.org/vtools_
 ui/media/display/89c3c1b3-24ac-446f-b2a6-c2e6fecffd29&quot; width=&quot;466&quot; height=
 &quot;219&quot;&gt;&lt;img src=&quot;https://events.vtools.ieee.org/vtools_ui/media/display/e15
 f4a21-5e1f-4e2e-a8f8-d2b3b563f4a7&quot; width=&quot;466&quot; height=&quot;220&quot;&gt;&lt;/td&gt;\n&lt;/tr&gt;\n
 &lt;/tbody&gt;\n&lt;/table&gt;
END:VEVENT
END:VCALENDAR

