BEGIN:VCALENDAR
VERSION:2.0
PRODID:IEEE vTools.Events//EN
CALSCALE:GREGORIAN
BEGIN:VTIMEZONE
TZID:America/Los_Angeles
BEGIN:DAYLIGHT
DTSTART:20250309T030000
TZOFFSETFROM:-0800
TZOFFSETTO:-0700
RRULE:FREQ=YEARLY;BYDAY=2SU;BYMONTH=3
TZNAME:PDT
END:DAYLIGHT
BEGIN:STANDARD
DTSTART:20251102T010000
TZOFFSETFROM:-0700
TZOFFSETTO:-0800
RRULE:FREQ=YEARLY;BYDAY=1SU;BYMONTH=11
TZNAME:PST
END:STANDARD
END:VTIMEZONE
BEGIN:VEVENT
DTSTAMP:20250620T211202Z
UID:DAB4BA03-3702-4399-8C4F-0847CC837A7A
DTSTART;TZID=America/Los_Angeles:20250620T130000
DTEND;TZID=America/Los_Angeles:20250620T140000
DESCRIPTION:An information session designed to introduce IEEE Young Profess
 ionals in Region 6 to humanitarian technology opportunities within IEEE\, 
 specifically focusing on HTB Programs\, SIGHT initiatives\, and pathways f
 or engagement.\n\n[]\n\nSpeaker(s): Grayson Randall\n\nVirtual: https://ev
 ents.vtools.ieee.org/m/483416
LOCATION:Virtual: https://events.vtools.ieee.org/m/483416
ORGANIZER:brianne.tengan@ieee.org
SEQUENCE:21
SUMMARY:Humanitarian Technology Awareness
URL;VALUE=URI:https://events.vtools.ieee.org/m/483416
X-ALT-DESC:Description: &lt;br /&gt;&lt;p&gt;An information session designed to introdu
 ce IEEE Young Professionals in Region 6 to humanitarian technology opportu
 nities within IEEE\, specifically focusing on HTB Programs\, SIGHT initiat
 ives\, and pathways for engagement.&amp;nbsp\;&lt;/p&gt;\n&lt;p&gt;&lt;img style=&quot;display: bl
 ock\; margin-left: auto\; margin-right: auto\;&quot; src=&quot;https://events.vtools
 .ieee.org/vtools_ui/media/display/cc039477-82f3-4ae1-ad80-825df1b2a008&quot; al
 t=&quot;&quot; width=&quot;474&quot; height=&quot;614&quot;&gt;&lt;/p&gt;
END:VEVENT
END:VCALENDAR

