BEGIN:VCALENDAR
VERSION:2.0
PRODID:IEEE vTools.Events//EN
CALSCALE:GREGORIAN
BEGIN:VTIMEZONE
TZID:Asia/Kolkata
BEGIN:STANDARD
DTSTART:19451014T230000
TZOFFSETFROM:+0630
TZOFFSETTO:+0530
TZNAME:IST
END:STANDARD
END:VTIMEZONE
BEGIN:VEVENT
DTSTAMP:20250915T051509Z
UID:A2D58CF9-9FF4-4547-90E4-17E4C386013D
DTSTART;TZID=Asia/Kolkata:20250423T153000
DTEND;TZID=Asia/Kolkata:20250423T163000
DESCRIPTION:The renewable energy career talks conducted in dept. of EEE\, M
 ohan Babu University on April 23\, 2025 is a positive step towards a more 
 sustainable future. Renewable energy is one of the fastest-growing industr
 ies globally\, driven by the need for sustainable solutions to combat clim
 ate change. Career talks in renewable energy sectors have become essential
  in guiding students\, professionals\, and those interested in making a ca
 reer switch to understand the vast opportunities available within the fiel
 d.\n\nThe goal of renewable energy career talks is to educate students abo
 ut the emerging job markets in renewable energy\, the skills required\, an
 d the different sectors within this industry. These talks aim to inspire i
 ndividuals to pursue careers in renewable energy\, whether through direct 
 involvement in clean energy production or in support sectors such as polic
 y-making\, engineering\, and research.\n\nSpeaker(s): Sudarsan \, \n\nRoom
 : 4220\, Bldg: New Academic Block\, Mohan Babu University\, Tirupati\, Tir
 upati\, Andhra Pradesh\, India\, 517102
LOCATION:Room: 4220\, Bldg: New Academic Block\, Mohan Babu University\, Ti
 rupati\, Tirupati\, Andhra Pradesh\, India\, 517102
ORGANIZER:sureshbabu.daram@mbu.asia
SEQUENCE:14
SUMMARY:Renewable Energy Career Talks
URL;VALUE=URI:https://events.vtools.ieee.org/m/483613
X-ALT-DESC:Description: &lt;br /&gt;&lt;p style=&quot;text-align: justify\;&quot;&gt;&lt;span style=
 &quot;font-family: verdana\, geneva\, sans-serif\;&quot;&gt;The renewable energy career
  talks conducted in dept. of EEE\, Mohan Babu University on April 23\, 202
 5 is a positive step towards a more sustainable future. Renewable energy i
 s one of the fastest-growing industries globally\, driven by the need for 
 sustainable solutions to combat climate change. Career talks in renewable 
 energy sectors have become essential in guiding students\, professionals\,
  and those interested in making a career switch to understand the vast opp
 ortunities available within the field.&lt;/span&gt;&lt;/p&gt;\n&lt;p style=&quot;text-align: j
 ustify\;&quot;&gt;&lt;span style=&quot;font-family: verdana\, geneva\, sans-serif\;&quot;&gt;The g
 oal of renewable energy career talks is to educate students about the emer
 ging job markets in renewable energy\, the skills required\, and the diffe
 rent sectors within this industry. These talks aim to inspire individuals 
 to pursue careers in renewable energy\, whether through direct involvement
  in clean energy production or in support sectors such as policy-making\, 
 engineering\, and research.&lt;/span&gt;&lt;/p&gt;\n&lt;p style=&quot;text-align: justify\;&quot;&gt;&lt;
 img src=&quot;https://events.vtools.ieee.org/vtools_ui/media/display/a0eed1c2-c
 1fc-4940-bb12-086dddfa3974&quot;&gt;&lt;/p&gt;\n&lt;p style=&quot;text-align: justify\;&quot;&gt;&lt;img sr
 c=&quot;https://events.vtools.ieee.org/vtools_ui/media/display/09d8c2b2-de85-42
 da-9bec-395b23d2aab7&quot; width=&quot;683&quot; height=&quot;581&quot;&gt;&lt;/p&gt;\n&lt;p style=&quot;text-align:
  justify\;&quot;&gt;&lt;img src=&quot;https://events.vtools.ieee.org/vtools_ui/media/displ
 ay/e58ddd22-e59e-4dd4-95d1-5785c148ee18&quot; width=&quot;682&quot; height=&quot;547&quot;&gt;&lt;/p&gt;
END:VEVENT
END:VCALENDAR

