BEGIN:VCALENDAR
VERSION:2.0
PRODID:IEEE vTools.Events//EN
CALSCALE:GREGORIAN
BEGIN:VTIMEZONE
TZID:Europe/Istanbul
BEGIN:DAYLIGHT
DTSTART:20380119T061407
TZOFFSETFROM:+0300
TZOFFSETTO:+0300
RRULE:FREQ=YEARLY;BYDAY=3TU;BYMONTH=1
TZNAME:+03
END:DAYLIGHT
BEGIN:STANDARD
DTSTART:20160907T000000
TZOFFSETFROM:+0300
TZOFFSETTO:+0300
RRULE:FREQ=YEARLY;BYDAY=1WE;BYMONTH=9
TZNAME:+03
END:STANDARD
END:VTIMEZONE
BEGIN:VEVENT
DTSTAMP:20250517T114002Z
UID:658754CE-FCBF-4ACC-9F59-FEA205E3C886
DTSTART;TZID=Europe/Istanbul:20250512T100000
DTEND;TZID=Europe/Istanbul:20250512T170000
DESCRIPTION:📍 STAR PROGRAM\n\n“The IEEE Student-Teacher and Research E
 ngineer/Scientist (STAR) Program was developed to encourage girls to pursu
 e careers in STEM.”\nAnd now\, we’re taking that vision even further i
 n Türkiye.\n\n🎉 As IEEE Ege\, we are proudly organizing the largest gl
 obal social responsibility project under IEEE Women in Engineering — the
  STAR Program — on our own!\n\n🚀 On May 12–13\, we aim to inspire y
 oung girls to explore careers in STEM by connecting them with role model w
 omen engineers and researchers.\n\n💬 Inspiring career talks\n🧪 Hands
 -on science workshops\n👩‍🔬 A powerful platform to increase visibil
 ity of women in STEM\n💡 Courage to shape the future!\n\n✨ STAR is not
  just an event — it’s a bold step toward a future empowered by science
 .\nWe\, as IEEE Ege WIE\, are proud to lead this impactful program indepen
 dently and create real social impact\n\n​Övgü Terzibaşıoğlu Anadolu
  Lisesi\, Karabaglar\, Izmir\, Türkiye\, 35620
LOCATION:​Övgü Terzibaşıoğlu Anadolu Lisesi\, Karabaglar\, Izmir\, T
 ürkiye\, 35620
ORGANIZER:ieeegesb@gmail.com
SEQUENCE:13
SUMMARY:IEEE Ege University Student Branch Women in Engineering | STAR Prog
 ram
URL;VALUE=URI:https://events.vtools.ieee.org/m/483646
X-ALT-DESC:Description: &lt;br /&gt;&lt;p class=&quot;&quot; data-start=&quot;58&quot; data-end=&quot;144&quot;&gt;
 📍&amp;nbsp\;&lt;strong&gt;STAR PROGRAM&lt;/strong&gt;&lt;/p&gt;\n&lt;p class=&quot;&quot; data-start=&quot;146&quot;
  data-end=&quot;340&quot;&gt;&amp;ldquo\;The IEEE Student-Teacher and Research Engineer/Sci
 entist (STAR) Program was developed to encourage girls to pursue careers i
 n STEM.&amp;rdquo\;&lt;br data-start=&quot;279&quot; data-end=&quot;282&quot;&gt;And now\, we&amp;rsquo\;re 
 taking that vision even further in T&amp;uuml\;rkiye.&lt;/p&gt;\n&lt;p class=&quot;&quot; data-st
 art=&quot;342&quot; data-end=&quot;501&quot;&gt;🎉 &lt;strong data-start=&quot;345&quot; data-end=&quot;501&quot;&gt;As I
 EEE Ege\, we are proudly organizing the largest global social responsibili
 ty project under IEEE Women in Engineering &amp;mdash\; the STAR Program &amp;mdas
 h\; on our own!&lt;/strong&gt;&lt;/p&gt;\n&lt;p class=&quot;&quot; data-start=&quot;503&quot; data-end=&quot;666&quot;&gt;
 🚀 On May 12&amp;ndash\;13\,&amp;nbsp\; we aim to inspire young girls to explore
  careers in STEM by connecting them with role model women engineers and re
 searchers.&lt;/p&gt;\n&lt;p class=&quot;&quot; data-start=&quot;668&quot; data-end=&quot;827&quot;&gt;💬 Inspiring
  career talks&lt;br data-start=&quot;693&quot; data-end=&quot;696&quot;&gt;🧪 Hands-on science wor
 kshops&lt;br data-start=&quot;725&quot; data-end=&quot;728&quot;&gt;👩&amp;zwj\;🔬 A powerful platfo
 rm to increase visibility of women in STEM&lt;br data-start=&quot;793&quot; data-end=&quot;7
 96&quot;&gt;💡 Courage to shape the future!&lt;/p&gt;\n&lt;p class=&quot;&quot; data-start=&quot;829&quot; da
 ta-end=&quot;1026&quot;&gt;✨ &lt;strong data-start=&quot;831&quot; data-end=&quot;917&quot;&gt;STAR is not just
  an event &amp;mdash\; it&amp;rsquo\;s a bold step toward a future empowered by sc
 ience.&lt;/strong&gt;&lt;br data-start=&quot;917&quot; data-end=&quot;920&quot;&gt;We\, as IEEE Ege WIE\, 
 are proud to lead this impactful program independently and create real soc
 ial impact&lt;/p&gt;
END:VEVENT
END:VCALENDAR

