BEGIN:VCALENDAR
VERSION:2.0
PRODID:IEEE vTools.Events//EN
CALSCALE:GREGORIAN
BEGIN:VTIMEZONE
TZID:Africa/Casablanca
BEGIN:DAYLIGHT
DTSTART:20240414T030000
TZOFFSETFROM:+0000
TZOFFSETTO:+0100
RRULE:FREQ=YEARLY;BYDAY=2SU;BYMONTH=4
TZNAME:+01
END:DAYLIGHT
BEGIN:STANDARD
DTSTART:20250223T020000
TZOFFSETFROM:+0100
TZOFFSETTO:+0000
RRULE:FREQ=YEARLY;BYDAY=-1SU;BYMONTH=2
TZNAME:+00
END:STANDARD
END:VTIMEZONE
BEGIN:VEVENT
DTSTAMP:20250501T212502Z
UID:F2050B83-2C56-41DD-B5C3-F4F498CBFC23
DTSTART;TZID=Africa/Casablanca:20250202T200000
DTEND;TZID=Africa/Casablanca:20250202T220000
DESCRIPTION:The IEEE Computer Society Info Session titled “IEEE Computer 
 Society Info Session with Nour Chargui: CS Benefits” was successfully he
 ld with the distinguished participation of Nour Chargui\, the Region 8 Rep
 resentative for the IEEE Computer Society Student &amp; Young Professionals (S
 YP) Awards Engagement Program.\n\nThis session provided attendees with an 
 in-depth overview of the wide range of opportunities offered by the IEEE C
 omputer Society. Nour Chargui shared valuable insights into how students a
 nd young professionals could benefit from the society’s numerous resourc
 es and initiatives.\n\nKey highlights of the session included:\n\n-\nSchol
 arships &amp; Awards: Participants were introduced to various IEEE CS regional
  and international awards and scholarship programs aimed at recognizing ac
 ademic and leadership excellence.\n\n-\nNetworking Opportunities: The sess
 ion emphasized the global reach of IEEE CS and the value of connecting wit
 h a vibrant international community of computing professionals.\n\n-\nProf
 essional Development: Attendees were informed about the wealth of technica
 l resources\, publications\, and training tools available through CS membe
 rship\, designed to support ongoing education and career advancement.\n\n-
 \nLeadership &amp; Volunteering: Nour encouraged students to engage in leaders
 hip roles within IEEE CS chapters and initiatives\, offering guidance on h
 ow to become active contributors to the global community.\n\nThe session c
 oncluded with an engaging Q&amp;A segment\, where participants had the chance 
 to interact directly with the speaker\, ask questions\, and receive tailor
 ed advice on how to maximize their IEEE CS membership.\n\nOverall\, the ev
 ent served as a valuable platform to raise awareness about the IEEE Comput
 er Society and its benefits\, inspiring participants to take full advantag
 e of the opportunities available to them.\n\n[][][]\n\nAgenda: \nThe IEEE 
 Computer Society Info Session with Nour Chargui was conducted over a two-h
 our period\, from 8:00 PM to 10:00 PM.\n\nThe event began with a brief wel
 come and opening remarks by the organizing team\, followed by an introduct
 ion of the guest speaker\, Nour Chargui\, Region 8 Representative for the 
 IEEE CS SYP Awards Engagement Program.\n\nThe session proceeded with an en
 gaging presentation outlining the structure\, mission\, and benefits of th
 e IEEE Computer Society. This was followed by a detailed overview of the e
 xclusive scholarships\, awards\, and opportunities available through the S
 YP program. Attendees also gained insight into how to become actively invo
 lved in IEEE CS through leadership roles and international networking.\n\n
 The session concluded with an interactive Q&amp;A segment\, allowing participa
 nts to ask questions and receive personalized advice\, and ended with fina
 l remarks and acknowledgments from the organizers.\n\nVirtual: https://eve
 nts.vtools.ieee.org/m/483691
LOCATION:Virtual: https://events.vtools.ieee.org/m/483691
ORGANIZER:sbc-ensit-cs@ieee.org
SEQUENCE:34
SUMMARY:IEEE Computer Society Info Session with Nour Chargui: CS Benefits
URL;VALUE=URI:https://events.vtools.ieee.org/m/483691
X-ALT-DESC:Description: &lt;br /&gt;&lt;p class=&quot;&quot; data-start=&quot;242&quot; data-end=&quot;540&quot;&gt;T
 he IEEE Computer Society Info Session titled &lt;strong data-start=&quot;313&quot; data
 -end=&quot;339&quot;&gt;&amp;ldquo\;&lt;span style=&quot;color: rgb(35\, 111\, 161)\;&quot;&gt;IEEE Compute
 r Society Info Session with Nour Chargui: CS Benefits&lt;/span&gt;&lt;/strong&gt;&lt;stro
 ng data-start=&quot;313&quot; data-end=&quot;339&quot;&gt;&amp;rdquo\;&lt;/strong&gt; was successfully held
  with the distinguished participation of &lt;span style=&quot;color: rgb(185\, 106
 \, 217)\;&quot;&gt;&lt;strong data-start=&quot;402&quot; data-end=&quot;418&quot;&gt;Nour Chargui&lt;/strong&gt;\,
 &lt;/span&gt; the Region 8 Representative for the IEEE Computer Society Student 
 &amp;amp\; Young Professionals (SYP) Awards Engagement Program.&lt;/p&gt;\n&lt;p class=
 &quot;&quot; data-start=&quot;542&quot; data-end=&quot;822&quot;&gt;This session provided attendees with an
  in-depth overview of the wide range of opportunities offered by the IEEE 
 Computer Society. Nour Chargui shared valuable insights into how students 
 and young professionals could benefit from the society&amp;rsquo\;s numerous r
 esources and initiatives.&lt;/p&gt;\n&lt;p class=&quot;&quot; data-start=&quot;824&quot; data-end=&quot;863&quot;
 &gt;Key highlights of the session included:&lt;/p&gt;\n&lt;ul data-start=&quot;865&quot; data-en
 d=&quot;1669&quot;&gt;\n&lt;li class=&quot;&quot; data-start=&quot;865&quot; data-end=&quot;1057&quot;&gt;\n&lt;p class=&quot;&quot; dat
 a-start=&quot;867&quot; data-end=&quot;1057&quot;&gt;&lt;span style=&quot;color: rgb(186\, 55\, 42)\;&quot;&gt;&lt;s
 trong data-start=&quot;867&quot; data-end=&quot;892&quot;&gt;Scholarships &amp;amp\; Awards&lt;/strong&gt;:
 &lt;/span&gt; Participants were introduced to various IEEE CS regional and inter
 national awards and scholarship programs aimed at recognizing academic and
  leadership excellence.&lt;/p&gt;\n&lt;/li&gt;\n&lt;li class=&quot;&quot; data-start=&quot;1058&quot; data-en
 d=&quot;1235&quot;&gt;\n&lt;p class=&quot;&quot; data-start=&quot;1060&quot; data-end=&quot;1235&quot;&gt;&lt;span style=&quot;colo
 r: rgb(186\, 55\, 42)\;&quot;&gt;&lt;strong data-start=&quot;1060&quot; data-end=&quot;1088&quot;&gt;Network
 ing Opportunities&lt;/strong&gt;:&lt;/span&gt; The session emphasized the global reach
  of IEEE CS and the value of connecting with a vibrant international commu
 nity of computing professionals.&lt;/p&gt;\n&lt;/li&gt;\n&lt;li class=&quot;&quot; data-start=&quot;1236
 &quot; data-end=&quot;1460&quot;&gt;\n&lt;p class=&quot;&quot; data-start=&quot;1238&quot; data-end=&quot;1460&quot;&gt;&lt;span st
 yle=&quot;color: rgb(186\, 55\, 42)\;&quot;&gt;&lt;strong data-start=&quot;1238&quot; data-end=&quot;1266
 &quot;&gt;Professional Development&lt;/strong&gt;:&lt;/span&gt; Attendees were informed about 
 the wealth of technical resources\, publications\, and training tools avai
 lable through CS membership\, designed to support ongoing education and ca
 reer advancement.&lt;/p&gt;\n&lt;/li&gt;\n&lt;li class=&quot;&quot; data-start=&quot;1461&quot; data-end=&quot;166
 9&quot;&gt;\n&lt;p class=&quot;&quot; data-start=&quot;1463&quot; data-end=&quot;1669&quot;&gt;&lt;span style=&quot;color: rgb
 (186\, 55\, 42)\;&quot;&gt;&lt;strong data-start=&quot;1463&quot; data-end=&quot;1492&quot;&gt;Leadership &amp;a
 mp\; Volunteering&lt;/strong&gt;:&lt;/span&gt; Nour encouraged students to engage in l
 eadership roles within IEEE CS chapters and initiatives\, offering guidanc
 e on how to become active contributors to the global community.&lt;/p&gt;\n&lt;/li&gt;
 \n&lt;/ul&gt;\n&lt;p class=&quot;&quot; data-start=&quot;1671&quot; data-end=&quot;1883&quot;&gt;The session conclud
 ed with an engaging Q&amp;amp\;A segment\, where participants had the chance t
 o interact directly with the speaker\, ask questions\, and receive tailore
 d advice on how to maximize their IEEE CS membership.&lt;/p&gt;\n&lt;p class=&quot;&quot; dat
 a-start=&quot;1885&quot; data-end=&quot;2088&quot;&gt;Overall\, the event served as a valuable pl
 atform to raise awareness about the IEEE Computer Society and its benefits
 \, inspiring participants to take full advantage of the opportunities avai
 lable to them.&lt;/p&gt;\n&lt;p class=&quot;&quot; data-start=&quot;1885&quot; data-end=&quot;2088&quot;&gt;&lt;img src
 =&quot;https://events.vtools.ieee.org/vtools_ui/media/display/393ebaa2-c7cf-44f
 c-b159-c813e39175d1&quot; alt=&quot;&quot; width=&quot;329&quot; height=&quot;156&quot;&gt;&lt;img src=&quot;https://eve
 nts.vtools.ieee.org/vtools_ui/media/display/7c10272e-381e-4b86-84c2-8d7bc9
 4ca2b6&quot; alt=&quot;&quot; width=&quot;330&quot; height=&quot;157&quot;&gt;&lt;img src=&quot;https://events.vtools.ie
 ee.org/vtools_ui/media/display/9d89e985-0e05-472f-9b8c-82b90f2cd441&quot; alt=&quot;
 &quot; width=&quot;331&quot; height=&quot;156&quot;&gt;&lt;/p&gt;&lt;br /&gt;&lt;br /&gt;Agenda: &lt;br /&gt;&lt;p&gt;The IEEE Compu
 ter Society Info Session with Nour Chargui was conducted over a two-hour p
 eriod\, from &lt;em&gt;&lt;strong&gt;8:00 PM to 10:00 PM&lt;/strong&gt;&lt;/em&gt;.&lt;/p&gt;\n&lt;p&gt;The ev
 ent began with a brief welcome and opening remarks by the organizing team\
 , followed by an introduction of the guest speaker\, Nour Chargui\, Region
  8 Representative for the IEEE CS SYP Awards Engagement Program.&lt;/p&gt;\n&lt;p&gt;T
 he session proceeded with an engaging presentation outlining the structure
 \, mission\, and benefits of the IEEE Computer Society. This was followed 
 by a detailed overview of the exclusive scholarships\, awards\, and opport
 unities available through the SYP program. Attendees also gained insight i
 nto how to become actively involved in IEEE CS through leadership roles an
 d international networking.&lt;/p&gt;\n&lt;p&gt;The session concluded with an interact
 ive Q&amp;amp\;A segment\, allowing participants to ask questions and receive 
 personalized advice\, and ended with final remarks and acknowledgments fro
 m the organizers.&lt;/p&gt;
END:VEVENT
END:VCALENDAR

