BEGIN:VCALENDAR
VERSION:2.0
PRODID:IEEE vTools.Events//EN
CALSCALE:GREGORIAN
BEGIN:VTIMEZONE
TZID:America/Lima
BEGIN:DAYLIGHT
DTSTART:20380118T221407
TZOFFSETFROM:-0500
TZOFFSETTO:-0500
RRULE:FREQ=YEARLY;BYDAY=3MO;BYMONTH=1
TZNAME:-05
END:DAYLIGHT
BEGIN:STANDARD
DTSTART:19940331T230000
TZOFFSETFROM:-0400
TZOFFSETTO:-0500
RRULE:FREQ=YEARLY;BYDAY=-1TH;BYMONTH=3
TZNAME:-05
END:STANDARD
END:VTIMEZONE
BEGIN:VEVENT
DTSTAMP:20251228T185148Z
UID:6C83966A-553C-45CE-A680-5BF9DE1D499E
DTSTART;TZID=America/Lima:20250503T190000
DTEND;TZID=America/Lima:20250503T200000
DESCRIPTION:📡 Webinar sobre redes de sensores inalámbricos para museos:
 \n\nExploraremos el diseño e implementación de sistemas de monitoreo amb
 iental enfocados en la conservación preventiva del patrimonio cultural 
 🏛️.\n🌡️ Se abordarán tecnologías para medir temperatura\, hume
 dad relativa\, iluminación y material particulado\, considerando bajo con
 sumo energético\, tamaño compacto y acceso remoto a datos en tiempo real
  💻📶.\n\n🎯 Objetivo: demostrar cómo la tecnología IoT puede adap
 tarse al contexto peruano para proteger nuestro legado cultural 🇵🇪.\
 n\n👨‍🏫 Expositor: Adrián Hinostroza\n🔧 Ingeniero Electrónico 
 especializado en hardware y software para sistemas embebidos en IoT 🌐.\
 n🧠 Experto en diseño de circuitos digitales ⚙️\, programación de 
 microcontroladores 💻\, creación de enclosures en 3D 🖨️ y desarrol
 lo de plataformas web orientadas a IoT 🌍.\n📚 Apasionado por la innov
 ación\, con publicaciones en conferencias internacionales sobre desarroll
 o tecnológico 💡.\n\n📅 Fecha: Sabado 3 de mayo\n⏰ Hora: 7:00 p.m. 
 (GMT-5)\n💻 Modalidad: Virtual\n🏛️ Organiza: IEEE CAS UNI\n🔗 Ins
 críbete aquí: https://forms.gle/3Beog3F5vWkNTy1N9\n\n📩 Más informaci
 ón: ieee.cas@uni.edu.pe\n\n💚 Síguenos en nuestras redes sociales para
  estar al tanto de más eventos como este:\n📍 Facebook: https://www.fac
 ebook.com/ieeecasuni\n📍 Instagram: https://www.instagram.com/ieee.cas.u
 ni/\n📍 LinkedIn: https://www.linkedin.com/company/ieeecasuni\n\nSpeaker
 (s): Adrián Hinostroza\n\nAgenda: \n🕔 Agenda del evento\n\n• 7:00 p.
 m. — Bienvenida e introducción\n• 7:05 p.m. — Ponencia\n• 7:50 p.
 m. — Preguntas y respuestas ❓\n• 8:00 p.m. — Cierre del evento 
 🎓\n\nVirtual: https://events.vtools.ieee.org/m/483713
LOCATION:Virtual: https://events.vtools.ieee.org/m/483713
ORGANIZER:ieee.cas@uni.edu.pe
SEQUENCE:36
SUMMARY:Red de sensores inalámbricos para el monitoreo del patrimonio cult
 ural en museos
URL;VALUE=URI:https://events.vtools.ieee.org/m/483713
X-ALT-DESC:Description: &lt;br /&gt;&lt;p&gt;📡&amp;nbsp\;&lt;strong&gt;Webinar sobre redes de 
 sensores inal&amp;aacute\;mbricos para museos:&lt;/strong&gt;&lt;/p&gt;\n&lt;p&gt;Exploraremos e
 l dise&amp;ntilde\;o e implementaci&amp;oacute\;n de sistemas de monitoreo ambient
 al enfocados en la&amp;nbsp\;&lt;strong&gt;conservaci&amp;oacute\;n preventiva del patri
 monio cultural&lt;/strong&gt;&amp;nbsp\;🏛️.&lt;br&gt;🌡️ Se abordar&amp;aacute\;n tec
 nolog&amp;iacute\;as para medir temperatura\, humedad relativa\, iluminaci&amp;oac
 ute\;n y material particulado\, considerando&amp;nbsp\;&lt;strong&gt;bajo consumo en
 erg&amp;eacute\;tico&lt;/strong&gt;\, tama&amp;ntilde\;o compacto y acceso remoto a dato
 s en tiempo real 💻📶.&lt;/p&gt;\n&lt;p&gt;🎯&amp;nbsp\;&lt;strong&gt;Objetivo:&lt;/strong&gt;&amp;n
 bsp\;demostrar c&amp;oacute\;mo la tecnolog&amp;iacute\;a IoT puede adaptarse al c
 ontexto peruano para proteger nuestro legado cultural 🇵🇪.&lt;/p&gt;\n&lt;p&gt;
 👨&amp;zwj\;🏫&amp;nbsp\;&lt;strong&gt;Expositor:&lt;/strong&gt;&amp;nbsp\;Adri&amp;aacute\;n Hino
 stroza&lt;br&gt;🔧 Ingeniero Electr&amp;oacute\;nico especializado en hardware y s
 oftware para sistemas embebidos en IoT 🌐.&lt;br&gt;🧠 Experto en dise&amp;ntild
 e\;o de circuitos digitales ⚙️\, programaci&amp;oacute\;n de microcontrola
 dores 💻\, creaci&amp;oacute\;n de enclosures en 3D 🖨️ y desarrollo de 
 plataformas web orientadas a IoT 🌍.&lt;br&gt;📚 Apasionado por la innovaci&amp;
 oacute\;n\, con publicaciones en conferencias internacionales sobre desarr
 ollo tecnol&amp;oacute\;gico 💡.&lt;/p&gt;\n&lt;p&gt;📅&amp;nbsp\;&lt;strong&gt;Fecha:&lt;/strong&gt;&amp;
 nbsp\;Sabado 3 de mayo&lt;br&gt;⏰&amp;nbsp\;&lt;strong&gt;Hora:&lt;/strong&gt;&amp;nbsp\;7:00 p.m.
  (GMT-5)&lt;br&gt;💻&amp;nbsp\;&lt;strong&gt;Modalidad:&lt;/strong&gt;&amp;nbsp\;Virtual&lt;br&gt;
 🏛️&amp;nbsp\;&lt;strong&gt;Organiza:&lt;/strong&gt;&amp;nbsp\;IEEE CAS UNI&lt;br&gt;🔗&amp;nbsp\;
 &lt;strong&gt;Inscr&amp;iacute\;bete aqu&amp;iacute\;:&lt;/strong&gt;&amp;nbsp\;&lt;a href=&quot;https://f
 orms.gle/3Beog3F5vWkNTy1N9&quot;&gt;https://forms.gle/3Beog3F5vWkNTy1N9&lt;/a&gt;&lt;/p&gt;\n&lt;
 p&gt;📩&amp;nbsp\;&lt;strong&gt;M&amp;aacute\;s informaci&amp;oacute\;n:&lt;/strong&gt;&amp;nbsp\;&lt;a hr
 ef=&quot;mailto:ieee.cas@uni.edu.pe&quot;&gt;ieee.cas@uni.edu.pe&lt;/a&gt;&lt;/p&gt;\n&lt;p&gt;💚&amp;nbsp\
 ;&lt;strong&gt;S&amp;iacute\;guenos en nuestras redes sociales para estar al tanto d
 e m&amp;aacute\;s eventos como este:&lt;br&gt;&lt;/strong&gt;📍 Facebook:&amp;nbsp\;&lt;a href=
 &quot;https://www.facebook.com/ieeecasuni&quot;&gt;https://www.facebook.com/ieeecasuni&lt;
 /a&gt;&lt;br&gt;📍 Instagram:&amp;nbsp\;&lt;a href=&quot;https://www.instagram.com/ieee.cas.u
 ni/&quot;&gt;https://www.instagram.com/ieee.cas.uni/&lt;/a&gt;&lt;br&gt;📍 LinkedIn:&amp;nbsp\;&lt;
 a href=&quot;https://www.linkedin.com/company/ieeecasuni&quot;&gt;https://www.linkedin.
 com/company/ieeecasuni&lt;/a&gt;&lt;/p&gt;&lt;br /&gt;&lt;br /&gt;Agenda: &lt;br /&gt;&lt;p&gt;🕔 &lt;strong&gt;Ag
 enda del evento&lt;/strong&gt;&lt;/p&gt;\n&lt;p&gt;&amp;bull\; 7:00 p.m. &amp;mdash\; Bienvenida e i
 ntroducci&amp;oacute\;n &amp;nbsp\;&lt;br&gt;&amp;bull\; 7:05 p.m. &amp;mdash\; Ponencia&lt;br&gt;&amp;bul
 l\; 7:50 p.m. &amp;mdash\; Preguntas y respuestas ❓ &amp;nbsp\;&lt;br&gt;&amp;bull\; 8:00 
 p.m. &amp;mdash\; Cierre del evento 🎓&lt;/p&gt;
END:VEVENT
END:VCALENDAR

