BEGIN:VCALENDAR
VERSION:2.0
PRODID:IEEE vTools.Events//EN
CALSCALE:GREGORIAN
BEGIN:VTIMEZONE
TZID:Europe/Copenhagen
BEGIN:DAYLIGHT
DTSTART:20250330T030000
TZOFFSETFROM:+0100
TZOFFSETTO:+0200
RRULE:FREQ=YEARLY;BYDAY=-1SU;BYMONTH=3
TZNAME:CEST
END:DAYLIGHT
BEGIN:STANDARD
DTSTART:20251026T020000
TZOFFSETFROM:+0200
TZOFFSETTO:+0100
RRULE:FREQ=YEARLY;BYDAY=-1SU;BYMONTH=10
TZNAME:CET
END:STANDARD
END:VTIMEZONE
BEGIN:VEVENT
DTSTAMP:20250516T193955Z
UID:0C821835-2C76-4DF4-8E70-BCD0DBA3F42C
DTSTART;TZID=Europe/Copenhagen:20250509T150000
DTEND;TZID=Europe/Copenhagen:20250509T163000
DESCRIPTION:Join us for an engaging and timely discussion on the intersecti
 on of fast-moving technology\, EU research opportunities for women\, and t
 he mental health challenges that come with deep-tech careers.\n\nSpeaker(s
 ): Lina\, Vidya\, \n\nVirtual: https://events.vtools.ieee.org/m/483777
LOCATION:Virtual: https://events.vtools.ieee.org/m/483777
ORGANIZER:sshreya@ece.au.dk
SEQUENCE:14
SUMMARY:IEEE Denmark WiE Webinar- Deep Mind to Deep Tech
URL;VALUE=URI:https://events.vtools.ieee.org/m/483777
X-ALT-DESC:Description: &lt;br /&gt;&lt;p&gt;Join us for an engaging and timely discuss
 ion on the intersection of fast-moving technology\, EU research opportunit
 ies for women\, and the mental health challenges that come with deep-tech 
 careers.&lt;/p&gt;
END:VEVENT
END:VCALENDAR

