BEGIN:VCALENDAR
VERSION:2.0
PRODID:IEEE vTools.Events//EN
CALSCALE:GREGORIAN
BEGIN:VTIMEZONE
TZID:Europe/Athens
BEGIN:DAYLIGHT
DTSTART:20250330T040000
TZOFFSETFROM:+0200
TZOFFSETTO:+0300
RRULE:FREQ=YEARLY;BYDAY=-1SU;BYMONTH=3
TZNAME:EEST
END:DAYLIGHT
BEGIN:STANDARD
DTSTART:20251026T030000
TZOFFSETFROM:+0300
TZOFFSETTO:+0200
RRULE:FREQ=YEARLY;BYDAY=-1SU;BYMONTH=10
TZNAME:EET
END:STANDARD
END:VTIMEZONE
BEGIN:VEVENT
DTSTAMP:20250503T183536Z
UID:2008C817-BA16-4D3D-8711-BFB12985C0E0
DTSTART;TZID=Europe/Athens:20250503T110000
DTEND;TZID=Europe/Athens:20250503T133000
DESCRIPTION:In this workshop with Special Needs and Learning Disorders Cent
 er - Αλma\, the Kindergarten students of [Mystiko Kleidi](https://mistik
 okleidi.gr/) will learn about civil engineering.\n\nThen students will exp
 erience the tall tower challenge lesson\, led by Stamatis Dragoumanos.\n\n
 Finally\, psychologist Eleftheria Kallinikou will have a discussion with t
 he students to understand her feelings about engineering and the joy of cr
 eativity this brings.\n\nCo-sponsored by:  Eleftheria Kallinikou - Special
  Needs and Learning Disorders Center - Αλma \n\nLeof. Stavrou Niarchou\,
  Ioannina \, Ioannina\, Epirus\, Greece\, 45500
LOCATION:Leof. Stavrou Niarchou\, Ioannina \, Ioannina\, Epirus\, Greece\, 
 45500
ORGANIZER:sdragou@gmail.com
SEQUENCE:12
SUMMARY:Life as a fairytale - Tall tower challenge
URL;VALUE=URI:https://events.vtools.ieee.org/m/483832
X-ALT-DESC:Description: &lt;br /&gt;&lt;p&gt;In this workshop with Special Needs and Le
 arning Disorders Center - &amp;Alpha\;&amp;lambda\;ma\, the &lt;span class=&quot;BxUVEf IL
 fuVd&quot; lang=&quot;en&quot;&gt;&lt;span class=&quot;hgKElc&quot;&gt;Kindergarten&lt;/span&gt;&lt;/span&gt; students o
 f &lt;a href=&quot;https://mistikokleidi.gr/&quot; target=&quot;_blank&quot; rel=&quot;noopener&quot;&gt;Mysti
 ko Kleidi&lt;/a&gt; will learn about civil engineering.&lt;/p&gt;\n&lt;p&gt;Then students wi
 ll experience the tall tower challenge lesson\, led by Stamatis Dragoumano
 s.&lt;/p&gt;\n&lt;p&gt;Finally\, psychologist Eleftheria Kallinikou will have a discus
 sion with the students to understand her feelings about engineering and th
 e joy of creativity this brings.&amp;nbsp\;&lt;/p&gt;\n&lt;p&gt;&amp;nbsp\;&lt;/p&gt;
END:VEVENT
END:VCALENDAR

