BEGIN:VCALENDAR
VERSION:2.0
PRODID:IEEE vTools.Events//EN
CALSCALE:GREGORIAN
BEGIN:VTIMEZONE
TZID:America/New_York
BEGIN:DAYLIGHT
DTSTART:20250309T030000
TZOFFSETFROM:-0500
TZOFFSETTO:-0400
RRULE:FREQ=YEARLY;BYDAY=2SU;BYMONTH=3
TZNAME:EDT
END:DAYLIGHT
BEGIN:STANDARD
DTSTART:20251102T010000
TZOFFSETFROM:-0400
TZOFFSETTO:-0500
RRULE:FREQ=YEARLY;BYDAY=1SU;BYMONTH=11
TZNAME:EST
END:STANDARD
END:VTIMEZONE
BEGIN:VEVENT
DTSTAMP:20250627T201323Z
UID:C63AD474-9B2F-48BB-B705-457235154EA6
DTSTART;TZID=America/New_York:20250601T110000
DTEND;TZID=America/New_York:20250606T060000
DESCRIPTION:IEEE Canaveral and Melbourne Sections are sponsoring the Americ
 an Legion Post 22 Wolf Pack Run Disc Golf Tournament.\n\nAs part of our sp
 onsorship\, each section can send a &quot;wolf pack&quot; of 3-5 players to particip
 ate in the tournament. If you are interested in playing\, please register 
 and we will pick a wolf pack from the registrants.\n\nWolf Pack RUN\n\nMay
  18 – June 6\, 2025\n\nDisc Golf Trilogy Challenge at F. Burton Smith DG
  Park\n\nFUNDRAISER - Proceeds benefit American Legion veteran service pro
 grams\n\nHow the Wolf Pack Run works:\n\n1. A Wolf Pack Run consists of pl
 aying one round of disc golf with flexible tee times. Best individual scor
 es win prizes.\n\n2. Form your “wolf pack” of 3-5 players to play toge
 ther on a card. If you do not have a wolf pack\, TD can assign you one. Ev
 eryone is welcome to play!\n\n3. Players pick up player pack (above) 5/18 
 or 6/1 from 9-noon at Post 22\, or 5/25 8AM at Burton.\n\n4. Your wolf pac
 k must complete 1 round of disc golf at F. Burton Smith Park anytime durin
 g the wolf pack run period\, following the trilogy challenge rules. Keep i
 ndividual player scores.\n\n5. Post 22 will host coached rounds 8AM on 5/2
 5 and 5/28. Any wolf pack is welcome to join in.\n\n6. Return your scoreca
 rds to the Post 22 bar no later than 6PM on Friday June 6th.\n\n7. Post 22
  invites all players and families to our Wolf Pack Run Celebration Steak D
 inner 6/6 at 6PM ($22/plate). Every player attending the dinner gets a fre
 e drink from Post 22.\n\n8. Winners will be announced at the Post 22 steak
  dinner on 6/6 and on the Post 22 Facebook page. Prizes will be available 
 at the bar for pickup anytime throughout the month of June.\n\nAgenda: \nT
 his event has a flexible agenda.\n\nPlayers must pick up player packs duri
 ng allocated times.\n\nThe golf round can be played any time in the event 
 period at F. Burton Smith Park.\n\nThe Post is sending a team to play on 5
 /25 and 5/28. New players who are unfamiliar with the game are welcome to 
 join at those times to be coached through the round.\n\n7575 W King St\,\,
  cocoa\, Florida\, United States\, 32926
LOCATION:7575 W King St\,\, cocoa\, Florida\, United States\, 32926
ORGANIZER:socci@ieee.org
SEQUENCE:16
SUMMARY:IEEE Sponsorship/Participation Wolf Pack Run Disc Golf Tournament
URL;VALUE=URI:https://events.vtools.ieee.org/m/484068
X-ALT-DESC:Description: &lt;br /&gt;&lt;p&gt;IEEE Canaveral and Melbourne Sections are 
 sponsoring the American Legion Post 22 Wolf Pack Run Disc Golf Tournament.
 &amp;nbsp\;&lt;/p&gt;\n&lt;p&gt;As part of our sponsorship\, each section can send a &quot;wolf
  pack&quot; of 3-5 players to participate in the tournament.&amp;nbsp\; If you are 
 interested in playing\, please register and we will pick a wolf pack from 
 the registrants.&lt;/p&gt;\n&lt;p class=&quot;MsoTitleCxSpFirst&quot; style=&quot;text-align: cent
 er\;&quot; align=&quot;center&quot;&gt;&lt;span style=&quot;font-size: 48.0pt\; font-family: Algeria
 n\;&quot;&gt;Wolf Pack RUN&lt;/span&gt;&lt;/p&gt;\n&lt;p class=&quot;MsoTitleCxSpMiddle&quot; style=&quot;text-a
 lign: center\;&quot; align=&quot;center&quot;&gt;May 18 &amp;ndash\; June 6\, 2025&lt;/p&gt;\n&lt;p class
 =&quot;MsoTitleCxSpMiddle&quot; style=&quot;text-align: center\;&quot; align=&quot;center&quot;&gt;&lt;span st
 yle=&quot;font-size: 22.0pt\;&quot;&gt;Disc Golf Trilogy Challenge at F. Burton Smith D
 G Park&lt;/span&gt;&lt;/p&gt;\n&lt;p class=&quot;MsoTitleCxSpLast&quot; style=&quot;text-align: center\;
 &quot; align=&quot;center&quot;&gt;&lt;span style=&quot;font-size: 18.0pt\;&quot;&gt;FUNDRAISER - Proceeds b
 enefit American Legion veteran service programs&lt;/span&gt;&lt;/p&gt;\n&lt;p class=&quot;MsoT
 itleCxSpLast&quot; style=&quot;text-align: center\;&quot; align=&quot;center&quot;&gt;&lt;span style=&quot;fon
 t-size: 18.0pt\;&quot;&gt;&lt;img src=&quot;https://events.vtools.ieee.org/vtools_ui/media
 /display/ec41cedf-59a3-4af2-9625-e3f7f232b8b7&quot;&gt;&lt;/span&gt;&lt;/p&gt;\n&lt;p class=&quot;MsoN
 ormal&quot;&gt;&lt;strong&gt;&lt;u&gt;How the Wolf Pack Run works:&lt;/u&gt;&lt;/strong&gt;&lt;/p&gt;\n&lt;p class=
 &quot;MsoListParagraphCxSpFirst&quot; style=&quot;text-indent: -.25in\; mso-list: l0 leve
 l1 lfo1\;&quot;&gt;&lt;!-- [if !supportLists]--&gt;&lt;span style=&quot;mso-bidi-font-family: Ap
 tos\; mso-bidi-theme-font: minor-latin\;&quot;&gt;&lt;span style=&quot;mso-list: Ignore\;&quot;
 &gt;1.&lt;span style=&quot;font: 7.0pt &#39;Times New Roman&#39;\;&quot;&gt;&amp;nbsp\;&amp;nbsp\;&amp;nbsp\;&amp;nbs
 p\;&amp;nbsp\;&amp;nbsp\; &lt;/span&gt;&lt;/span&gt;&lt;/span&gt;&lt;!--[endif]--&gt;A Wolf Pack Run consi
 sts of playing one round of disc golf with flexible tee times. Best indivi
 dual scores win prizes.&lt;/p&gt;\n&lt;p class=&quot;MsoListParagraphCxSpMiddle&quot; style=&quot;
 text-indent: -.25in\; mso-list: l0 level1 lfo1\;&quot;&gt;&lt;!-- [if !supportLists]-
 -&gt;&lt;span style=&quot;mso-bidi-font-family: Aptos\; mso-bidi-theme-font: minor-la
 tin\;&quot;&gt;&lt;span style=&quot;mso-list: Ignore\;&quot;&gt;2.&lt;span style=&quot;font: 7.0pt &#39;Times 
 New Roman&#39;\;&quot;&gt;&amp;nbsp\;&amp;nbsp\;&amp;nbsp\;&amp;nbsp\;&amp;nbsp\;&amp;nbsp\; &lt;/span&gt;&lt;/span&gt;&lt;/s
 pan&gt;&lt;!--[endif]--&gt;Form your &amp;ldquo\;wolf pack&amp;rdquo\; of 3-5 players to pl
 ay together on a card. If you do not have a wolf pack\, TD can assign you 
 one. Everyone is welcome to play!&lt;/p&gt;\n&lt;p class=&quot;MsoListParagraphCxSpMiddl
 e&quot; style=&quot;text-indent: -.25in\; mso-list: l0 level1 lfo1\;&quot;&gt;&lt;!-- [if !supp
 ortLists]--&gt;&lt;span style=&quot;mso-bidi-font-family: Aptos\; mso-bidi-theme-font
 : minor-latin\;&quot;&gt;&lt;span style=&quot;mso-list: Ignore\;&quot;&gt;3.&lt;span style=&quot;font: 7.0
 pt &#39;Times New Roman&#39;\;&quot;&gt;&amp;nbsp\;&amp;nbsp\;&amp;nbsp\;&amp;nbsp\;&amp;nbsp\;&amp;nbsp\; &lt;/span&gt;
 &lt;/span&gt;&lt;/span&gt;&lt;!--[endif]--&gt;Players pick up player pack (above) 5/18 or 6/
 1 from 9-noon at Post 22\, or 5/25 8AM at Burton.&lt;/p&gt;\n&lt;p class=&quot;MsoListPa
 ragraphCxSpMiddle&quot; style=&quot;text-indent: -.25in\; mso-list: l0 level1 lfo1\;
 &quot;&gt;&lt;!-- [if !supportLists]--&gt;&lt;span style=&quot;mso-bidi-font-family: Aptos\; mso
 -bidi-theme-font: minor-latin\;&quot;&gt;&lt;span style=&quot;mso-list: Ignore\;&quot;&gt;4.&lt;span 
 style=&quot;font: 7.0pt &#39;Times New Roman&#39;\;&quot;&gt;&amp;nbsp\;&amp;nbsp\;&amp;nbsp\;&amp;nbsp\;&amp;nbsp\
 ;&amp;nbsp\; &lt;/span&gt;&lt;/span&gt;&lt;/span&gt;&lt;!--[endif]--&gt;Your wolf pack must complete 1
  round of disc golf at F. Burton Smith Park anytime during the wolf pack r
 un period\, following the trilogy challenge rules. Keep individual player 
 scores.&lt;/p&gt;\n&lt;p class=&quot;MsoListParagraphCxSpMiddle&quot; style=&quot;text-indent: -.2
 5in\; mso-list: l0 level1 lfo1\;&quot;&gt;&lt;!-- [if !supportLists]--&gt;&lt;strong&gt;&lt;span 
 style=&quot;mso-bidi-font-family: Aptos\; mso-bidi-theme-font: minor-latin\;&quot;&gt;&lt;
 span style=&quot;mso-list: Ignore\;&quot;&gt;5.&lt;span style=&quot;font: 7.0pt &#39;Times New Roma
 n&#39;\;&quot;&gt;&amp;nbsp\;&amp;nbsp\;&amp;nbsp\;&amp;nbsp\;&amp;nbsp\;&amp;nbsp\; &lt;/span&gt;&lt;/span&gt;&lt;/span&gt;&lt;/st
 rong&gt;&lt;!--[endif]--&gt;&lt;strong&gt;Post 22 will host coached rounds 8AM on 5/25 an
 d 5/28. Any wolf pack is welcome to join in.&lt;/strong&gt;&lt;/p&gt;\n&lt;p class=&quot;MsoLi
 stParagraphCxSpMiddle&quot; style=&quot;text-indent: -.25in\; mso-list: l0 level1 lf
 o1\;&quot;&gt;&lt;!-- [if !supportLists]--&gt;&lt;span style=&quot;mso-bidi-font-family: Aptos\;
  mso-bidi-theme-font: minor-latin\;&quot;&gt;&lt;span style=&quot;mso-list: Ignore\;&quot;&gt;6.&lt;s
 pan style=&quot;font: 7.0pt &#39;Times New Roman&#39;\;&quot;&gt;&amp;nbsp\;&amp;nbsp\;&amp;nbsp\;&amp;nbsp\;&amp;n
 bsp\;&amp;nbsp\; &lt;/span&gt;&lt;/span&gt;&lt;/span&gt;&lt;!--[endif]--&gt;Return your scorecards to 
 the Post 22 bar no later than 6PM on Friday June 6&lt;sup&gt;th&lt;/sup&gt;.&lt;/p&gt;\n&lt;p c
 lass=&quot;MsoListParagraphCxSpMiddle&quot; style=&quot;text-indent: -.25in\; mso-list: l
 0 level1 lfo1\;&quot;&gt;&lt;!-- [if !supportLists]--&gt;&lt;span style=&quot;mso-bidi-font-fami
 ly: Aptos\; mso-bidi-theme-font: minor-latin\;&quot;&gt;&lt;span style=&quot;mso-list: Ign
 ore\;&quot;&gt;7.&lt;span style=&quot;font: 7.0pt &#39;Times New Roman&#39;\;&quot;&gt;&amp;nbsp\;&amp;nbsp\;&amp;nbsp
 \;&amp;nbsp\;&amp;nbsp\;&amp;nbsp\; &lt;/span&gt;&lt;/span&gt;&lt;/span&gt;&lt;!--[endif]--&gt;Post 22 invites
  all players and families to our Wolf Pack Run Celebration Steak Dinner 6/
 6 at 6PM ($22/plate). Every player attending the dinner gets a free drink 
 from Post 22.&lt;/p&gt;\n&lt;p class=&quot;MsoListParagraphCxSpLast&quot; style=&quot;text-indent:
  -.25in\; mso-list: l0 level1 lfo1\;&quot;&gt;&lt;!-- [if !supportLists]--&gt;&lt;span styl
 e=&quot;mso-bidi-font-family: Aptos\; mso-bidi-theme-font: minor-latin\;&quot;&gt;&lt;span
  style=&quot;mso-list: Ignore\;&quot;&gt;8.&lt;span style=&quot;font: 7.0pt &#39;Times New Roman&#39;\;
 &quot;&gt;&amp;nbsp\;&amp;nbsp\;&amp;nbsp\;&amp;nbsp\;&amp;nbsp\;&amp;nbsp\; &lt;/span&gt;&lt;/span&gt;&lt;/span&gt;&lt;!--[end
 if]--&gt;Winners will be announced at the Post 22 steak dinner on 6/6 and on 
 the Post 22 Facebook page. Prizes will be available at the bar for pickup 
 anytime throughout the month of June.&lt;/p&gt;\n&lt;p class=&quot;MsoNormal&quot;&gt;&lt;img src=&quot;
 https://events.vtools.ieee.org/vtools_ui/media/display/65d0d3bd-fe95-482f-
 a61a-d332f015185b&quot;&gt;&lt;/p&gt;&lt;br /&gt;&lt;br /&gt;Agenda: &lt;br /&gt;&lt;p&gt;This event has a flexi
 ble agenda.&amp;nbsp\;&amp;nbsp\;&lt;/p&gt;\n&lt;p&gt;Players must pick up player packs during
  allocated times.&lt;/p&gt;\n&lt;p&gt;The golf round can be played any time in the eve
 nt period at F. Burton Smith Park.&lt;/p&gt;\n&lt;p&gt;The Post is sending a team to p
 lay on 5/25 and 5/28. New players who are unfamiliar with the game are wel
 come to join at those times to be coached through the round.&lt;/p&gt;
END:VEVENT
END:VCALENDAR

