BEGIN:VCALENDAR
VERSION:2.0
PRODID:IEEE vTools.Events//EN
CALSCALE:GREGORIAN
BEGIN:VTIMEZONE
TZID:Asia/Muscat
BEGIN:DAYLIGHT
DTSTART:20380119T071407
TZOFFSETFROM:+0400
TZOFFSETTO:+0400
RRULE:FREQ=YEARLY;BYDAY=3TU;BYMONTH=1
TZNAME:+04
END:DAYLIGHT
BEGIN:STANDARD
DTSTART:19200101T001848
TZOFFSETFROM:+0341
TZOFFSETTO:+0400
RRULE:FREQ=YEARLY;BYDAY=1TH;BYMONTH=1
TZNAME:+04
END:STANDARD
END:VTIMEZONE
BEGIN:VEVENT
DTSTAMP:20250512T133144Z
UID:CF3846E4-D9AE-4D95-B324-B400294EB8B9
DTSTART;TZID=Asia/Muscat:20250511T083000
DTEND;TZID=Asia/Muscat:20250511T140000
DESCRIPTION:Themed “Sustainability through Emerging Technologies”! This
  event will feature inspiring talks from distinguished speakers including 
 Mr. Jameel Shakeel\, Corporate Communications &amp; CSR Manager at Sohar Alumi
 num\, who will deliver the keynote on AI for Sustainable IT Practices. Bre
 akout sessions will include Mr. Ibrahim Ahmed Alshezawi\, Senior Staff\, N
 ursing Department\, Sultan Qaboos University Hospital\, Muscat\, discussin
 g AI Ethics in Academics and Healthcare\, and Dr. Wasin Al Kishri\, Deputy
  Director of the AOU Academy for Training\, Arab Open University\, Muscat\
 , presenting on Green IT with IoT Innovations. The day will also feature a
  dynamic panel discussion with Dr. Mohamed Abdul Karim Sadiq joining the l
 ineup. Join us as we explore how AI\, IoT\, and Blockchain can drive susta
 inable IT solutions!\n\nSpeaker(s): Jameel\, Ibrahim\, Wasin\n\nAgenda: \n
 - Entry opens 8:30 AM\n- Opening Ceremony (9:00 AM - 09:15 AM)\n- Quran re
 citation\n- Welcome speech\n\nDr. Yasmin Al Shehhi\n\nHoD\, College of Com
 puting and Information Systems\n\nUTAS\, Suhar\n\nWelcome speech and inaug
 uration\n\nMr. Jameel Shakeel\,\n\nCorporate Communications &amp; Social Respo
 nsibility Manager\,\n\nSohar Aluminum\, Sohar\n\n- Keynote Address 1 (09:1
 5 AM - 10:00 AM)\n\nTopic: AI for Sustainable IT Practices\n\nMr. Jameel S
 hakeel\,\n\nCorporate Communications &amp; Social Responsibility Manager\,\n\n
 Sohar Aluminum\, Sohar\n\n- Breakout Sessions (10:00 AM - 11:30 AM)\n\n- S
 ession 1: AI Ethics in Academics and HealthCare (10 AM – 10.45 AM)\n\nMr
 . Ibrahim Ahmed Alshezawi\n\nSenior Staff\, Nursing Department\,\n\nSultan
  Qaboos University Hospital\, Muscat\n\n- Session 2: Green IT with IoT Inn
 ovations (10.45 AM – 11.30 AM)\n\nDr.Wasin Al kishri\n\nDeputy Director 
 of the AOU Academy for Training\, Arab Open University\, Muscat\n\n- Panel
  Discussion (11:30 AM - 12:30 PM)\n\nTopic: The Role of Emerging Technolog
 ies in Shaping a Sustainable Future\n\n- Panel Members:\n\n· Dr.Wasin Al 
 kishri\n\n· Dr. Mohamed Abdul Karim Sadiq\n\n· Mr. Ibrahim Ahmed Alsheza
 wi\n\nVote of Thanks\n\nDr. Mohamed Abdu Jarim Sadiq\n\nAssistant Professo
 r – College of Computing Information Systems\n\nIEEE Branch Councilor\n\
 nUTAS\, Suhar\n\nRefreshment (12:30 PM - 1:30 PM)\n\nBldg: B\, Sohar Hall\
 , UTAS\, Suhar\, Oman\, Oman\, 311
LOCATION:Bldg: B\, Sohar Hall\, UTAS\, Suhar\, Oman\, Oman\, 311
ORGANIZER:mohamed.sadiq@utas.edu.om
SEQUENCE:24
SUMMARY:Emerging Technology and Green IT
URL;VALUE=URI:https://events.vtools.ieee.org/m/484287
X-ALT-DESC:Description: &lt;br /&gt;&lt;p class=&quot;MsoNormal&quot;&gt;Themed &lt;em&gt;&amp;ldquo\;Susta
 inability through Emerging Technologies&amp;rdquo\;&lt;/em&gt;! This event will feat
 ure inspiring talks from distinguished speakers including &lt;strong&gt;Mr. Jame
 el Shakeel&lt;/strong&gt;\, Corporate Communications &amp;amp\; CSR Manager at Sohar
  Aluminum\, who will deliver the keynote on &lt;em&gt;AI for Sustainable IT Prac
 tices&lt;/em&gt;. Breakout sessions will include &lt;strong&gt;Mr. Ibrahim Ahmed Alshe
 zawi&lt;/strong&gt;\, Senior Staff\, Nursing Department\, Sultan Qaboos Universi
 ty Hospital\, Muscat\, discussing &lt;em&gt;AI Ethics in Academics and Healthcar
 e&lt;/em&gt;\, and &lt;strong&gt;Dr. Wasin Al Kishri&lt;/strong&gt;\, Deputy Director of the
  AOU Academy for Training\, Arab Open University\, Muscat\, presenting on 
 &lt;em&gt;Green IT with IoT Innovations&lt;/em&gt;. The day will also feature a dynami
 c panel discussion with &lt;strong&gt;Dr. Mohamed Abdul Karim Sadiq&lt;/strong&gt; joi
 ning the lineup. Join us as we explore how AI\, IoT\, and Blockchain can d
 rive sustainable IT solutions!&lt;/p&gt;\n&lt;p class=&quot;MsoNormal&quot;&gt;&amp;nbsp\;&lt;/p&gt;&lt;br /&gt;
 &lt;br /&gt;Agenda: &lt;br /&gt;&lt;ul style=&quot;margin-top: 0in\;&quot; type=&quot;disc&quot;&gt;\n&lt;li class=
 &quot;MsoNormal&quot; style=&quot;line-height: 115%\; mso-list: l0 level1 lfo1\; tab-stop
 s: list .5in\;&quot;&gt;&lt;strong&gt;Entry opens 8:30 AM&lt;/strong&gt;&lt;/li&gt;\n&lt;li class=&quot;MsoN
 ormal&quot; style=&quot;line-height: 115%\; mso-list: l0 level1 lfo1\; tab-stops: li
 st .5in\;&quot;&gt;&lt;strong&gt;Opening Ceremony&lt;/strong&gt; &lt;strong&gt;(9:00 AM - 09:15 AM)&lt;
 /strong&gt;&lt;/li&gt;\n&lt;li class=&quot;MsoNormal&quot; style=&quot;line-height: 115%\; mso-list: 
 l0 level1 lfo1\; tab-stops: list .5in\;&quot;&gt;&lt;strong&gt;Quran recitation&lt;/strong&gt;
 &lt;/li&gt;\n&lt;li class=&quot;MsoNormal&quot; style=&quot;line-height: 115%\; mso-list: l0 level
 1 lfo1\; tab-stops: list .5in\;&quot;&gt;&lt;strong&gt;Welcome speech &lt;/strong&gt;&lt;/li&gt;\n&lt;/
 ul&gt;\n&lt;p class=&quot;MsoNormal&quot; style=&quot;margin-left: .5in\; line-height: 115%\;&quot;&gt;
 &lt;strong&gt;Dr. Yasmin Al Shehhi&lt;/strong&gt;&lt;/p&gt;\n&lt;p class=&quot;MsoNormal&quot; style=&quot;mar
 gin-left: .5in\; line-height: 115%\;&quot;&gt;&lt;strong&gt;HoD\, College of Computing a
 nd Information Systems&lt;/strong&gt;&lt;/p&gt;\n&lt;p class=&quot;MsoNormal&quot; style=&quot;margin-le
 ft: .5in\; line-height: 115%\;&quot;&gt;&lt;strong&gt;UTAS\, Suhar&lt;/strong&gt;&lt;/p&gt;\n&lt;p clas
 s=&quot;MsoNormal&quot; style=&quot;margin-left: .5in\; line-height: 115%\;&quot;&gt;&amp;nbsp\;&lt;/p&gt;\
 n&lt;p class=&quot;MsoNormal&quot; style=&quot;margin-left: .5in\; line-height: 115%\;&quot;&gt;&lt;str
 ong&gt;Welcome speech and inauguration&lt;/strong&gt;&lt;/p&gt;\n&lt;p class=&quot;MsoNormal&quot; sty
 le=&quot;margin-left: .5in\; line-height: 115%\;&quot;&gt;&lt;strong&gt;Mr. Jameel Shakeel\, 
 &lt;/strong&gt;&lt;/p&gt;\n&lt;p class=&quot;MsoNormal&quot; style=&quot;margin-left: .5in\; line-height
 : 115%\;&quot;&gt;&lt;strong&gt;Corporate Communications &amp;amp\; Social Responsibility Ma
 nager\,&amp;nbsp\;&lt;/strong&gt;&lt;/p&gt;\n&lt;p class=&quot;MsoNormal&quot; style=&quot;margin-left: .5in
 \; line-height: 115%\;&quot;&gt;&lt;strong&gt;Sohar&amp;nbsp\;Aluminum\, Sohar&lt;/strong&gt;&lt;/p&gt;\
 n&lt;p class=&quot;MsoNormal&quot; style=&quot;margin-left: .5in\; line-height: 115%\;&quot;&gt;&amp;nbs
 p\;&lt;/p&gt;\n&lt;ul style=&quot;margin-top: 0in\;&quot; type=&quot;disc&quot;&gt;\n&lt;li class=&quot;MsoNormal&quot;
  style=&quot;line-height: 115%\; mso-list: l0 level1 lfo1\; tab-stops: list .5i
 n\;&quot;&gt;&lt;strong&gt;Keynote Address 1&lt;/strong&gt; &lt;strong&gt;(09:15 AM - 10:00 AM)&lt;/str
 ong&gt;&lt;/li&gt;\n&lt;/ul&gt;\n&lt;p class=&quot;MsoNormal&quot; style=&quot;margin-left: .5in\; line-hei
 ght: 115%\;&quot;&gt;&lt;strong&gt;Topic: AI for Sustainable IT Practices&lt;/strong&gt;&lt;/p&gt;\n
 &lt;p class=&quot;MsoNormal&quot; style=&quot;margin-left: .5in\; line-height: 115%\;&quot;&gt;&lt;stro
 ng&gt;Mr. Jameel Shakeel\, &lt;/strong&gt;&lt;/p&gt;\n&lt;p class=&quot;MsoNormal&quot; style=&quot;margin-
 left: .5in\; line-height: 115%\;&quot;&gt;&lt;strong&gt;Corporate Communications &amp;amp\; 
 Social Responsibility Manager\,&amp;nbsp\;&lt;/strong&gt;&lt;/p&gt;\n&lt;p class=&quot;MsoNormal&quot; 
 style=&quot;margin-left: .5in\; line-height: 115%\;&quot;&gt;&lt;strong&gt;Sohar&amp;nbsp\;Alumin
 um\, Sohar&lt;/strong&gt;&lt;/p&gt;\n&lt;ul style=&quot;margin-top: 0in\;&quot; type=&quot;disc&quot;&gt;\n&lt;li c
 lass=&quot;MsoNormal&quot; style=&quot;line-height: 115%\; mso-list: l0 level1 lfo1\; tab
 -stops: list .5in\;&quot;&gt;&lt;strong&gt;Breakout Sessions&lt;/strong&gt; &lt;strong&gt;(10:00 AM 
 - 11:30 AM)&lt;/strong&gt;&lt;/li&gt;\n&lt;ul style=&quot;margin-top: 0in\;&quot; type=&quot;circle&quot;&gt;\n&lt;
 li class=&quot;MsoNormal&quot; style=&quot;line-height: 115%\; mso-list: l0 level2 lfo1\;
  tab-stops: list 1.0in\;&quot;&gt;&lt;strong&gt;Session 1: AI Ethics in Academics and He
 althCare (10 AM &amp;ndash\; 10.45 AM)&lt;/strong&gt;&lt;/li&gt;\n&lt;/ul&gt;\n&lt;/ul&gt;\n&lt;p class=&quot;
 MsoNormal&quot; style=&quot;margin-left: 1.0in\; line-height: 115%\;&quot;&gt;&lt;strong&gt;Mr. Ib
 rahim Ahmed Alshezawi&lt;span style=&quot;mso-spacerun: yes\;&quot;&gt;&amp;nbsp\; &lt;/span&gt;&lt;/st
 rong&gt;&lt;/p&gt;\n&lt;p class=&quot;MsoNormal&quot; style=&quot;margin-left: 1.0in\; line-height: 1
 15%\;&quot;&gt;&lt;strong&gt;Senior Staff\, Nursing Department\, &lt;/strong&gt;&lt;/p&gt;\n&lt;p class
 =&quot;MsoNormal&quot; style=&quot;margin-left: 1.0in\; line-height: 115%\;&quot;&gt;&lt;strong&gt;Sult
 an Qaboos University Hospital\, Muscat&lt;/strong&gt;&lt;/p&gt;\n&lt;ul style=&quot;margin-top
 : 0in\;&quot; type=&quot;disc&quot;&gt;\n&lt;ul style=&quot;margin-top: 0in\;&quot; type=&quot;circle&quot;&gt;\n&lt;li c
 lass=&quot;MsoNormal&quot; style=&quot;line-height: 115%\; mso-list: l0 level2 lfo1\; tab
 -stops: list 1.0in\;&quot;&gt;&lt;strong&gt;Session 2: Green IT with IoT Innovations (10
 .45 AM &amp;ndash\; 11.30 AM)&lt;/strong&gt;&lt;/li&gt;\n&lt;/ul&gt;\n&lt;/ul&gt;\n&lt;p class=&quot;MsoNormal
 &quot; style=&quot;margin-left: 1.0in\; line-height: 115%\;&quot;&gt;&lt;strong&gt;Dr.Wasin Al kis
 hri&lt;/strong&gt;&lt;/p&gt;\n&lt;p class=&quot;MsoNormal&quot; style=&quot;margin-left: 1.0in\; line-he
 ight: 115%\;&quot;&gt;&lt;strong&gt;Deputy Director of the AOU Academy for Training\, Ar
 ab Open University\, Muscat&lt;/strong&gt;&lt;/p&gt;\n&lt;p class=&quot;MsoNormal&quot; style=&quot;line
 -height: 115%\;&quot;&gt;&lt;strong&gt;&amp;nbsp\;&lt;/strong&gt;&lt;/p&gt;\n&lt;ul style=&quot;margin-top: 0in\
 ;&quot; type=&quot;disc&quot;&gt;\n&lt;li class=&quot;MsoNormal&quot; style=&quot;line-height: 115%\; mso-list
 : l0 level1 lfo1\; tab-stops: list .5in\;&quot;&gt;&lt;strong&gt;Panel Discussion&lt;/stron
 g&gt; &lt;strong&gt;(11:30 AM - 12:30 PM)&lt;/strong&gt;&lt;/li&gt;\n&lt;/ul&gt;\n&lt;p class=&quot;MsoNormal
 &quot; style=&quot;margin-left: .5in\; line-height: 115%\;&quot;&gt;&lt;strong&gt;Topic:&lt;/strong&gt; 
 &lt;strong&gt;The Role of Emerging Technologies in Shaping a Sustainable Future&lt;
 /strong&gt;&lt;/p&gt;\n&lt;ul style=&quot;margin-top: 0in\;&quot; type=&quot;disc&quot;&gt;\n&lt;li class=&quot;MsoNo
 rmal&quot; style=&quot;line-height: 115%\; mso-list: l0 level1 lfo1\; tab-stops: lis
 t .5in\;&quot;&gt;&lt;strong&gt;Panel Members:&lt;/strong&gt;&lt;/li&gt;\n&lt;/ul&gt;\n&lt;p class=&quot;MsoListPa
 ragraphCxSpFirst&quot; style=&quot;text-indent: -.25in\; line-height: 115%\; mso-lis
 t: l0 level1 lfo1\; tab-stops: list .5in\;&quot;&gt;&lt;!-- [if !supportLists]--&gt;&lt;spa
 n style=&quot;font-size: 10.0pt\; mso-bidi-font-size: 12.0pt\; line-height: 115
 %\; font-family: Symbol\; mso-fareast-font-family: Symbol\; mso-bidi-font-
 family: Symbol\; mso-bidi-font-weight: bold\;&quot;&gt;&lt;span style=&quot;mso-list: Igno
 re\;&quot;&gt;&amp;middot\;&lt;span style=&quot;font: 7.0pt &#39;Times New Roman&#39;\;&quot;&gt;&amp;nbsp\;&amp;nbsp\
 ;&amp;nbsp\;&amp;nbsp\;&amp;nbsp\;&amp;nbsp\; &lt;/span&gt;&lt;/span&gt;&lt;/span&gt;&lt;!--[endif]--&gt;&lt;strong&gt;D
 r.Wasin Al kishri&lt;/strong&gt;&lt;/p&gt;\n&lt;p class=&quot;MsoListParagraphCxSpMiddle&quot; styl
 e=&quot;text-indent: -.25in\; line-height: 115%\; mso-list: l0 level1 lfo1\; ta
 b-stops: list .5in\;&quot;&gt;&lt;!-- [if !supportLists]--&gt;&lt;span style=&quot;font-size: 10
 .0pt\; mso-bidi-font-size: 12.0pt\; line-height: 115%\; font-family: Symbo
 l\; mso-fareast-font-family: Symbol\; mso-bidi-font-family: Symbol\; mso-b
 idi-font-weight: bold\;&quot;&gt;&lt;span style=&quot;mso-list: Ignore\;&quot;&gt;&amp;middot\;&lt;span s
 tyle=&quot;font: 7.0pt &#39;Times New Roman&#39;\;&quot;&gt;&amp;nbsp\;&amp;nbsp\;&amp;nbsp\;&amp;nbsp\;&amp;nbsp\;
 &amp;nbsp\; &lt;/span&gt;&lt;/span&gt;&lt;/span&gt;&lt;!--[endif]--&gt;&lt;strong&gt;Dr. Mohamed Abdul Karim
  Sadiq&lt;/strong&gt;&lt;/p&gt;\n&lt;p class=&quot;MsoListParagraphCxSpLast&quot; style=&quot;text-inden
 t: -.25in\; line-height: 115%\; mso-list: l0 level1 lfo1\; tab-stops: list
  .5in\;&quot;&gt;&lt;!-- [if !supportLists]--&gt;&lt;span style=&quot;font-size: 10.0pt\; mso-bi
 di-font-size: 12.0pt\; line-height: 115%\; font-family: Symbol\; mso-farea
 st-font-family: Symbol\; mso-bidi-font-family: Symbol\; mso-bidi-font-weig
 ht: bold\;&quot;&gt;&lt;span style=&quot;mso-list: Ignore\;&quot;&gt;&amp;middot\;&lt;span style=&quot;font: 7
 .0pt &#39;Times New Roman&#39;\;&quot;&gt;&amp;nbsp\;&amp;nbsp\;&amp;nbsp\;&amp;nbsp\;&amp;nbsp\;&amp;nbsp\; &lt;/spa
 n&gt;&lt;/span&gt;&lt;/span&gt;&lt;!--[endif]--&gt;&lt;strong&gt;Mr. Ibrahim Ahmed Alshezawi&lt;span sty
 le=&quot;mso-spacerun: yes\;&quot;&gt;&amp;nbsp\; &lt;/span&gt;&lt;/strong&gt;&lt;/p&gt;\n&lt;p class=&quot;MsoNormal
 &quot; style=&quot;margin-left: .25in\; line-height: 115%\;&quot;&gt;&lt;strong&gt;Vote of Thanks&lt;
 /strong&gt;&lt;/p&gt;\n&lt;p class=&quot;MsoNormal&quot; style=&quot;margin-left: .25in\; line-height
 : 115%\;&quot;&gt;&lt;strong&gt;Dr. Mohamed Abdu Jarim Sadiq&lt;/strong&gt;&lt;/p&gt;\n&lt;p class=&quot;Mso
 Normal&quot; style=&quot;margin-left: .25in\; line-height: 115%\;&quot;&gt;&lt;strong&gt;Assistant
  Professor &amp;ndash\; College of Computing Information Systems&lt;/strong&gt;&lt;/p&gt;\
 n&lt;p class=&quot;MsoNormal&quot; style=&quot;margin-left: .25in\; line-height: 115%\;&quot;&gt;&lt;st
 rong&gt;IEEE Branch Councilor&lt;/strong&gt;&lt;/p&gt;\n&lt;p class=&quot;MsoNormal&quot; style=&quot;margi
 n-left: .25in\; line-height: 115%\;&quot;&gt;&lt;strong&gt;UTAS\, Suhar&lt;/strong&gt;&lt;/p&gt;\n&lt;p
  class=&quot;MsoNormal&quot; style=&quot;margin-left: .25in\; line-height: 115%\;&quot;&gt;&lt;stron
 g&gt;&amp;nbsp\;&lt;/strong&gt;&lt;/p&gt;\n&lt;p&gt;&lt;strong&gt;&lt;span style=&quot;font-size: 12.0pt\; font-f
 amily: &#39;Aptos&#39;\,&#39;sans-serif&#39;\; mso-ascii-theme-font: minor-latin\; mso-far
 east-font-family: Aptos\; mso-fareast-theme-font: minor-latin\; mso-hansi-
 theme-font: minor-latin\; mso-bidi-font-family: Arial\; mso-bidi-theme-fon
 t: minor-bidi\; mso-ansi-language: EN-US\; mso-fareast-language: EN-US\; m
 so-bidi-language: AR-SA\;&quot;&gt;Refreshment&lt;/span&gt;&lt;/strong&gt;&lt;span style=&quot;font-si
 ze: 12.0pt\; font-family: &#39;Aptos&#39;\,&#39;sans-serif&#39;\; mso-ascii-theme-font: mi
 nor-latin\; mso-fareast-font-family: Aptos\; mso-fareast-theme-font: minor
 -latin\; mso-hansi-theme-font: minor-latin\; mso-bidi-font-family: Arial\;
  mso-bidi-theme-font: minor-bidi\; mso-ansi-language: EN-US\; mso-fareast-
 language: EN-US\; mso-bidi-language: AR-SA\;&quot;&gt; (12:30 PM - 1:30 PM)&lt;/span&gt;
 &lt;/p&gt;
END:VEVENT
END:VCALENDAR

