BEGIN:VCALENDAR
VERSION:2.0
PRODID:IEEE vTools.Events//EN
CALSCALE:GREGORIAN
BEGIN:VTIMEZONE
TZID:America/New_York
BEGIN:DAYLIGHT
DTSTART:20250309T030000
TZOFFSETFROM:-0500
TZOFFSETTO:-0400
RRULE:FREQ=YEARLY;BYDAY=2SU;BYMONTH=3
TZNAME:EDT
END:DAYLIGHT
BEGIN:STANDARD
DTSTART:20251102T010000
TZOFFSETFROM:-0400
TZOFFSETTO:-0500
RRULE:FREQ=YEARLY;BYDAY=1SU;BYMONTH=11
TZNAME:EST
END:STANDARD
END:VTIMEZONE
BEGIN:VEVENT
DTSTAMP:20250902T154821Z
UID:1F86020B-A1F2-49E4-8AC1-A887243CAA5B
DTSTART;TZID=America/New_York:20250616T090000
DTEND;TZID=America/New_York:20250618T143000
DESCRIPTION:Date : June 16-18\, 2025 -- Time 9:00 am - 2:30 pm\n\nVenue : Q
 ueen&#39;s University\n\nScope : This workshop provides a dynamic platform for
  exchanging ideas\, fostering collaborations\, and shaping the future of t
 elecommunications networks. This year’s theme focuses on interdisciplina
 ry innovations shaping the next generation of telecommunications. Key disc
 ussions will explore how AI\, quantum computing\, and other emerging techn
 ologies are transforming the field.\n\nFormat : WATR 2025 will follow a st
 ructured daily module format\, ensuring a balanced mix of talks and discus
 sions.\n\nRegistration : A registration fee is set at $200 for faculty and
  researchers\, and $100 for students.\n\nOrganizing Committee :\n* Honorar
 y Chair : Hossam Hassanein\, Queen&#39;s University\n* Workshop Chair : Abd-El
 hamid M. Taha\, Alfaisal University and Queen&#39;s University\n* Program Coch
 airs : Ahmed Refaey Hussein\, Guelph University and Ayman Radwan\, IST - U
 niversity of Lisbon\n* Local Arrangements Chair : Salimur Choudhury\, Quee
 n&#39;s University\n\nBldg: Walter Light Hall\, 19 Union Street\, Kingston\, O
 ntario\, Canada\, K7L 3N9
LOCATION:Bldg: Walter Light Hall\, 19 Union Street\, Kingston\, Ontario\, C
 anada\, K7L 3N9
ORGANIZER:sidney.givigi@queensu.ca
SEQUENCE:38
SUMMARY:Workshop on Advances in Telecommunications Research (WATR)
URL;VALUE=URI:https://events.vtools.ieee.org/m/484310
X-ALT-DESC:Description: &lt;br /&gt;&lt;p&gt;Date : June 16-18\, 2025 -- Time 9:00 am -
  2:30 pm&lt;/p&gt;\n&lt;p&gt;Venue : Queen&#39;s University&lt;/p&gt;\n&lt;p&gt;Scope : This workshop 
 provides a dynamic platform for exchanging ideas\, fostering collaboration
 s\, and shaping the future of telecommunications networks. This year&amp;rsquo
 \;s theme focuses on interdisciplinary innovations shaping the next genera
 tion of telecommunications. Key discussions will explore how AI\, quantum 
 computing\, and other emerging technologies are transforming the field.&lt;/p
 &gt;\n&lt;p&gt;Format : WATR 2025 will follow a structured daily module format\, en
 suring a balanced mix of talks and discussions.&lt;/p&gt;\n&lt;p&gt;Registration : A r
 egistration fee is set at $200 for faculty and researchers\, and $100 for 
 students.&lt;/p&gt;\n&lt;p&gt;Organizing Committee :&amp;nbsp\;&lt;br&gt;* Honorary Chair : Hoss
 am Hassanein\, Queen&#39;s University&lt;br&gt;* Workshop Chair : Abd-Elhamid M. Tah
 a\, Alfaisal University and Queen&#39;s University&lt;br&gt;* Program Cochairs : Ahm
 ed Refaey Hussein\, Guelph University and Ayman Radwan\, IST - University 
 of Lisbon&lt;br&gt;* Local Arrangements Chair : Salimur Choudhury\, Queen&#39;s Univ
 ersity&lt;/p&gt;
END:VEVENT
END:VCALENDAR

