BEGIN:VCALENDAR
VERSION:2.0
PRODID:IEEE vTools.Events//EN
CALSCALE:GREGORIAN
BEGIN:VTIMEZONE
TZID:America/Los_Angeles
BEGIN:DAYLIGHT
DTSTART:20250309T030000
TZOFFSETFROM:-0800
TZOFFSETTO:-0700
RRULE:FREQ=YEARLY;BYDAY=2SU;BYMONTH=3
TZNAME:PDT
END:DAYLIGHT
BEGIN:STANDARD
DTSTART:20251102T010000
TZOFFSETFROM:-0700
TZOFFSETTO:-0800
RRULE:FREQ=YEARLY;BYDAY=1SU;BYMONTH=11
TZNAME:PST
END:STANDARD
END:VTIMEZONE
BEGIN:VEVENT
DTSTAMP:20250529T214054Z
UID:6D904BEF-5452-448E-A6A8-70DAE08076E0
DTSTART;TZID=America/Los_Angeles:20250528T180000
DTEND;TZID=America/Los_Angeles:20250528T200000
DESCRIPTION:Sorry that the Social Dinner on May 7th is cancelled due to ema
 il notification delays. A new date has been set!\n\nA social dinner for ou
 r chapter is long due! I would like to meet all of you from our CTSoc Chap
 ter and discuss all the trends in Consumer Technologies and Consumer Elect
 ronics! If you are interested\, I would also like to share my experience a
 t the CES 2025 as well. If you have any suggestion for this chapter\, or y
 ou simply looking for a stranger to talk with for a night\, I will see you
  there!\n\nWe welcome everyone who is interested\, regardless of IEEE memb
 ership or professional status. If you are a student\, it is the perfect op
 portunity for you to network here.\n\nPlease join us at Pizza Taproom at 6
  PM on May 28 in La Jolla. Looking forward to seeing you!\n\nRoom: ste 127
 \, Bldg: The Pizza Taproom\, 8657 Villa La Jolla Dr\, La Jolla\, Californi
 a\, United States\, 92037
LOCATION:Room: ste 127\, Bldg: The Pizza Taproom\, 8657 Villa La Jolla Dr\,
  La Jolla\, California\, United States\, 92037
ORGANIZER:pujianhao@gmail.com
SEQUENCE:21
SUMMARY:CTSoc Social Dinner
URL;VALUE=URI:https://events.vtools.ieee.org/m/484326
X-ALT-DESC:Description: &lt;br /&gt;&lt;p&gt;Sorry that the Social Dinner on May 7th is
  cancelled due to email notification delays. A new date has been set!&lt;/p&gt;\
 n&lt;p&gt;A social dinner for our chapter is long due! I would like to meet all 
 of you from our CTSoc Chapter and discuss all the trends in Consumer Techn
 ologies and Consumer Electronics! If you are interested\, I would also lik
 e to share my experience at the CES 2025 as well. If you have any suggesti
 on for this chapter\, or you simply looking for a stranger to talk with fo
 r a night\, I will see you there!&amp;nbsp\;&lt;/p&gt;\n&lt;p&gt;We welcome everyone who i
 s interested\, regardless of IEEE membership or professional status. If yo
 u are a student\, it is the perfect opportunity for you to network here.&lt;/
 p&gt;\n&lt;p&gt;Please join us at Pizza Taproom at 6 PM on May 28 in La Jolla. Look
 ing forward to seeing you!&lt;/p&gt;\n&lt;p&gt;&amp;nbsp\;&lt;/p&gt;\n&lt;p&gt;&amp;nbsp\;&lt;/p&gt;\n&lt;p&gt;&amp;nbsp\;
 &lt;/p&gt;
END:VEVENT
END:VCALENDAR

