BEGIN:VCALENDAR
VERSION:2.0
PRODID:IEEE vTools.Events//EN
CALSCALE:GREGORIAN
BEGIN:VTIMEZONE
TZID:Africa/Nairobi
BEGIN:STANDARD
DTSTART:19420801T001500
TZOFFSETFROM:+0245
TZOFFSETTO:+0300
TZNAME:EAT
END:STANDARD
END:VTIMEZONE
BEGIN:VEVENT
DTSTAMP:20250515T202650Z
UID:4A160508-9228-4A42-AC8B-EF6D983A2B44
DTSTART;TZID=Africa/Nairobi:20250510T090000
DTEND;TZID=Africa/Nairobi:20250510T160000
DESCRIPTION:This program seeks to inspire and empower students through enga
 ging activities designed to promote STEM (Science\, Technology\, Engineeri
 ng\, and Mathematics) education\, leadership development\, and innovation.
  Our overarching objective is to provide the students with the skills\, kn
 owledge\, and resources necessary to unlock their potential\, nurture thei
 r creativity\, and contribute to their academic and personal growth.\n\nTh
 e planned activities for this initiative include interactive STEM workshop
 s and hands-on projects that aim to foster innovation and creativity among
  students. Leadership and empowerment sessions will be conducted to help b
 uild their confidence and strengthen decision-making skills. In addition\,
  mentorship talks led by our members will guide the students in exploring 
 career paths and personal development opportunities. We believe that Kapko
 iga Girls’ Secondary School is an ideal venue for this program\, given t
 heir commitment to academic excellence and potential to inspire students t
 o achieve even greater success.\n\nCo-sponsored by: GOOGLE DEVELOPER GROUP
 -MOI UNIVERSITY CHAPTER\,AFRICA YOUTH LEADERSHIP FORUM-MOI UNIVERSITY CHAP
 TER\,TECHNOLOGY STUDENT ASSOCIATION-MOI UNIVERSITY CHAPTER\,HUAWEI ACADEMY
 -MOI UNIVERSITY CHAPTER\n\nSpeaker(s): BEV\, DODDIE\, LIZ\, MARY\, MANU\, 
 NAOMY\n\nBldg: kapkoiga hall\, 2720\, ELDORET\, Rift Valley\, Kenya\, 3010
 0
LOCATION:Bldg: kapkoiga hall\, 2720\, ELDORET\, Rift Valley\, Kenya\, 30100
ORGANIZER:ieee.sbmoi@gmail.com
SEQUENCE:22
SUMMARY:EmpowerHer STEM: Igniting innovation and leadership at Kapkoiga Gir
 ls Secondary school
URL;VALUE=URI:https://events.vtools.ieee.org/m/484394
X-ALT-DESC:Description: &lt;br /&gt;&lt;p class=&quot;MsoNormal&quot;&gt;&lt;span style=&quot;font-family
 : &#39;Times New Roman&#39;\,serif\;&quot;&gt;This program seeks to inspire and empower&amp;nb
 sp\; students through engaging activities designed to promote STEM (Scienc
 e\, Technology\, Engineering\, and Mathematics) education\, leadership dev
 elopment\, and innovation. Our overarching objective is to provide the stu
 dents with the skills\, knowledge\, and resources necessary to unlock thei
 r potential\, nurture their creativity\, and contribute to their academic 
 and personal growth.&lt;span style=&quot;mso-spacerun: yes\;&quot;&gt;&amp;nbsp\; &lt;/span&gt;&lt;/spa
 n&gt;&lt;/p&gt;\n&lt;p class=&quot;MsoNormal&quot;&gt;&lt;span style=&quot;font-family: &#39;Times New Roman&#39;\,
 serif\;&quot;&gt;The planned activities for this initiative include interactive ST
 EM workshops and hands-on projects that aim to foster innovation and creat
 ivity among students. Leadership and empowerment sessions will be conducte
 d to help build their confidence and strengthen decision-making skills. In
  addition\, mentorship talks led by our members will guide the students in
  exploring career paths and personal development opportunities. We believe
  that Kapkoiga Girls&amp;rsquo\; Secondary School is an ideal venue for this p
 rogram\, given their commitment to academic excellence and potential to in
 spire students to achieve even greater success.&lt;/span&gt;&lt;/p&gt;
END:VEVENT
END:VCALENDAR

