BEGIN:VCALENDAR
VERSION:2.0
PRODID:IEEE vTools.Events//EN
CALSCALE:GREGORIAN
BEGIN:VTIMEZONE
TZID:America/New_York
BEGIN:DAYLIGHT
DTSTART:20260308T030000
TZOFFSETFROM:-0500
TZOFFSETTO:-0400
RRULE:FREQ=YEARLY;BYDAY=2SU;BYMONTH=3
TZNAME:EDT
END:DAYLIGHT
BEGIN:STANDARD
DTSTART:20251102T010000
TZOFFSETFROM:-0400
TZOFFSETTO:-0500
RRULE:FREQ=YEARLY;BYDAY=1SU;BYMONTH=11
TZNAME:EST
END:STANDARD
END:VTIMEZONE
BEGIN:VEVENT
DTSTAMP:20251109T212204Z
UID:6BF0097F-A25A-4ED4-B55F-3BF6516C0209
DTSTART;TZID=America/New_York:20251106T120000
DTEND;TZID=America/New_York:20251106T200000
DESCRIPTION:A wine cart sponsorship (limit 1) entitles you to one free tabl
 e with preferential placement\, logo inclusion on the symposium flyers and
  posters\, and 100 tickets for you to give out to attendees for a free gla
 ss of wine. (Wine cart opens at 6 PM.)\n\nHauppauge Radisson\, 110 Motor P
 arkway\, Hauppauge\, Long Island\, New York\, United States\, 11788
LOCATION:Hauppauge Radisson\, 110 Motor Parkway\, Hauppauge\, Long Island\,
  New York\, United States\, 11788
ORGANIZER:colotti@ieee.org
SEQUENCE:5
SUMMARY:Wine Cart Sponsor\, IEEE LI Power Symposium
URL;VALUE=URI:https://events.vtools.ieee.org/m/484543
X-ALT-DESC:Description: &lt;br /&gt;&lt;p&gt;A wine cart sponsorship (limit 1) entitles
  you to one free table with preferential placement\, logo inclusion on the
  symposium flyers and posters\, and 100 tickets for you to give out to att
 endees for a free glass of wine. (Wine cart opens at 6 PM.)&lt;/p&gt;
END:VEVENT
END:VCALENDAR

