BEGIN:VCALENDAR
VERSION:2.0
PRODID:IEEE vTools.Events//EN
CALSCALE:GREGORIAN
BEGIN:VTIMEZONE
TZID:America/New_York
BEGIN:DAYLIGHT
DTSTART:20260308T030000
TZOFFSETFROM:-0500
TZOFFSETTO:-0400
RRULE:FREQ=YEARLY;BYDAY=2SU;BYMONTH=3
TZNAME:EDT
END:DAYLIGHT
BEGIN:STANDARD
DTSTART:20251102T010000
TZOFFSETFROM:-0400
TZOFFSETTO:-0500
RRULE:FREQ=YEARLY;BYDAY=1SU;BYMONTH=11
TZNAME:EST
END:STANDARD
END:VTIMEZONE
BEGIN:VEVENT
DTSTAMP:20251109T212105Z
UID:B23DA3F7-30C3-4EC2-8C96-5D454098BC28
DTSTART;TZID=America/New_York:20251106T120000
DTEND;TZID=America/New_York:20251106T200000
DESCRIPTION:Upgrade includes:\n\n· Logo on the coffee break napkins\n\n· 
 Logo on symposium flyers &amp; posters\n\n· Table with preferential placement
 \n\nHauppauge Radisson\, 110 Motor Parkway\, Hauppauge\, Long Island\, New
  York\, United States\, 11788
LOCATION:Hauppauge Radisson\, 110 Motor Parkway\, Hauppauge\, Long Island\,
  New York\, United States\, 11788
ORGANIZER:colotti@ieee.org
SEQUENCE:5
SUMMARY:Coffee Break Sponsorship\, IEEE LI Power Symposium
URL;VALUE=URI:https://events.vtools.ieee.org/m/484548
X-ALT-DESC:Description: &lt;br /&gt;&lt;p&gt;&lt;span style=&quot;font-size: 18.0pt\;&quot;&gt;Upgrade 
 includes:&lt;/span&gt;&lt;/p&gt;\n&lt;p class=&quot;MsoListParagraph&quot; style=&quot;margin-left: .5in
 \; text-indent: -.25in\; mso-list: l0 level1 lfo1\; tab-stops: list .5in\;
 &quot;&gt;&lt;!-- [if !supportLists]--&gt;&lt;span style=&quot;font-size: 10.0pt\; mso-bidi-font
 -size: 12.0pt\; font-family: Symbol\; mso-fareast-font-family: Symbol\; ms
 o-bidi-font-family: Symbol\;&quot;&gt;&lt;span style=&quot;mso-list: Ignore\;&quot;&gt;&amp;middot\;&lt;s
 pan style=&quot;font: 7.0pt &#39;Times New Roman&#39;\;&quot;&gt;&amp;nbsp\;&amp;nbsp\;&amp;nbsp\;&amp;nbsp\;&amp;n
 bsp\;&amp;nbsp\;&amp;nbsp\;&amp;nbsp\; &lt;/span&gt;&lt;/span&gt;&lt;/span&gt;&lt;!--[endif]--&gt;&lt;span style=
 &quot;font-size: 18.0pt\;&quot;&gt;Logo on the coffee break napkins&lt;/span&gt;&lt;/p&gt;\n&lt;p clas
 s=&quot;MsoListParagraph&quot; style=&quot;margin-left: .5in\; text-indent: -.25in\; mso-
 list: l0 level1 lfo1\; tab-stops: list .5in\;&quot;&gt;&lt;!-- [if !supportLists]--&gt;&lt;
 span style=&quot;font-size: 10.0pt\; mso-bidi-font-size: 12.0pt\; font-family: 
 Symbol\; mso-fareast-font-family: Symbol\; mso-bidi-font-family: Symbol\;&quot;
 &gt;&lt;span style=&quot;mso-list: Ignore\;&quot;&gt;&amp;middot\;&lt;span style=&quot;font: 7.0pt &#39;Times
  New Roman&#39;\;&quot;&gt;&amp;nbsp\;&amp;nbsp\;&amp;nbsp\;&amp;nbsp\;&amp;nbsp\;&amp;nbsp\;&amp;nbsp\;&amp;nbsp\; &lt;/
 span&gt;&lt;/span&gt;&lt;/span&gt;&lt;!--[endif]--&gt;&lt;span style=&quot;font-size: 18.0pt\;&quot;&gt;Logo on
  symposium flyers &amp;amp\; posters&lt;/span&gt;&lt;/p&gt;\n&lt;p class=&quot;MsoListParagraph&quot; s
 tyle=&quot;margin-left: .5in\; text-indent: -.25in\; mso-list: l0 level1 lfo1\;
  tab-stops: list .5in\;&quot;&gt;&lt;!-- [if !supportLists]--&gt;&lt;span style=&quot;font-size:
  10.0pt\; mso-bidi-font-size: 12.0pt\; font-family: Symbol\; mso-fareast-f
 ont-family: Symbol\; mso-bidi-font-family: Symbol\;&quot;&gt;&lt;span style=&quot;mso-list
 : Ignore\;&quot;&gt;&amp;middot\;&lt;span style=&quot;font: 7.0pt &#39;Times New Roman&#39;\;&quot;&gt; &amp;nbsp\
 ;&amp;nbsp\;&amp;nbsp\;&amp;nbsp\;&amp;nbsp\;&amp;nbsp\;&amp;nbsp\; &lt;/span&gt;&lt;/span&gt;&lt;/span&gt;&lt;!--[endi
 f]--&gt;&lt;span style=&quot;font-size: 18.0pt\;&quot;&gt;Table with preferential placement&lt;/
 span&gt;&lt;/p&gt;
END:VEVENT
END:VCALENDAR

