BEGIN:VCALENDAR
VERSION:2.0
PRODID:IEEE vTools.Events//EN
CALSCALE:GREGORIAN
BEGIN:VTIMEZONE
TZID:America/New_York
BEGIN:DAYLIGHT
DTSTART:20250309T030000
TZOFFSETFROM:-0500
TZOFFSETTO:-0400
RRULE:FREQ=YEARLY;BYDAY=2SU;BYMONTH=3
TZNAME:EDT
END:DAYLIGHT
BEGIN:STANDARD
DTSTART:20251102T010000
TZOFFSETFROM:-0400
TZOFFSETTO:-0500
RRULE:FREQ=YEARLY;BYDAY=1SU;BYMONTH=11
TZNAME:EST
END:STANDARD
END:VTIMEZONE
BEGIN:VEVENT
DTSTAMP:20250518T233831Z
UID:C67DB22C-4951-4073-9CCE-1BA49C0426CA
DTSTART;TZID=America/New_York:20250515T160000
DTEND;TZID=America/New_York:20250515T173000
DESCRIPTION:The INRS Photonics Student Association is proud to host the Pos
 ter Presentation Session as a part of the Second Annual Meeting of the All
 iance Quantum Consortia on Quantum Enhanced Sensing and Imaging. We invite
  graduate students and researchers at INRS working in the field of quantum
  photonics to showcase their latest research and engage with leading acade
 mic experts from across Canada. This is an excellent opportunity to networ
 k\, receive feedback\, and highlight INRS’s growing contributions to the
  national quantum ecosystem.\n\nCo-sponsored by: OPTICA-SPIE Student Chapt
 er at INRS\, Alliance Quantum Consortia\n\nAgenda: \nThe Poster Session\n\
 n4:00 pm - 5:30 pm on May 15th\n\nThe entire event schedule:\n\nMay 15\n\n
 8:15 am: Depart from Montreal to INRS\n9:00 am: Coﬀee\, networking\, wel
 come words by Bob Boyd\n9:20 am: Boyd Group\n9:40 am: Sussman Group\n10:00
  am: Czischek Group\n10:20 am: Coffee break\n10:40 am: Leblanc Group\n11:0
 0 am: Morandotti Group\n11:20 am: Helmy Group\n11:40 am: Simon Group\n12:0
 0 pm: lunch and informal discussions\n1:20 am: Steinberg Group\n1:40 pm: N
 dagano Group\n2:00 pm: Karimi Group\n2:20 am: Coffee break\n2:40 pm: Commi
 ttee meeting with all the PIs and lab tours for students\n4:00 pm: Break a
 nd Poster session\n5:30 pm: Depart from INRS to Montreal\n7:00 pm: Dinner 
 (Location TBD)\n\nMay 16\n\n8:15 am: Depart from Montreal to INRS\n9:00 am
 : Coﬀee and networking\n9:30 am: Brainstorming session: opportunities fo
 r collaboration\n10:30 am: Coffee break\n11:00 am: Strategy session: Ident
 ifying potential for interdisciplinary research\n12:00 pm: lunch and infor
 mal discussions\n1:30 pm: Strategy session: reaching out to industry for j
 oint IP development\n3:00 pm: Walk through Montreal with the Student Chapt
 er\n7:00 pm Dinner (Location TBD)\n\nBldg: 2nd Floor\, 1650 Boulevard Lion
 el-Boulet\, Varennes\, Quebec\, Canada\, J3X 1P7
LOCATION:Bldg: 2nd Floor\, 1650 Boulevard Lionel-Boulet\, Varennes\, Quebec
 \, Canada\, J3X 1P7
ORGANIZER:association.photonique@inrs.ca
SEQUENCE:40
SUMMARY:INRS Poster Session | Alliance Quantum Consortia on Quantum Enhance
 d Sensing and Imaging
URL;VALUE=URI:https://events.vtools.ieee.org/m/484604
X-ALT-DESC:Description: &lt;br /&gt;&lt;p&gt;The INRS Photonics Student Association is 
 proud to host the &lt;strong data-start=&quot;327&quot; data-end=&quot;358&quot;&gt;Poster Presentat
 ion Session&lt;/strong&gt; as a part of the&amp;nbsp\;&lt;em data-start=&quot;374&quot; data-end=
 &quot;471&quot;&gt;Second Annual Meeting of the Alliance Quantum Consortia on Quantum E
 nhanced Sensing and Imaging&lt;/em&gt;. We invite graduate students and research
 ers at INRS working in the field of &lt;strong data-start=&quot;549&quot; data-end=&quot;570
 &quot;&gt;quantum photonics&lt;/strong&gt; to showcase their latest research and engage 
 with leading academic experts from across Canada. This is an excellent opp
 ortunity to network\, receive feedback\, and highlight INRS&amp;rsquo\;s growi
 ng contributions to the national quantum ecosystem.&lt;/p&gt;&lt;br /&gt;&lt;br /&gt;Agenda:
  &lt;br /&gt;&lt;p&gt;&lt;strong&gt;The Poster Session&lt;/strong&gt;&lt;/p&gt;\n&lt;p&gt;4:00 pm - 5:30 pm on
  May 15th&amp;nbsp\;&lt;/p&gt;\n&lt;p&gt;&lt;strong&gt;The entire event schedule:&amp;nbsp\;&lt;/strong
 &gt;&lt;/p&gt;\n&lt;p&gt;May 15&lt;/p&gt;\n&lt;p&gt;8:15 am: Depart from Montreal to INRS&lt;br&gt;9:00 am:
  Coﬀee\, networking\, welcome words by Bob Boyd&lt;br&gt;9:20 am: Boyd Group&lt;b
 r&gt;9:40 am: Sussman Group&lt;br&gt;10:00 am: Czischek Group&lt;br&gt;10:20 am: Coffee b
 reak&lt;br&gt;10:40 am: Leblanc Group&lt;br&gt;11:00 am: Morandotti Group&lt;br&gt;11:20 am:
  Helmy Group&lt;br&gt;11:40 am: Simon Group&lt;br&gt;12:00 pm: lunch and informal disc
 ussions&lt;br&gt;1:20 am: Steinberg Group&lt;br&gt;1:40 pm: Ndagano Group&lt;br&gt;2:00 pm: 
 Karimi Group&lt;br&gt;2:20 am: Coffee break&lt;br&gt;2:40 pm: Committee meeting with a
 ll the PIs and lab tours for students&lt;br&gt;4:00 pm: Break and Poster session
 &lt;br&gt;5:30 pm: Depart from INRS to Montreal&lt;br&gt;7:00 pm: Dinner (Location TBD
 )&lt;/p&gt;\n&lt;p&gt;May 16&lt;/p&gt;\n&lt;p&gt;8:15 am: Depart from Montreal to INRS&lt;br&gt;9:00 am:
  Coﬀee and networking&lt;br&gt;9:30 am: Brainstorming session: opportunities f
 or collaboration&lt;br&gt;10:30 am: Coffee break&lt;br&gt;11:00 am: Strategy session: 
 Identifying potential for interdisciplinary research&lt;br&gt;12:00 pm: lunch an
 d informal discussions&lt;br&gt;1:30 pm: Strategy session: reaching out to indus
 try for joint IP development&lt;br&gt;3:00 pm: Walk through Montreal with the St
 udent Chapter&lt;br&gt;7:00 pm Dinner (Location TBD)&lt;/p&gt;
END:VEVENT
END:VCALENDAR

