BEGIN:VCALENDAR
VERSION:2.0
PRODID:IEEE vTools.Events//EN
CALSCALE:GREGORIAN
BEGIN:VTIMEZONE
TZID:Europe/Warsaw
BEGIN:DAYLIGHT
DTSTART:20250330T030000
TZOFFSETFROM:+0100
TZOFFSETTO:+0200
RRULE:FREQ=YEARLY;BYDAY=-1SU;BYMONTH=3
TZNAME:CEST
END:DAYLIGHT
BEGIN:STANDARD
DTSTART:20251026T020000
TZOFFSETFROM:+0200
TZOFFSETTO:+0100
RRULE:FREQ=YEARLY;BYDAY=-1SU;BYMONTH=10
TZNAME:CET
END:STANDARD
END:VTIMEZONE
BEGIN:VEVENT
DTSTAMP:20250523T115748Z
UID:8761EEDA-81E0-490E-A6FA-3A78D569BF57
DTSTART;TZID=Europe/Warsaw:20250522T143000
DTEND;TZID=Europe/Warsaw:20250522T210000
DESCRIPTION:International Conference on Robotics and Automation is the most
  prestigious conference in the world sponsored by\n\nIEEE Robotics and Aut
 omation Society\n\nSatellite Conference Center organized at the Lodz Unive
 rsity of Technology (Poland) in the Design-4-All center (A7 building) offe
 rs joint participation in the first day of the Conference.\n\ndraft progra
 m (Warsaw Time):\n\n14:30 – 15:30 Opening Session\n15:55 – 17:05 Keyno
 te Session\n17:15 – 18:15 Keynote Session\n19:45 – 20:45 Plenary Sessi
 on - Prof. Raffaello (Raff) D’Andrea\, Models are dead\, long live model
 s!\n\nmore details: [IEEE ICRA 2025 | Plenary Sessions](https://2025.ieee-
 icra.org/program/plenary-sessions/)\n\nYou have to register for the event.
 \n\nInternational Conference on Robotics and Automation to najbardziej pre
 stiżowa konferencja na świecie sponsorowana przez IEEE Robotics and Auto
 mation Society.\n\nSatelitarne Centrum Konferencyjne\, zorganizowane na Po
 litechnice Łódzkiej (Polska) w centrum Design-4-All (budynek A7)\, umoż
 liwia wspólne uczestnictwo w pierwszym dniu konferencji.\n\nProgram (czas
  warszawski):\n\n-\n14:30 – 15:30 Sesja otwierająca\n\n-\n15:55 – 17:
 05 Sesja plenarna\n\n-\n17:15 – 18:15 Sesja plenarna\n\n-\n19:45 – 20:
 45 Sesja plenarna – Prof. Raffaello (Raff) D’Andrea\, Models are dead\
 , long live models!\n\nWięcej szczegółów: [IEEE ICRA 2025 | Plenary Se
 ssions](https://2025.ieee-icra.org/program/plenary-sessions/)\n\nAby wzią
 ć udział w wydarzeniu\, należy się zarejestrować.\n\nSpeaker(s): Raff
 aello (Raff) D’Andrea\n\nBldg: A7\, Wolczanska 177B\, Lodz\, Lodzkie\, P
 oland
LOCATION:Bldg: A7\, Wolczanska 177B\, Lodz\, Lodzkie\, Poland
ORGANIZER:granosik@p.lodz.pl
SEQUENCE:9
SUMMARY:ICRA 2025 Satellite Conference Center at Lodz University of Technol
 ogy\, Day 3
URL;VALUE=URI:https://events.vtools.ieee.org/m/484645
X-ALT-DESC:Description: &lt;br /&gt;&lt;p&gt;International Conference on Robotics and A
 utomation is the most prestigious conference in the world sponsored by&lt;/p&gt;
 \n&lt;p&gt;IEEE Robotics and Automation Society&lt;/p&gt;\n&lt;p&gt;Satellite Conference Cen
 ter organized at the &lt;strong&gt;Lodz University of Technology (Poland) in the
  Design-4-All center&lt;/strong&gt; (A7 building) offers joint participation in 
 the first day of the Conference.&lt;/p&gt;\n&lt;p&gt;draft program (Warsaw Time):&lt;/p&gt;\
 n&lt;p&gt;14:30 &amp;ndash\; 15:30 &amp;nbsp\;Opening Session&amp;nbsp\;&lt;br&gt;15:55 &amp;ndash\; 1
 7:05&amp;nbsp\; Keynote Session&amp;nbsp\;&lt;br&gt;17:15 &amp;ndash\; 18:15&amp;nbsp\; Keynote 
 Session&amp;nbsp\;&lt;br&gt;19:45 &amp;ndash\; 20:45&amp;nbsp\; Plenary Session - Prof. Raff
 aello (Raff) D&amp;rsquo\;Andrea\, Models are dead\, long live models!&lt;/p&gt;\n&lt;p
 &gt;more details: &lt;a href=&quot;https://2025.ieee-icra.org/program/plenary-session
 s/&quot;&gt;IEEE ICRA 2025 | Plenary Sessions&lt;/a&gt;&lt;/p&gt;\n&lt;p&gt;You have to register for
  the event.&lt;/p&gt;\n&lt;p&gt;&lt;strong&gt;International Conference on Robotics and Autom
 ation &lt;/strong&gt;to najbardziej prestiżowa konferencja na świecie sponsoro
 wana przez &lt;strong&gt;IEEE Robotics and Automation Society&lt;/strong&gt;.&lt;/p&gt;\n&lt;p&gt;
 Satelitarne Centrum Konferencyjne\, zorganizowane na &lt;strong&gt;Politechnice 
 Ł&amp;oacute\;dzkiej&lt;/strong&gt; (Polska) w centrum &lt;strong&gt;Design-4-All&lt;/strong
 &gt; (budynek A7)\, umożliwia wsp&amp;oacute\;lne uczestnictwo w pierwszym dniu 
 konferencji.&lt;/p&gt;\n&lt;p&gt;&lt;strong&gt;Program (czas warszawski):&lt;/strong&gt;&lt;/p&gt;\n&lt;ul&gt;
 \n&lt;li&gt;\n&lt;p&gt;&lt;strong&gt;14:30 &amp;ndash\; 15:30 Sesja otwierająca&lt;/strong&gt;&lt;/p&gt;\n&lt;
 /li&gt;\n&lt;li&gt;\n&lt;p&gt;&lt;strong&gt;15:55 &amp;ndash\; 17:05 Sesja plenarna&lt;/strong&gt;&lt;/p&gt;\n&lt;
 /li&gt;\n&lt;li&gt;\n&lt;p&gt;17:15 &amp;ndash\; 18:15 &lt;strong&gt;Sesja plenarna&lt;/strong&gt;&lt;/p&gt;\n&lt;
 /li&gt;\n&lt;li&gt;\n&lt;p&gt;19:45 &amp;ndash\; 20:45 &lt;strong&gt;Sesja plenarna &amp;ndash\;&amp;nbsp\;
 Prof. Raffaello (Raff) D&amp;rsquo\;Andrea\, Models are dead\, long live model
 s!&lt;/strong&gt;&lt;/p&gt;\n&lt;/li&gt;\n&lt;/ul&gt;\n&lt;p&gt;Więcej szczeg&amp;oacute\;ł&amp;oacute\;w:&amp;nbs
 p\;&lt;a href=&quot;https://2025.ieee-icra.org/program/plenary-sessions/&quot;&gt;IEEE ICR
 A 2025 | Plenary Sessions&lt;/a&gt;&lt;/p&gt;\n&lt;p&gt;Aby wziąć udział w wydarzeniu\, &lt;
 strong&gt;należy się zarejestrować&lt;/strong&gt;.&lt;/p&gt;
END:VEVENT
END:VCALENDAR

