BEGIN:VCALENDAR
VERSION:2.0
PRODID:IEEE vTools.Events//EN
CALSCALE:GREGORIAN
BEGIN:VTIMEZONE
TZID:Asia/Kolkata
BEGIN:STANDARD
DTSTART:19451014T230000
TZOFFSETFROM:+0630
TZOFFSETTO:+0530
TZNAME:IST
END:STANDARD
END:VTIMEZONE
BEGIN:VEVENT
DTSTAMP:20250614T053820Z
UID:1DD0C68D-4E33-48FF-A863-CF898F2EEFF8
DTSTART;TZID=Asia/Kolkata:20250602T090000
DTEND;TZID=Asia/Kolkata:20250603T180700
DESCRIPTION:IEEE International Symposium on 6G Mobile Wireless Communicatio
 n\n📅 2nd – 3rd June 2025\n📍 Indian Institute of Technology (IIT) P
 atna\n\nWe are delighted to invite you to the IEEE International Symposium
  on 6G Mobile Wireless Communication\, scheduled to be held on 2nd and 3rd
  June 2025 at the Indian Institute of Technology (IIT) Patna).\n\nThis fla
 gship event will bring together leading experts\, innovators\, and practit
 ioners from across academia\, industry\, and government to explore cutting
 -edge advances in 6G technologies.\n\n🔧 Special Highlight: Hands-on Wor
 kshops\nParticipants are especially encouraged to register early for the s
 cheduled Hands-on Workshops\, which will provide practical insights and re
 al-time experience on emerging areas such as:\n\n-\nTerahertz Communicatio
 n Systems\n\n-\nIntelligent Reflecting Surfaces (IRS)\n\n-\nOAM-based 6G L
 ink Design\n\n-\nAdvanced Simulation Tools for 6G Networks\n\nThese worksh
 ops are designed for limited participants to ensure optimal learning and i
 nteraction—slots will be allotted on a first-come\, first-served basis.\
 n\nIIT Patna\, Bihar\, India\, 801106
LOCATION:IIT Patna\, Bihar\, India\, 801106
ORGANIZER:amitkumarcareiitd@gmail.com
SEQUENCE:8
SUMMARY:IEEE International Symposium on 6G Mobile Wireless Communication\, 
 Technology Workshop Sereis
URL;VALUE=URI:https://events.vtools.ieee.org/m/484667
X-ALT-DESC:Description: &lt;br /&gt;&lt;p data-start=&quot;63&quot; data-end=&quot;227&quot;&gt;&lt;strong dat
 a-start=&quot;82&quot; data-end=&quot;150&quot;&gt;IEEE International Symposium on 6G Mobile Wire
 less Communication&lt;/strong&gt;&lt;br data-start=&quot;150&quot; data-end=&quot;153&quot;&gt;📅 &lt;em da
 ta-start=&quot;156&quot; data-end=&quot;177&quot;&gt;2nd &amp;ndash\; 3rd June 2025&lt;/em&gt;&lt;br data-star
 t=&quot;177&quot; data-end=&quot;180&quot;&gt;📍 &lt;em data-start=&quot;183&quot; data-end=&quot;227&quot;&gt;Indian Ins
 titute of Technology (IIT) Patna&lt;/em&gt;&lt;/p&gt;\n&lt;p data-start=&quot;286&quot; data-end=&quot;4
 99&quot;&gt;We are delighted to invite you to the &lt;strong data-start=&quot;324&quot; data-en
 d=&quot;392&quot;&gt;IEEE International Symposium on 6G Mobile Wireless Communication&lt;/
 strong&gt;\, scheduled to be held on &lt;strong data-start=&quot;418&quot; data-end=&quot;443&quot;&gt;
 2nd and 3rd June 2025&lt;/strong&gt; at the &lt;strong data-start=&quot;451&quot; data-end=&quot;4
 98&quot;&gt;Indian Institute of Technology (IIT) Patna)&lt;/strong&gt;.&lt;/p&gt;\n&lt;p data-sta
 rt=&quot;501&quot; data-end=&quot;687&quot;&gt;This flagship event will bring together leading ex
 perts\, innovators\, and practitioners from across academia\, industry\, a
 nd government to explore cutting-edge advances in 6G technologies.&lt;/p&gt;\n&lt;p
  data-start=&quot;689&quot; data-end=&quot;928&quot;&gt;🔧 &lt;strong data-start=&quot;692&quot; data-end=&quot;7
 33&quot;&gt;Special Highlight: Hands-on Workshops&lt;/strong&gt;&lt;br data-start=&quot;733&quot; dat
 a-end=&quot;736&quot;&gt;Participants are especially encouraged to &lt;strong data-start=&quot;
 778&quot; data-end=&quot;833&quot;&gt;register early for the scheduled Hands-on Workshops&lt;/s
 trong&gt;\, which will provide &lt;strong data-start=&quot;854&quot; data-end=&quot;901&quot;&gt;practi
 cal insights and real-time experience&lt;/strong&gt; on emerging areas such as:&lt;
 /p&gt;\n&lt;ul data-start=&quot;930&quot; data-end=&quot;1090&quot;&gt;\n&lt;li data-start=&quot;930&quot; data-end=
 &quot;967&quot;&gt;\n&lt;p data-start=&quot;932&quot; data-end=&quot;967&quot;&gt;&lt;strong data-start=&quot;932&quot; data-e
 nd=&quot;967&quot;&gt;Terahertz Communication Systems&lt;/strong&gt;&lt;/p&gt;\n&lt;/li&gt;\n&lt;li data-sta
 rt=&quot;968&quot; data-end=&quot;1011&quot;&gt;\n&lt;p data-start=&quot;970&quot; data-end=&quot;1011&quot;&gt;&lt;strong dat
 a-start=&quot;970&quot; data-end=&quot;1011&quot;&gt;Intelligent Reflecting Surfaces (IRS)&lt;/stron
 g&gt;&lt;/p&gt;\n&lt;/li&gt;\n&lt;li data-start=&quot;1012&quot; data-end=&quot;1042&quot;&gt;\n&lt;p data-start=&quot;1014
 &quot; data-end=&quot;1042&quot;&gt;&lt;strong data-start=&quot;1014&quot; data-end=&quot;1042&quot;&gt;OAM-based 6G L
 ink Design&lt;/strong&gt;&lt;/p&gt;\n&lt;/li&gt;\n&lt;li data-start=&quot;1043&quot; data-end=&quot;1090&quot;&gt;\n&lt;p
  data-start=&quot;1045&quot; data-end=&quot;1090&quot;&gt;&lt;strong data-start=&quot;1045&quot; data-end=&quot;109
 0&quot;&gt;Advanced Simulation Tools for 6G Networks&lt;/strong&gt;&lt;/p&gt;\n&lt;/li&gt;\n&lt;/ul&gt;\n&lt;
 p data-start=&quot;1092&quot; data-end=&quot;1256&quot;&gt;These workshops are designed for &lt;stro
 ng data-start=&quot;1125&quot; data-end=&quot;1149&quot;&gt;limited participants&lt;/strong&gt; to ensu
 re optimal learning and interaction&amp;mdash\;&lt;strong data-start=&quot;1193&quot; data-
 end=&quot;1256&quot;&gt;slots will be allotted on a first-come\, first-served basis.&lt;/s
 trong&gt;&lt;/p&gt;
END:VEVENT
END:VCALENDAR

