BEGIN:VCALENDAR
VERSION:2.0
PRODID:IEEE vTools.Events//EN
CALSCALE:GREGORIAN
BEGIN:VTIMEZONE
TZID:America/New_York
BEGIN:DAYLIGHT
DTSTART:20250309T030000
TZOFFSETFROM:-0500
TZOFFSETTO:-0400
RRULE:FREQ=YEARLY;BYDAY=2SU;BYMONTH=3
TZNAME:EDT
END:DAYLIGHT
BEGIN:STANDARD
DTSTART:20251102T010000
TZOFFSETFROM:-0400
TZOFFSETTO:-0500
RRULE:FREQ=YEARLY;BYDAY=1SU;BYMONTH=11
TZNAME:EST
END:STANDARD
END:VTIMEZONE
BEGIN:VEVENT
DTSTAMP:20250604T100721Z
UID:4CEC8CB9-28E5-41A8-8F1D-5BEA2C8AABF8
DTSTART;TZID=America/New_York:20250603T163000
DTEND;TZID=America/New_York:20250603T173000
DESCRIPTION:Since 2014\, Skip Crilly has been a volunteer engineer at the G
 reen Bank Observatory\, where the world&#39;s largest fully steerable radio te
 lescope (100 meters in diameter) is located. Skip has worked with leading 
 researchers in the radio search for extraterrestrial intelligence (SETI) f
 ield\, for six decades. He will present a short history of SETI\, show the
  results of his SETI experimental work since 2017\, and answer questions.\
 n\nAgenda: \n4:15 PM - Registration\n\n4:30 PM - The presentation will be 
 livestreamed.\n\nRoom: Classroom\, The Baldwin\, 50 Woodmont Avenue\, Lond
 onderry\, New Hampshire\, United States\, 03053\, Virtual: https://events.
 vtools.ieee.org/m/484848
LOCATION:Room: Classroom\, The Baldwin\, 50 Woodmont Avenue\, Londonderry\,
  New Hampshire\, United States\, 03053\, Virtual: https://events.vtools.ie
 ee.org/m/484848
ORGANIZER:schechter@computer.org
SEQUENCE:14
SUMMARY:The Search for Extraterrestrial Intelligence - a short history and 
 a recent experiment
URL;VALUE=URI:https://events.vtools.ieee.org/m/484848
X-ALT-DESC:Description: &lt;br /&gt;&lt;div class=&quot;gmail_default&quot;&gt;Since 2014\, Skip 
 Crilly has been a volunteer engineer at the Green Bank Observatory\, where
  the world&#39;s largest fully steerable radio telescope (100 meters in diamet
 er) is located. Skip has worked with leading researchers in the radio sear
 ch for extraterrestrial intelligence (SETI) field\, for six decades. He wi
 ll present a short history of SETI\, show the results of his SETI experime
 ntal work since 2017\, and answer questions.&lt;/div&gt;&lt;br /&gt;&lt;br /&gt;Agenda: &lt;br 
 /&gt;&lt;p&gt;4:15 PM - Registration&lt;/p&gt;\n&lt;p&gt;4:30 PM - The presentation will be liv
 estreamed.&lt;/p&gt;\n&lt;p&gt;&amp;nbsp\;&lt;/p&gt;\n&lt;p&gt;&amp;nbsp\;&lt;/p&gt;
END:VEVENT
END:VCALENDAR

