BEGIN:VCALENDAR
VERSION:2.0
PRODID:IEEE vTools.Events//EN
CALSCALE:GREGORIAN
BEGIN:VTIMEZONE
TZID:America/New_York
BEGIN:DAYLIGHT
DTSTART:20250309T030000
TZOFFSETFROM:-0500
TZOFFSETTO:-0400
RRULE:FREQ=YEARLY;BYDAY=2SU;BYMONTH=3
TZNAME:EDT
END:DAYLIGHT
BEGIN:STANDARD
DTSTART:20251102T010000
TZOFFSETFROM:-0400
TZOFFSETTO:-0500
RRULE:FREQ=YEARLY;BYDAY=1SU;BYMONTH=11
TZNAME:EST
END:STANDARD
END:VTIMEZONE
BEGIN:VEVENT
DTSTAMP:20250625T165802Z
UID:02081C0B-5954-4BED-9B97-421B4A7BB5DA
DTSTART;TZID=America/New_York:20250519T100000
DTEND;TZID=America/New_York:20250519T110000
DESCRIPTION:The IEEE Montreal Circuits and Systems Chapter invites you to a
 ttend a seminar on Neuromorphic Computing given by Abhronil Sengupta\, Sch
 ool of Electrical Engineering and Computer Science\, Penn State University
 .\n\nPlease fill out the registration form below to receive the event link
 :\n\nhttps://elegua.aidaform.com/resmiq-s-minaire-19-mai-2025\n\nCo-sponso
 red by: Prof. M. Omair Ahmad\n\nSpeaker(s): Abhronil Sengupta\, \n\nRoom: 
  salle B-1502\, Bldg: pavillon B\, École de technologie supérieure\, Mon
 treal\, Quebec\, Canada
LOCATION:Room:  salle B-1502\, Bldg: pavillon B\, École de technologie sup
 érieure\, Montreal\, Quebec\, Canada
ORGANIZER:omair@ece.concordia.ca
SEQUENCE:25
SUMMARY:- Neuromorphic Computing: Bridging the gap between Nanoelectronics\
 , Neuroscience\, and Machine Learning
URL;VALUE=URI:https://events.vtools.ieee.org/m/485066
X-ALT-DESC:Description: &lt;br /&gt;&lt;p&gt;The IEEE Montreal Circuits and Systems Cha
 pter invites you to attend a seminar on Neuromorphic Computing given by Ab
 hronil Sengupta\, School of Electrical Engineering and Computer Science\, 
 Penn State University.&lt;/p&gt;\n&lt;p&gt;Please fill out the registration form below
  to receive the event link:&amp;nbsp\;&lt;/p&gt;\n&lt;p&gt;&lt;a href=&quot;https://elegua.aidafor
 m.com/resmiq-s-minaire-19-mai-2025&quot;&gt;https://elegua.aidaform.com/resmiq-s-m
 inaire-19-mai-2025&lt;/a&gt;&lt;/p&gt;\n&lt;p&gt;&amp;nbsp\;&lt;/p&gt;
END:VEVENT
END:VCALENDAR

