BEGIN:VCALENDAR
VERSION:2.0
PRODID:IEEE vTools.Events//EN
CALSCALE:GREGORIAN
BEGIN:VTIMEZONE
TZID:Asia/Kolkata
BEGIN:STANDARD
DTSTART:19451014T230000
TZOFFSETFROM:+0630
TZOFFSETTO:+0530
TZNAME:IST
END:STANDARD
END:VTIMEZONE
BEGIN:VEVENT
DTSTAMP:20171116T142912Z
UID:3443F53F-CADA-11E7-A02F-0050568D7F66
DTSTART;TZID=Asia/Kolkata:20171117T150000
DTEND;TZID=Asia/Kolkata:20171117T173000
DESCRIPTION:Lecture on Harnessing space technology for earth applications b
 y Kumar Krishen\n\nCo-sponsored by: LDCE\, Ahmedabad \n\nSpeaker(s): \, \,
  \, \n\nAgenda: \n15:00 welcome\n\n15:10 Introduction to speaker and about
  IEEE\n\n15:20 to 16:30 Lecture by Dr Kumar Krishen\n\n16:30 Felicitaion a
 nd vote of thanks\n\nBldg: Aryabhatt Hall \, L D College of Engineering \,
  Navrangpura\, Ahmedabad\, Gujarat\, India\, 380009
LOCATION:Bldg: Aryabhatt Hall \, L D College of Engineering \, Navrangpura\
 , Ahmedabad\, Gujarat\, India\, 380009
ORGANIZER:shivmohan.isro@gmail.com
SEQUENCE:1
SUMMARY:Expert Lecture
URL;VALUE=URI:https://events.vtools.ieee.org/m/48515
X-ALT-DESC:Description: &lt;br /&gt;&lt;p&gt;Lecture on Harnessing space technology for
  earth applications by Kumar Krishen&amp;nbsp\;&lt;/p&gt;&lt;br /&gt;&lt;br /&gt;Agenda: &lt;br /&gt;&lt;
 p&gt;15:00 welcome&lt;/p&gt;\n&lt;p&gt;15:10 Introduction to speaker and about IEEE&lt;/p&gt;\n
 &lt;p&gt;15:20 to 16:30 Lecture by Dr Kumar Krishen&lt;/p&gt;\n&lt;p&gt;16:30 Felicitaion an
 d vote of thanks&amp;nbsp\;&lt;/p&gt;
END:VEVENT
END:VCALENDAR

