BEGIN:VCALENDAR
VERSION:2.0
PRODID:IEEE vTools.Events//EN
CALSCALE:GREGORIAN
BEGIN:VTIMEZONE
TZID:Asia/Kolkata
BEGIN:STANDARD
DTSTART:19451014T230000
TZOFFSETFROM:+0630
TZOFFSETTO:+0530
TZNAME:IST
END:STANDARD
END:VTIMEZONE
BEGIN:VEVENT
DTSTAMP:20251126T085327Z
UID:F04CA989-6B16-4BCF-9490-4283A008B463
DTSTART;TZID=Asia/Kolkata:20250520T100000
DTEND;TZID=Asia/Kolkata:20250720T164800
DESCRIPTION:VIT-AP Summer Research Internship (V-SRI) 2025.\n\nVIT-AP Unive
 rsity Summer Research Internship Program (VSRI-2025)\n\nSchool of Electron
 ics Engineering\, VIT-AP University invited for Summer Research Internship
  2025. This internship program aims at introducing undergraduate and postg
 raduate students to research to enthuse them\, and to get them interested 
 in a career in teaching and research.\n\n[Application Link](https://iith.a
 c.in/research/SURE/)\n\nhttps://events.vitap.ac.in/e/vit-ap-university-sum
 mer-research-internship-program-vsri-2025-13237f21-9ab9-4b23-88ed-61934761
 f092\n\nDr.Bappadittya Roy\n\nPh:9903756378\n\nCo-sponsored by: Bappaditty
 a Roy\n\nVIT-AP University\, Inavolu Amaravati Mandal\, Amaravati\, Andhra
  Pradesh\, India\, 522241
LOCATION:VIT-AP University\, Inavolu Amaravati Mandal\, Amaravati\, Andhra 
 Pradesh\, India\, 522241
ORGANIZER:yogendra.22bec7324@vitapstudent.ac.in 
SEQUENCE:9
SUMMARY:VIT-AP Summer research Internship (V-SRI) 2025
URL;VALUE=URI:https://events.vtools.ieee.org/m/485433
X-ALT-DESC:Description: &lt;br /&gt;&lt;p&gt;&lt;strong&gt;&amp;nbsp\; &amp;nbsp\; &amp;nbsp\; &amp;nbsp\; &amp;n
 bsp\; &amp;nbsp\; &amp;nbsp\; &amp;nbsp\; &amp;nbsp\; &amp;nbsp\; &amp;nbsp\; &amp;nbsp\; &amp;nbsp\; &amp;nbs
 p\; &amp;nbsp\; &amp;nbsp\; &amp;nbsp\; &amp;nbsp\; &amp;nbsp\; &amp;nbsp\; &amp;nbsp\; &amp;nbsp\; &amp;nbsp\
 ; &amp;nbsp\; &amp;nbsp\; &amp;nbsp\;VIT-AP Summer Research Internship (V-SRI) 2025.&lt;/
 strong&gt;&lt;/p&gt;\n&lt;p class=&quot;MsoNormal&quot;&gt;&lt;span style=&quot;font-size: 14.0pt\; mso-bid
 i-font-size: 11.0pt\; line-height: 107%\;&quot;&gt;&lt;span style=&quot;mso-spacerun: yes\
 ;&quot;&gt;&amp;nbsp\;&amp;nbsp\;&amp;nbsp\;&amp;nbsp\;&amp;nbsp\;&amp;nbsp\;&amp;nbsp\;&amp;nbsp\;&amp;nbsp\;&amp;nbsp\;&amp;
 nbsp\;&amp;nbsp\;&amp;nbsp\;&amp;nbsp\;&amp;nbsp\;&amp;nbsp\;&amp;nbsp\; &lt;/span&gt;VIT-AP University 
 Summer Research Internship Program (VSRI-2025)&lt;/span&gt;&lt;/p&gt;\n&lt;p class=&quot;MsoNo
 rmal&quot; style=&quot;text-align: justify\;&quot;&gt;&lt;span style=&quot;font-family: &#39;Verdana&#39;\,s
 ans-serif\; mso-bidi-font-family: Arial\;&quot;&gt;School of Electronics Engineeri
 ng\, VIT-AP University &lt;/span&gt;&lt;span style=&quot;font-family: &#39;Verdana&#39;\,sans-se
 rif\; mso-fareast-font-family: &#39;Times New Roman&#39;\; mso-bidi-font-family: A
 rial\;&quot;&gt;invited for Summer Research Internship 2025.&lt;/span&gt;&lt;span style=&quot;fo
 nt-family: &#39;Verdana&#39;\,sans-serif\;&quot;&gt; This internship program aims at intro
 ducing undergraduate and postgraduate students to research to enthuse them
 \, and to get them interested in a career in teaching and research.&amp;nbsp\;
 &lt;/span&gt;&lt;/p&gt;\n&lt;p style=&quot;text-align: justify\; background: white\; margin: 0
 in -9.0pt 7.9pt 0in\;&quot;&gt;&amp;nbsp\;&lt;/p&gt;\n&lt;h4 style=&quot;margin-top: 0in\; backgroun
 d: white\;&quot;&gt;&lt;a href=&quot;https://iith.ac.in/research/SURE/&quot; target=&quot;_blank&quot; re
 l=&quot;noopener&quot;&gt;&lt;strong&gt;&lt;span style=&quot;font-family: &#39;Arial&#39;\,sans-serif\; color
 : #9d0000\;&quot;&gt;Application Link&lt;/span&gt;&lt;/strong&gt;&lt;/a&gt;&lt;/h4&gt;\n&lt;p class=&quot;MsoNorma
 l&quot; style=&quot;text-align: justify\;&quot;&gt;&lt;span style=&quot;font-family: &#39;Verdana&#39;\,sans
 -serif\;&quot;&gt;&lt;span style=&quot;font-size: 11.0pt\; line-height: 107%\; font-family
 : &#39;Calibri&#39;\,sans-serif\; mso-ascii-theme-font: minor-latin\; mso-fareast-
 font-family: Calibri\; mso-fareast-theme-font: minor-latin\; mso-hansi-the
 me-font: minor-latin\; mso-bidi-font-family: &#39;Times New Roman&#39;\; mso-bidi-
 theme-font: minor-bidi\; mso-ansi-language: EN-US\; mso-fareast-language: 
 EN-US\; mso-bidi-language: AR-SA\;&quot;&gt;&lt;a href=&quot;https://events.vitap.ac.in/e/
 vit-ap-university-summer-research-internship-program-vsri-2025-13237f21-9a
 b9-4b23-88ed-61934761f092&quot; target=&quot;_blank&quot; rel=&quot;noopener&quot;&gt;&lt;span style=&quot;fon
 t-family: &#39;Arial&#39;\,sans-serif\; mso-fareast-font-family: &#39;Times New Roman&#39;
 \; mso-fareast-theme-font: major-fareast\; color: #1155cc\; background: wh
 ite\;&quot;&gt;https://events.vitap.ac.in/e/vit-ap-university-summer-research-inte
 rnship-program-vsri-2025-13237f21-9ab9-4b23-88ed-61934761f092&lt;/span&gt;&lt;/a&gt;&lt;/
 span&gt;&lt;/span&gt;&lt;/p&gt;\n&lt;p style=&quot;text-align: justify\; background: white\; marg
 in: 0in -9.0pt 7.9pt 0in\;&quot;&gt;&lt;span style=&quot;font-family: &#39;Arial&#39;\,sans-serif\
 ; color: #111111\;&quot;&gt;Dr.Bappadittya Roy &lt;/span&gt;&lt;/p&gt;\n&lt;p style=&quot;text-align: 
 justify\; background: white\; margin: 0in -9.0pt 7.9pt 0in\;&quot;&gt;&lt;span style=
 &quot;font-family: &#39;Arial&#39;\,sans-serif\; color: #111111\;&quot;&gt;Ph:9903756378&lt;/span&gt;
 &lt;/p&gt;
END:VEVENT
END:VCALENDAR

