BEGIN:VCALENDAR
VERSION:2.0
PRODID:IEEE vTools.Events//EN
CALSCALE:GREGORIAN
BEGIN:VTIMEZONE
TZID:America/New_York
BEGIN:DAYLIGHT
DTSTART:20250309T030000
TZOFFSETFROM:-0500
TZOFFSETTO:-0400
RRULE:FREQ=YEARLY;BYDAY=2SU;BYMONTH=3
TZNAME:EDT
END:DAYLIGHT
BEGIN:STANDARD
DTSTART:20251102T010000
TZOFFSETFROM:-0400
TZOFFSETTO:-0500
RRULE:FREQ=YEARLY;BYDAY=1SU;BYMONTH=11
TZNAME:EST
END:STANDARD
END:VTIMEZONE
BEGIN:VEVENT
DTSTAMP:20250824T161258Z
UID:2A488AC9-027D-4A6E-8E16-812E8E3327EA
DTSTART;TZID=America/New_York:20250823T110000
DTEND;TZID=America/New_York:20250823T140000
DESCRIPTION:LVS IEEE 4th annual Picnic and Awards Ceremony.\n\nAugust 23\, 
 2025 - 11am to 2:00pm\n\nEmmaus Community Park 1356 Shimerville Rd\, Emmau
 s PA @ Lions Pavilion.\n\nChildren’s playground\, access to the communit
 y pool (fee)\, American BBQ\, Vegan\, Soda\, Water\, Sides\, Dessert.\n\nA
 dult: $20\, Student $15\, Child $10 (5 years or under Free)\n\nEat for fre
 e: Register and Bring a new member to join IEEE\, and both of you get a fu
 ll picnic refund!\n\nLast Day to Register and Last Day to Cancel (full ref
 und)\n\nAug 8\, 2025\n\nSpace is limited\, so sign up early!\n\nRain or Sh
 ine Event\n\nRegister via the vTools registration link.\n\nMake check paya
 ble to IEEE LVS\, together with: names\, type of ticket (Adult\, Student\,
  Child) and menu option (Vegetarian or BBQ) for each guest\, and your emai
 l for confirmation.\n\nMail to: George Beam\, 6449 Ventura Drive\, Slating
 ton\, PA 18080\n\nMore Information: gebeam@pplweb.com\n\nAgenda: \n[][Pavi
 lion Map]\n\nBldg: Lions Pavilion\, 1356 Shimerville Rd\, Emmaus\, Pennsyl
 vania\, United States
LOCATION:Bldg: Lions Pavilion\, 1356 Shimerville Rd\, Emmaus\, Pennsylvania
 \, United States
ORGANIZER:gebeam@pplweb.com
SEQUENCE:36
SUMMARY:IEEE Lehigh Valley Section 4th Annual Picnic and Awards Ceremony
URL;VALUE=URI:https://events.vtools.ieee.org/m/485448
X-ALT-DESC:Description: &lt;br /&gt;&lt;p&gt;LVS IEEE 4th annual Picnic and Awards Cere
 mony.&lt;/p&gt;\n&lt;p&gt;August 23\, 2025 - 11am to 2:00pm&lt;/p&gt;\n&lt;p&gt;Emmaus Community P
 ark 1356 Shimerville Rd\, Emmaus PA @ Lions Pavilion.&lt;/p&gt;\n&lt;p&gt;Children&amp;rsq
 uo\;s playground\, access to the community pool (fee)\, American BBQ\, Veg
 an\, Soda\, Water\, Sides\, Dessert.&lt;/p&gt;\n&lt;p&gt;Adult: $20\, Student $15\, Ch
 ild $10 (5 years or under Free)&lt;/p&gt;\n&lt;p&gt;&lt;strong&gt;Eat for free:&lt;/strong&gt;&lt;spa
 n style=&quot;font-weight: normal !msorm\;&quot;&gt;&lt;strong&gt; &lt;/strong&gt;&lt;/span&gt;&lt;strong&gt;Re
 gister and &lt;span style=&quot;font-weight: normal !msorm\;&quot;&gt;Bring a new member&lt;/
 span&gt;&lt;span style=&quot;font-weight: normal !msorm\;&quot;&gt; to join IEEE\,&lt;/span&gt;&lt;/st
 rong&gt;&lt;span style=&quot;font-weight: normal !msorm\;&quot;&gt;&lt;strong&gt; and &lt;/strong&gt;&lt;/sp
 an&gt;&lt;span style=&quot;font-weight: normal !msorm\;&quot;&gt;&lt;strong&gt;both of you get &lt;/st
 rong&gt;&lt;/span&gt;&lt;span style=&quot;font-weight: normal !msorm\;&quot;&gt;&lt;strong&gt;a full picn
 ic refund&lt;/strong&gt;&lt;/span&gt;&lt;span style=&quot;font-weight: normal !msorm\;&quot;&gt;&lt;stron
 g&gt;!&lt;/strong&gt;&lt;/span&gt;&lt;/p&gt;\n&lt;p&gt;&amp;nbsp\;&lt;/p&gt;\n&lt;p&gt;Last Day to Register and Last 
 Day to Cancel (full refund)&lt;/p&gt;\n&lt;p&gt;Aug 8\, 2025&lt;/p&gt;\n&lt;p&gt;Space is limited\
 , so sign up early!&lt;/p&gt;\n&lt;p&gt;Rain or Shine Event&lt;/p&gt;\n&lt;p&gt;&amp;nbsp\;&lt;/p&gt;\n&lt;p&gt;Re
 gister via the vTools registration link.&amp;nbsp\;&lt;/p&gt;\n&lt;p&gt;&amp;nbsp\;&lt;/p&gt;\n&lt;p&gt;Ma
 ke check payable to IEEE LVS\, together with: names\, type of ticket (Adul
 t\, Student\, Child) and menu option (Vegetarian or BBQ) for each guest\, 
 and your email for confirmation.&lt;/p&gt;\n&lt;p&gt;&amp;nbsp\;&lt;/p&gt;\n&lt;p&gt;Mail to:&amp;nbsp\; G
 eorge Beam\, 6449 Ventura Drive\, Slatington\, PA 18080&lt;/p&gt;\n&lt;p&gt;More Infor
 mation: &lt;a href=&quot;mailto:gebeam@pplweb.com&quot;&gt;gebeam@pplweb.com&lt;/a&gt;&lt;/p&gt;\n&lt;p&gt;&amp;
 nbsp\;&lt;/p&gt;&lt;br /&gt;&lt;br /&gt;Agenda: &lt;br /&gt;&lt;p&gt;&lt;img src=&quot;https://events.vtools.iee
 e.org/vtools_ui/media/display/16c17c26-f4a5-4c69-8aee-78b8fe90a3df&quot; alt=&quot;&quot;
  width=&quot;1021&quot; height=&quot;601&quot;&gt;&lt;img src=&quot;https://events.vtools.ieee.org/vtools
 _ui/media/display/c30b4948-deab-4a4c-9bc2-1f7600f1b2a0&quot; alt=&quot;Pavilion Map&quot;
  width=&quot;615&quot; height=&quot;796&quot;&gt;&lt;/p&gt;
END:VEVENT
END:VCALENDAR

