BEGIN:VCALENDAR
VERSION:2.0
PRODID:IEEE vTools.Events//EN
CALSCALE:GREGORIAN
BEGIN:VTIMEZONE
TZID:Asia/Hong_Kong
BEGIN:STANDARD
DTSTART:19791021T023000
TZOFFSETFROM:+0900
TZOFFSETTO:+0800
TZNAME:HKT
END:STANDARD
END:VTIMEZONE
BEGIN:VEVENT
DTSTAMP:20250708T115304Z
UID:55252D3B-8D8F-4816-AD63-F064C60CDBDC
DTSTART;TZID=Asia/Hong_Kong:20250704T090000
DTEND;TZID=Asia/Hong_Kong:20250705T130000
DESCRIPTION:\n\nCo-sponsored by: The Chinese University of Hong\n\nBldg: YI
 A\, The Chinese University of Hong Kong\, Shatin\, Hong Kong\, Hong Kong
LOCATION:Bldg: YIA\, The Chinese University of Hong Kong\, Shatin\, Hong Ko
 ng\, Hong Kong
ORGANIZER:mjong@cuhk.edu.hk
SEQUENCE:12
SUMMARY:The 3rd Guangdong-Hong Kong-Macau STEAM Education Conference
URL;VALUE=URI:https://events.vtools.ieee.org/m/485533
X-ALT-DESC:Description: &lt;br /&gt;&lt;p&gt;&lt;img src=&quot;https://events.vtools.ieee.org/v
 tools_ui/media/display/212da5dc-bfdb-4f33-a8aa-374bcda86747&quot;&gt;&lt;/p&gt;
END:VEVENT
END:VCALENDAR

