BEGIN:VCALENDAR
VERSION:2.0
PRODID:IEEE vTools.Events//EN
CALSCALE:GREGORIAN
BEGIN:VTIMEZONE
TZID:America/Chicago
BEGIN:DAYLIGHT
DTSTART:20250309T030000
TZOFFSETFROM:-0600
TZOFFSETTO:-0500
RRULE:FREQ=YEARLY;BYDAY=2SU;BYMONTH=3
TZNAME:CDT
END:DAYLIGHT
BEGIN:STANDARD
DTSTART:20251102T010000
TZOFFSETFROM:-0500
TZOFFSETTO:-0600
RRULE:FREQ=YEARLY;BYDAY=1SU;BYMONTH=11
TZNAME:CST
END:STANDARD
END:VTIMEZONE
BEGIN:VEVENT
DTSTAMP:20250621T072405Z
UID:BB3C3C2A-4F09-4E30-AD7B-4E55BBE840A5
DTSTART;TZID=America/Chicago:20250619T183000
DTEND;TZID=America/Chicago:20250619T200000
DESCRIPTION:Abstract\n\nAs organizations accelerate cloud app modernization
 \, AI-powered DevOps is one of the most transformative enablers. AI is rap
 idly reshaping how modern cloud applications are built\, deployed\, and ma
 naged\, from automating deployments to intelligent monitoring and self-hea
 ling infrastructure.\n\nIn this 40-minute session\, we will explore:\n\n- 
 The evolving role of AI in DevOps pipelines to accelerate cloud app delive
 ry and infrastructure management.\n- AI-driven deployment automation\, mon
 itoring\, and incident management for modern cloud applications.\n- How ge
 nerative AI models enable code generation\, auto-remediation\, and intelli
 gent CI/CD pipelines.\n- Case studies from cloud platforms (AWS\, Azure\, 
 GCP) showcasing AI-powered DevOps in action.\n\nBy attending this session\
 , DevOps engineers\, cloud architects\, and engineering leaders will learn
  practical methods to infuse AI into their cloud app modernization journey
 \, ensuring faster delivery\, higher resilience\, and lower operational co
 sts.\n\nSpeaker(s): Akshay Mittal \n\nAgenda: \n6:25to 6:35 PM - Open for 
 participants to enter and network.\n6:35 to 6:40 PM - IEEE LM and CTCN Bus
 iness meeting and to introduce speaker.\n6:40 to 7:55PM - Formal Program a
 nd Q&amp;A.\n\nRoom: 1\, Bldg: Asian American Resource Center\, 8401 Cameron R
 d.\, Austin\, Texas\, United States\, 78754\, Virtual: https://events.vtoo
 ls.ieee.org/m/485864
LOCATION:Room: 1\, Bldg: Asian American Resource Center\, 8401 Cameron Rd.\
 , Austin\, Texas\, United States\, 78754\, Virtual: https://events.vtools.
 ieee.org/m/485864
ORGANIZER:bill.martino@ieee.org
SEQUENCE:58
SUMMARY:IEEE CTS 6-19-2025 Hybrid Meeting - AI-Powered DevOps in Cloud App 
 Modernization
URL;VALUE=URI:https://events.vtools.ieee.org/m/485864
X-ALT-DESC:Description: &lt;br /&gt;&lt;p&gt;&lt;span style=&quot;color: #000000\; font-family:
  Calibri\;&quot;&gt;&lt;strong&gt;Abstract&lt;/strong&gt;&lt;/span&gt;&lt;/p&gt;\n&lt;p class=&quot;MsoNormal&quot;&gt;As 
 organizations accelerate cloud app modernization\, AI-powered DevOps is on
 e of the most transformative enablers. AI is rapidly reshaping how modern 
 cloud applications are built\, deployed\, and managed\, from automating de
 ployments to intelligent monitoring and self-healing infrastructure.&lt;br&gt;&lt;b
 r&gt;In this 40-minute session\, we will explore:&lt;/p&gt;\n&lt;ul style=&quot;margin-top:
  0in\;&quot; type=&quot;disc&quot;&gt;\n&lt;li class=&quot;MsoNormal&quot; style=&quot;mso-list: l0 level1 lfo
 1\; tab-stops: list .5in\;&quot;&gt;The evolving role of AI in DevOps pipelines to
  accelerate cloud app delivery and infrastructure management.&lt;/li&gt;\n&lt;li cl
 ass=&quot;MsoNormal&quot; style=&quot;mso-list: l0 level1 lfo1\; tab-stops: list .5in\;&quot;&gt;
 AI-driven deployment automation\, monitoring\, and incident management for
  modern cloud applications.&lt;/li&gt;\n&lt;li class=&quot;MsoNormal&quot; style=&quot;mso-list: l
 0 level1 lfo1\; tab-stops: list .5in\;&quot;&gt;How generative AI models enable co
 de generation\, auto-remediation\, and intelligent CI/CD pipelines.&lt;/li&gt;\n
 &lt;li class=&quot;MsoNormal&quot; style=&quot;mso-list: l0 level1 lfo1\; tab-stops: list .5
 in\;&quot;&gt;Case studies from cloud platforms (AWS\, Azure\, GCP) showcasing AI-
 powered DevOps in action.&lt;/li&gt;\n&lt;/ul&gt;\n&lt;p class=&quot;MsoNormal&quot;&gt;By attending t
 his session\, DevOps engineers\, cloud architects\, and engineering leader
 s will learn practical methods to infuse AI into their cloud app moderniza
 tion journey\, ensuring faster delivery\, higher resilience\, and lower op
 erational costs.&lt;br style=&quot;mso-special-character: line-break\;&quot;&gt;&lt;!-- [if !
 supportLineBreakNewLine]--&gt;&lt;br style=&quot;mso-special-character: line-break\;&quot;
 &gt;&lt;!--[endif]--&gt;&lt;/p&gt;&lt;br /&gt;&lt;br /&gt;Agenda: &lt;br /&gt;&lt;div dir=&quot;ltr&quot; data-setdir=&quot;f
 alse&quot;&gt;6:25to 6:35 PM - Open for participants to enter and network.&amp;nbsp\;&lt;
 /div&gt;\n&lt;div dir=&quot;ltr&quot; data-setdir=&quot;false&quot;&gt;6:35 to 6:40 PM - IEEE LM and CT
 CN Business meeting and to introduce speaker.&lt;/div&gt;\n&lt;div dir=&quot;ltr&quot; data-s
 etdir=&quot;false&quot;&gt;6:40 to 7:55PM - Formal Program and Q&amp;amp\;A.&amp;nbsp\;&lt;/div&gt;
END:VEVENT
END:VCALENDAR

