BEGIN:VCALENDAR
VERSION:2.0
PRODID:IEEE vTools.Events//EN
CALSCALE:GREGORIAN
BEGIN:VTIMEZONE
TZID:America/Los_Angeles
BEGIN:DAYLIGHT
DTSTART:20250309T030000
TZOFFSETFROM:-0800
TZOFFSETTO:-0700
RRULE:FREQ=YEARLY;BYDAY=2SU;BYMONTH=3
TZNAME:PDT
END:DAYLIGHT
BEGIN:STANDARD
DTSTART:20251102T010000
TZOFFSETFROM:-0700
TZOFFSETTO:-0800
RRULE:FREQ=YEARLY;BYDAY=1SU;BYMONTH=11
TZNAME:PST
END:STANDARD
END:VTIMEZONE
BEGIN:VEVENT
DTSTAMP:20251020T141504Z
UID:2ED35EDA-A840-4FA5-BE02-B3C56EE40506
DTSTART;TZID=America/Los_Angeles:20251016T070000
DTEND;TZID=America/Los_Angeles:20251016T170000
DESCRIPTION:*****This vTools link is for purchase of Vendor Tables ONLY! No
  walk-in registrations.*****\n\n(Limit of 10 vendor tables so do not delay
 !)\n\n********************************************************************
 *********************************\n\nVendor table will be one 6-foot exhib
 it table. Vendor table includes one (1) attendee ticket. A power strip wil
 l be available upon request.\n\nFor more than one (1) attendee to support 
 the table\, please register additional people using the regular attendee l
 ink: https://events.vtools.ieee.org/m/485039\n\nTape\, Tacks\, Nails may n
 ot be applied to walls\, ceilings\, or doors and are strictly prohibited.\
 n\nOutside food\, non-alcoholic and alcoholic beverage are not allowed.\n\
 nIEEE and the Hotel are not responsible for any loss or damage to property
  belonging to you.\n\nSign-in for attendees and continental breakfast will
  open at 7:15AM\, so please be completely set up by 7:15AM.\n\nVendors are
  encouraged (voluntary) to bring up to three (3) giveaways to be included 
 in the overall raffle for attendees.\n\n**********************************
 *******************************************************************\n\nThi
 s one-day Technical Seminar will cover the fundamentals of grounding\, bon
 ding\, and ground fault protection. The seminar will serve as a primer for
  engineers and a refresher for experienced engineers. During breaks and lu
 nch there will be opportunities to network with your peers and meet with m
 anufacturers. The registration cost includes a print copy of the Soares Gr
 ounding and Bonding 2023 Book (full).\n\nPlease join us in attending this 
 one-day Technical Seminar which will include an impressive list of speaker
 s from Electrical Reliability Services (a Vertiv Company)\, ETAP\, NEMA\, 
 Cummins\, SEL\, and PG&amp;E. Seminar topics will include:\n\n- Electrical Gro
 unding Systems – An Overview\n- Ground Grid Design and Electric Shock Pr
 otection\n- Grounding Electrode Systems and Service Grounding\n- Grounding
  Recommendations for On-Site Power Systems\n- Generator Stator Ground Faul
 t Protection\n- Distribution Feeder High Impedance Ground Fault Testing\, 
 Findings\, and Mitigation Strategies\n\nPlan to attend this timely\, educa
 tional Seminar. Registration is now open!\n\nSpeaker(s): Steve Park\, Dr. 
 Haijun Liu\, Mike Stone\, Shen Yoon\, Rogerio Scharlach\, James Tuccillo\n
 \nAgenda: \n8:00AM-4:30PM (sign-in opens at 7:15AM)\n\n*****Vendors should
  be set up and ready by 7:15AM.*****\n\nDoubleTree by Hilton Hotel Pleasan
 ton at The Club\, 7050 Johnson Drive\, Pleasanton\, California\, United St
 ates\, 94588
LOCATION:DoubleTree by Hilton Hotel Pleasanton at The Club\, 7050 Johnson D
 rive\, Pleasanton\, California\, United States\, 94588
ORGANIZER:mnakamura@dsrsd.com
SEQUENCE:35
SUMMARY:VENDOR TABLE for Grounding and Ground Fault Protection Seminar
URL;VALUE=URI:https://events.vtools.ieee.org/m/485891
X-ALT-DESC:Description: &lt;br /&gt;&lt;p class=&quot;MsoNormal&quot; style=&quot;text-align: cente
 r\;&quot;&gt;&lt;span style=&quot;color: rgb(224\, 62\, 45)\;&quot;&gt;&lt;strong&gt;&lt;span style=&quot;font-f
 amily: Arial\, sans-serif\; background: white\;&quot;&gt;*****This vTools link is 
 for purchase of Vendor Tables ONLY! No walk-in registrations.*****&lt;/span&gt;&lt;
 /strong&gt;&lt;/span&gt;&lt;/p&gt;\n&lt;p class=&quot;MsoNormal&quot; style=&quot;text-align: center\;&quot;&gt;&lt;sp
 an style=&quot;color: rgb(224\, 62\, 45)\; font-family: arial\, helvetica\, san
 s-serif\;&quot;&gt;&lt;strong&gt;&lt;span style=&quot;background: white\;&quot;&gt;(Limit of 10 vendor t
 ables so do not delay!)&lt;/span&gt;&lt;/strong&gt;&lt;/span&gt;&lt;/p&gt;\n&lt;p class=&quot;MsoNormal&quot; s
 tyle=&quot;text-align: left\; line-height: 1.4\;&quot;&gt;&lt;strong&gt;&lt;span style=&quot;font-fam
 ily: arial\, helvetica\, sans-serif\; font-size: 12pt\;&quot;&gt;*****************
 **************************************************************************
 **********&lt;/span&gt;&lt;/strong&gt;&lt;/p&gt;\n&lt;p class=&quot;MsoNormal&quot; style=&quot;text-align: le
 ft\; line-height: 1.4\;&quot;&gt;&lt;strong&gt;&lt;span style=&quot;font-family: arial\, helveti
 ca\, sans-serif\; font-size: 12pt\;&quot;&gt;Vendor table will be one 6-foot exhib
 it table. Vendor table includes one (1) attendee ticket. A power strip wil
 l be available upon request.&lt;/span&gt;&lt;/strong&gt;&lt;/p&gt;\n&lt;p class=&quot;MsoNormal&quot; sty
 le=&quot;text-align: left\; line-height: 1.4\;&quot;&gt;&lt;strong&gt;&lt;span style=&quot;font-famil
 y: arial\, helvetica\, sans-serif\; font-size: 12pt\;&quot;&gt;&lt;span style=&quot;color:
  rgb(224\, 62\, 45)\;&quot;&gt;For more than one (1) attendee to support the table
 \, please register additional people using the regular attendee link:&lt;/spa
 n&gt; &lt;span style=&quot;font-size: 12.0pt\; font-family: &#39;Aptos&#39;\,sans-serif\; mso
 -fareast-font-family: Aptos\; mso-fareast-theme-font: minor-latin\; mso-bi
 di-font-family: Aptos\; mso-ligatures: standardcontextual\; mso-ansi-langu
 age: EN-US\; mso-fareast-language: EN-US\; mso-bidi-language: AR-SA\;&quot;&gt;&lt;a 
 href=&quot;https://events.vtools.ieee.org/m/485039&quot;&gt;https://events.vtools.ieee.
 org/m/485039&lt;/a&gt; &lt;/span&gt;&lt;/span&gt;&lt;/strong&gt;&lt;/p&gt;\n&lt;p class=&quot;MsoNormal&quot; style=&quot;
 text-align: left\; line-height: 1.4\;&quot;&gt;&lt;strong&gt;&lt;span style=&quot;font-family: a
 rial\, helvetica\, sans-serif\; font-size: 12pt\;&quot;&gt;Tape\, Tacks\, Nails ma
 y not be applied to walls\, ceilings\, or doors and are strictly prohibite
 d.&lt;/span&gt;&lt;/strong&gt;&lt;/p&gt;\n&lt;p class=&quot;MsoNormal&quot; style=&quot;text-align: left\; lin
 e-height: 1.4\;&quot;&gt;&lt;strong&gt;&lt;span style=&quot;font-family: arial\, helvetica\, san
 s-serif\; font-size: 12pt\;&quot;&gt;Outside food\, non-alcoholic and alcoholic be
 verage are not allowed.&lt;/span&gt;&lt;/strong&gt;&lt;/p&gt;\n&lt;p class=&quot;MsoNormal&quot; style=&quot;t
 ext-align: left\; line-height: 1.4\;&quot;&gt;&lt;strong&gt;&lt;span style=&quot;font-family: ar
 ial\, helvetica\, sans-serif\; font-size: 12pt\;&quot;&gt;IEEE and the Hotel are n
 ot responsible for any loss or damage to property belonging to you.&lt;/span&gt;
 &lt;/strong&gt;&lt;/p&gt;\n&lt;p class=&quot;MsoNormal&quot; style=&quot;text-align: left\; line-height:
  1.4\;&quot;&gt;&lt;strong&gt;&lt;span style=&quot;font-family: arial\, helvetica\, sans-serif\;
  font-size: 12pt\;&quot;&gt;Sign-in for attendees and continental breakfast will o
 pen at 7:15AM\, so please be completely set up by 7:15AM.&lt;/span&gt;&lt;/strong&gt;&lt;
 /p&gt;\n&lt;p class=&quot;MsoNormal&quot; style=&quot;text-align: left\; line-height: 1.4\;&quot;&gt;&lt;s
 trong&gt;&lt;span style=&quot;font-family: arial\, helvetica\, sans-serif\; font-size
 : 12pt\;&quot;&gt;Vendors are encouraged (voluntary) to bring up to three (3) give
 aways to be included in the overall raffle for attendees.&lt;/span&gt;&lt;/strong&gt;&lt;
 /p&gt;\n&lt;p class=&quot;MsoNormal&quot; style=&quot;text-align: left\; line-height: 1.4\;&quot;&gt;&lt;s
 trong&gt;&lt;span style=&quot;font-family: arial\, helvetica\, sans-serif\; font-size
 : 12pt\;&quot;&gt;****************************************************************
 *************************************&lt;/span&gt;&lt;/strong&gt;&lt;/p&gt;\n&lt;p class=&quot;MsoNo
 rmal&quot; style=&quot;line-height: 1.4\;&quot;&gt;&amp;nbsp\;&lt;/p&gt;\n&lt;p class=&quot;MsoNormal&quot; style=&quot;
 line-height: 1.4\;&quot;&gt;&lt;span style=&quot;font-family: &#39;Arial&#39;\,sans-serif\; color:
  black\; background: white\;&quot;&gt;&lt;span style=&quot;font-family: arial\, helvetica\
 , sans-serif\;&quot;&gt;&lt;span style=&quot;font-size: 12pt\;&quot;&gt;This one-da&lt;/span&gt;y Techni
 cal &lt;/span&gt;Seminar will cover the fundamentals of grounding\, bonding\, an
 d ground fault protection. The seminar will serve as a primer for engineer
 s and a refresher for experienced engineers. During breaks and lunch there
  will be opportunities to network with your peers and meet with manufactur
 ers. The registration cost includes a print copy of the Soares Grounding a
 nd Bonding 2023 Book (full).&lt;/span&gt;&lt;/p&gt;\n&lt;p class=&quot;MsoNormal&quot;&gt;&lt;span style=
 &quot;font-family: &#39;Arial&#39;\,sans-serif\; color: black\; background: white\;&quot;&gt;Pl
 ease join us in attending this one-day Technical Seminar which will includ
 e an impressive list of speakers from Electrical Reliability Services (a V
 ertiv Company)\, ETAP\, NEMA\, Cummins\, SEL\, and PG&amp;amp\;E. Seminar topi
 cs will include:&lt;/span&gt;&lt;/p&gt;\n&lt;ul style=&quot;list-style-type: square\;&quot;&gt;\n&lt;li c
 lass=&quot;MsoNormal&quot;&gt;&lt;span style=&quot;font-family: &#39;Arial&#39;\,sans-serif\; color: bl
 ack\; background: white\;&quot;&gt;Electrical Grounding Systems &amp;ndash\; An Overvi
 ew&lt;/span&gt;&lt;/li&gt;\n&lt;li class=&quot;MsoNormal&quot;&gt;&lt;span style=&quot;font-family: &#39;Arial&#39;\,s
 ans-serif\; color: black\; background: white\;&quot;&gt;Ground Grid Design and Ele
 ctric Shock Protection&lt;/span&gt;&lt;/li&gt;\n&lt;li class=&quot;MsoNormal&quot;&gt;&lt;!-- [if !suppor
 tLists]--&gt;&lt;span style=&quot;font-family: &#39;Arial&#39;\,sans-serif\; color: black\; b
 ackground: white\;&quot;&gt;Grounding Electrode Systems and Service Grounding&lt;/spa
 n&gt;&lt;/li&gt;\n&lt;li class=&quot;MsoNormal&quot;&gt;&lt;!-- [if !supportLists]--&gt;&lt;span style=&quot;font
 -family: &#39;Arial&#39;\,sans-serif\; color: black\; background: white\;&quot;&gt;Groundi
 ng Recommendations for On-Site Power Systems&lt;/span&gt;&lt;/li&gt;\n&lt;li class=&quot;MsoNo
 rmal&quot;&gt;&lt;!-- [if !supportLists]--&gt;&lt;span style=&quot;font-family: &#39;Arial&#39;\,sans-se
 rif\; color: black\; background: white\;&quot;&gt;Generator Stator Ground Fault Pr
 otection&lt;/span&gt;&lt;/li&gt;\n&lt;li class=&quot;MsoNormal&quot;&gt;&lt;!-- [if !supportLists]--&gt;&lt;spa
 n style=&quot;font-family: &#39;Arial&#39;\,sans-serif\; color: black\; background: whi
 te\;&quot;&gt;Distribution Feeder High Impedance Ground Fault Testing\, Findings\,
  and Mitigation Strategies&lt;/span&gt;&lt;/li&gt;\n&lt;/ul&gt;\n&lt;p class=&quot;MsoNormal&quot;&gt;&lt;span 
 style=&quot;mso-fareast-language: EN-US\; mso-no-proof: yes\;&quot;&gt;&amp;nbsp\;&lt;/span&gt;&lt;s
 pan style=&quot;font-family: &#39;Arial&#39;\,sans-serif\;&quot;&gt;Plan to attend this timely\
 , educational Seminar. &lt;strong style=&quot;mso-bidi-font-weight: normal\;&quot;&gt;&lt;u&gt;R
 egistration is now open!&lt;/u&gt;&lt;/strong&gt;&lt;/span&gt;&lt;/p&gt;&lt;br /&gt;&lt;br /&gt;Agenda: &lt;br /&gt;
 &lt;p&gt;&lt;span style=&quot;font-size: 12pt\; font-family: Arial\, sans-serif\;&quot;&gt;8:00A
 M-4:30PM (sign-in opens at 7:15AM)&lt;/span&gt;&lt;/p&gt;\n&lt;p&gt;&lt;span style=&quot;color: rgb(
 224\, 62\, 45)\;&quot;&gt;&lt;strong&gt;&lt;span style=&quot;font-size: 12pt\; font-family: Aria
 l\, sans-serif\;&quot;&gt;*****Vendors should be set up and ready by 7:15AM.*****&lt;
 /span&gt;&lt;/strong&gt;&lt;/span&gt;&lt;/p&gt;
END:VEVENT
END:VCALENDAR

