BEGIN:VCALENDAR
VERSION:2.0
PRODID:IEEE vTools.Events//EN
CALSCALE:GREGORIAN
BEGIN:VTIMEZONE
TZID:Australia/Sydney
BEGIN:DAYLIGHT
DTSTART:20251005T030000
TZOFFSETFROM:+1000
TZOFFSETTO:+1100
RRULE:FREQ=YEARLY;BYDAY=1SU;BYMONTH=10
TZNAME:AEDT
END:DAYLIGHT
BEGIN:STANDARD
DTSTART:20250406T020000
TZOFFSETFROM:+1100
TZOFFSETTO:+1000
RRULE:FREQ=YEARLY;BYDAY=1SU;BYMONTH=4
TZNAME:AEST
END:STANDARD
END:VTIMEZONE
BEGIN:VEVENT
DTSTAMP:20250629T060100Z
UID:B9FAE98B-0B79-4313-BA5D-DC5DCB4F725B
DTSTART;TZID=Australia/Sydney:20250626T123000
DTEND;TZID=Australia/Sydney:20250626T143000
DESCRIPTION:You are invited to join other members at the Abercrombie Hotel 
 for lunch at 1230hrs on Thursday 26 June.\n\nFor those interested the menu
  can be found at [Menu](https://www.abercrombie.sydney/food)\n\nThese are 
 casual and informal events. An opportunity to discuss engineering and unre
 lated topics.\n\nTake it as an opportunity to get out\, enjoy the company 
 and the food. As usual it is pay for yourself.\n\nThe Section is making th
 ese lunches a regular event. There are a number of people who take this op
 portunity to see the sights of Sydney using public transport.\n\nThe lunch
 es are every two weeks subject to suitable venues being found. Please let 
 me know if you have a suitable venue in your area. There are some being ar
 ranged outside the Sydney metro area. The day of the week is flexible\, ev
 en weekends are possible. Your thoughts and assistance in planning would b
 e welcomed.\n\nThe next lunch will be on Tuesday 8 July at Sydney Rowing C
 lub\, Abbotsford.\n\nHope to see you at the Abercrombie or one of our futu
 re luncheons.\n\nAgenda: \n\n\n100 Broadway\, Chippendale\, New South Wale
 s\, Australia\, 2008
LOCATION:100 Broadway\, Chippendale\, New South Wales\, Australia\, 2008
ORGANIZER:Talbingo@optusnet.com.au
SEQUENCE:32
SUMMARY:LMAG Luncheon - Abercrombie Hotel Broadway - Thursday 26 June
URL;VALUE=URI:https://events.vtools.ieee.org/m/486139
X-ALT-DESC:Description: &lt;br /&gt;&lt;p&gt;&amp;nbsp\;&lt;/p&gt;\n&lt;p&gt;You are invited to join ot
 her members at the Abercrombie&amp;nbsp\; Hotel for lunch at 1230hrs on &lt;stron
 g&gt;Thursday&lt;/strong&gt; 26 June.&lt;/p&gt;\n&lt;p&gt;For those interested the menu can be 
 found at &lt;a title=&quot;Menu&quot; href=&quot;https://www.abercrombie.sydney/food&quot;&gt;Menu&lt;/
 a&gt;&lt;/p&gt;\n&lt;p&gt;These are casual and informal events. An opportunity to discuss
  engineering and unrelated topics.&lt;/p&gt;\n&lt;p&gt;Take it as an opportunity to ge
 t out\, enjoy the company and the food. As usual it is pay for yourself.&lt;/
 p&gt;\n&lt;p&gt;The Section is making these lunches a regular event. There are a nu
 mber of people who take this opportunity to see the sights of Sydney using
  public transport.&lt;/p&gt;\n&lt;p&gt;The lunches are every two weeks subject to suit
 able venues being found. Please let me know if you have a suitable venue i
 n your area. There are some being arranged outside the Sydney metro area. 
 The day of the week is flexible\, even weekends are possible. Your thought
 s and assistance in planning would be welcomed.&lt;/p&gt;\n&lt;p&gt;The next lunch wil
 l be on Tuesday 8 July at Sydney Rowing Club\, Abbotsford.&lt;/p&gt;\n&lt;p&gt;Hope to
  see you at the Abercrombie or one of our future luncheons.&lt;/p&gt;&lt;br /&gt;&lt;br /
 &gt;Agenda: &lt;br /&gt;&lt;p&gt;&lt;span style=&quot;font-size: 18pt\;&quot;&gt;&amp;nbsp\;&lt;/span&gt;&lt;/p&gt;\n&lt;p&gt;&amp;
 nbsp\;&lt;/p&gt;\n&lt;p&gt;&lt;span style=&quot;font-size: 18pt\;&quot;&gt;&lt;span dir=&quot;ltr&quot; style=&quot;left
 : 65.24%\; top: 48.84%\; font-size: calc(var(--scale-factor)*14.40px)\; fo
 nt-family: monospace\; transform: scaleX(0.998596)\;&quot; role=&quot;presentation&quot;&gt;
 &amp;nbsp\;&lt;/span&gt;&lt;/span&gt;&lt;/p&gt;
END:VEVENT
END:VCALENDAR

