BEGIN:VCALENDAR
VERSION:2.0
PRODID:IEEE vTools.Events//EN
CALSCALE:GREGORIAN
BEGIN:VTIMEZONE
TZID:Africa/Cairo
BEGIN:DAYLIGHT
DTSTART:20250425T010000
TZOFFSETFROM:+0200
TZOFFSETTO:+0300
RRULE:FREQ=YEARLY;BYDAY=-1FR;BYMONTH=4
TZNAME:EEST
END:DAYLIGHT
BEGIN:STANDARD
DTSTART:20251030T230000
TZOFFSETFROM:+0300
TZOFFSETTO:+0200
RRULE:FREQ=YEARLY;BYDAY=-1TH;BYMONTH=10
TZNAME:EET
END:STANDARD
END:VTIMEZONE
BEGIN:VEVENT
DTSTAMP:20250521T220415Z
UID:C6A8F951-8B08-48FF-9162-D1F7C1DA3385
DTSTART;TZID=Africa/Cairo:20250528T090000
DTEND;TZID=Africa/Cairo:20250529T160000
DESCRIPTION:4th Conference on the Design and Technology of Modern Electroni
 c Systems (DTMES-2025)\n\nCo-sponsored by: Meta\, Qualcomm\n\nSpeaker(s): 
 MIKE\, \n\nAgenda: \nConference Details\n\n-\nName: 4th Conference on the 
 Design and Technology of Modern Electronic Systems (DTMES 2025)\n\n-\nLoca
 tion: Addis Ababa\, Ethiopia\n\n-\nHost: IEEE Ethiopia Subsection\n\n-\nLo
 cal Institutional Affiliation: AAIT SECE (Dr. Bisrat Derekasa &amp; Dr. Sosina
 )\n\nTime (Local)	Event	Duration	Speaker/Details\n9:00 - 9:40 AM	Welcome R
 emarks	40 min	Co-Chairs: Dr. Estene Mulugeta\, Dr. Wendem Beyene. IEEE Eth
 iopia Subsection Remarks. Welcome by IEEE EPS President: Kitty Pearsall.\n
 9:40 - 10:15 AM	Keynote Speech 1	35 min	Mike Yee (Meta)\n10:25 - 10:55 AM	
 Coffee Break / Networking	30 min\n11:00 - 11:35 AM	Presentation	35 min	Pro
 fessor Paul R. Berger\, Ohio State University\n11:45 AM - 12:15 PM	Present
 ation	30 min	Professor Benjamin Inigueza\, Tarragona\, Spain: History and 
 Evolution of Thin Film Transistors\n12:30 - 1:00 PM	Lunch	60 min\n2:05 - 2
 :20 PM	Presentation	15 min	Early Stage and Projected Compact Modeling of O
 TFTs for Biomedical and Flexible Electronics Applications\n2:20 - 2:50 PM	
 Presentation	30 min	Dr. Fissum Assaminew\n3:00 - 3:25 PM	Coffee Break	25 m
 in\n3:30 - 4:00 PM	Presentation	30 min	Professor Mohamed Jamal Desh\, Univ
 ersity of Guyana\, Canada\n4:15 - 5:00 PM	Day 1 Closing Remarks\, Photo Se
 ssions\, Networking	45 min\n-\nDay 2 (May 29\, 2025)\n\nTime (Local)	Event
 	Duration	Speaker/Details\n9:00 - 9:20 AM	Welcome Remarks (cont’d)	20 mi
 n\n9:20 - 10:05 AM	Keynote Speech 2	45 min	Dr. Longfei Wang (Qualcomm): Po
 wer Delivery Network Challenges in Nanoscale Integrated Circuits\n10:15 - 
 10:40 AM	Presentation	25 min	Professor Albert Wang\, University of Califor
 nia\, Riverside\n10:55 - 11:15 AM	Coffee Break / Networking	20 min\n11:20 
 - 11:50 AM	Presentation	30 min	Dr. Wendem Beyene: Meta Augmented Technolog
 y Frontier\n12:00 - 1:20 PM	Lunch	80 min\n2:00 - 4:30 PM	Visit to High-tec
 h Institution &amp; City Tour	150 min	Includes visit to Entoto Mountain.\n4:30
  PM	Closing Remarks &amp; Passing the Torch		Next host: IEEE Kenya Section\n\n
 The Jupitor International Hotel\, Kazanchis\, Addis Ababa\, Ethiopia \, Ad
 dis Ababa\, Ethiopia\, Ethiopia
LOCATION:The Jupitor International Hotel\, Kazanchis\, Addis Ababa\, Ethiop
 ia \, Addis Ababa\, Ethiopia\, Ethiopia
ORGANIZER:gurusaravana@ieee.org
SEQUENCE:13
SUMMARY:The 4th Conference on the Design and Technology of Modern Electroni
 c Systems (DTMES 2025)
URL;VALUE=URI:https://events.vtools.ieee.org/m/486183
X-ALT-DESC:Description: &lt;br /&gt;&lt;p style=&quot;language: en-IN\; margin-top: 0pt\;
  margin-bottom: 0pt\; margin-left: 0in\; text-align: left\; direction: ltr
 \; unicode-bidi: embed\; mso-line-break-override: none\; word-break: norma
 l\; punctuation-wrap: hanging\;&quot;&gt;&lt;span style=&quot;font-size: 18.0pt\; font-fam
 ily: &#39;Times New Roman&#39;\; mso-ascii-font-family: &#39;Times New Roman&#39;\; mso-fa
 reast-font-family: +mn-ea\; mso-bidi-font-family: &#39;Times New Roman&#39;\; mso-
 fareast-theme-font: minor-fareast\; color: black\; mso-color-index: 1\; ms
 o-font-kerning: 12.0pt\; language: en-US\; font-weight: bold\; mso-style-t
 extfill-type: solid\; mso-style-textfill-fill-themecolor: text1\; mso-styl
 e-textfill-fill-color: black\; mso-style-textfill-fill-alpha: 100.0%\;&quot;&gt;4&lt;
 /span&gt;&lt;span style=&quot;font-size: 18.0pt\; font-family: &#39;Times New Roman&#39;\; ms
 o-ascii-font-family: &#39;Times New Roman&#39;\; mso-fareast-font-family: +mn-ea\;
  mso-bidi-font-family: &#39;Times New Roman&#39;\; mso-fareast-theme-font: minor-f
 areast\; color: black\; mso-color-index: 1\; mso-font-kerning: 12.0pt\; la
 nguage: en-US\; font-weight: bold\; vertical-align: super\; mso-text-raise
 : 30%\; mso-style-textfill-type: solid\; mso-style-textfill-fill-themecolo
 r: text1\; mso-style-textfill-fill-color: black\; mso-style-textfill-fill-
 alpha: 100.0%\;&quot;&gt;th&lt;/span&gt;&lt;span style=&quot;font-size: 18.0pt\; font-family: &#39;T
 imes New Roman&#39;\; mso-ascii-font-family: &#39;Times New Roman&#39;\; mso-fareast-f
 ont-family: +mn-ea\; mso-bidi-font-family: &#39;Times New Roman&#39;\; mso-fareast
 -theme-font: minor-fareast\; color: black\; mso-color-index: 1\; mso-font-
 kerning: 12.0pt\; language: en-US\; font-weight: bold\; mso-style-textfill
 -type: solid\; mso-style-textfill-fill-themecolor: text1\; mso-style-textf
 ill-fill-color: black\; mso-style-textfill-fill-alpha: 100.0%\;&quot;&gt; Conferen
 ce on the Design and Technology of Modern Electronic Systems (DTMES-2025)&lt;
 /span&gt;&lt;/p&gt;&lt;br /&gt;&lt;br /&gt;Agenda: &lt;br /&gt;&lt;h3&gt;&lt;strong&gt;Conference Details&lt;/strong
 &gt;&lt;/h3&gt;\n&lt;ul&gt;\n&lt;li&gt;\n&lt;p class=&quot;ds-markdown-paragraph&quot;&gt;&lt;strong&gt;Name&lt;/strong&gt;
 : 4th Conference on the Design and Technology of Modern Electronic Systems
  (DTMES 2025)&lt;/p&gt;\n&lt;/li&gt;\n&lt;li&gt;\n&lt;p class=&quot;ds-markdown-paragraph&quot;&gt;&lt;strong&gt;L
 ocation&lt;/strong&gt;: Addis Ababa\, Ethiopia&lt;/p&gt;\n&lt;/li&gt;\n&lt;li&gt;\n&lt;p class=&quot;ds-ma
 rkdown-paragraph&quot;&gt;&lt;strong&gt;Host&lt;/strong&gt;: IEEE Ethiopia Subsection&lt;/p&gt;\n&lt;/l
 i&gt;\n&lt;li&gt;\n&lt;p class=&quot;ds-markdown-paragraph&quot;&gt;&lt;strong&gt;Local Institutional Aff
 iliation&lt;/strong&gt;: AAIT SECE (Dr. Bisrat Derekasa &amp;amp\; Dr. Sosina)&lt;br&gt;&lt;b
 r&gt;&lt;br&gt;&lt;/p&gt;\n&lt;table&gt;\n&lt;thead&gt;\n&lt;tr&gt;\n&lt;th&gt;Time (Local)&lt;/th&gt;\n&lt;th&gt;Event&lt;/th&gt;\
 n&lt;th&gt;Duration&lt;/th&gt;\n&lt;th&gt;Speaker/Details&lt;/th&gt;\n&lt;/tr&gt;\n&lt;/thead&gt;\n&lt;tbody&gt;\n&lt;t
 r&gt;\n&lt;td&gt;9:00 - 9:40 AM&lt;/td&gt;\n&lt;td&gt;Welcome Remarks&lt;/td&gt;\n&lt;td&gt;40 min&lt;/td&gt;\n&lt;t
 d&gt;Co-Chairs: Dr. Estene Mulugeta\, Dr. Wendem Beyene. IEEE Ethiopia Subsec
 tion Remarks. Welcome by IEEE EPS President: Kitty Pearsall.&lt;/td&gt;\n&lt;/tr&gt;\n
 &lt;tr&gt;\n&lt;td&gt;9:40 - 10:15 AM&lt;/td&gt;\n&lt;td&gt;Keynote Speech 1&lt;/td&gt;\n&lt;td&gt;35 min&lt;/td&gt;
 \n&lt;td&gt;Mike Yee (Meta)&lt;/td&gt;\n&lt;/tr&gt;\n&lt;tr&gt;\n&lt;td&gt;10:25 - 10:55 AM&lt;/td&gt;\n&lt;td&gt;Co
 ffee Break / Networking&lt;/td&gt;\n&lt;td&gt;30 min&lt;/td&gt;\n&lt;td&gt;&amp;nbsp\;&lt;/td&gt;\n&lt;/tr&gt;\n&lt;t
 r&gt;\n&lt;td&gt;11:00 - 11:35 AM&lt;/td&gt;\n&lt;td&gt;Presentation&lt;/td&gt;\n&lt;td&gt;35 min&lt;/td&gt;\n&lt;td
 &gt;Professor Paul R. Berger\, Ohio State University&lt;/td&gt;\n&lt;/tr&gt;\n&lt;tr&gt;\n&lt;td&gt;1
 1:45 AM - 12:15 PM&lt;/td&gt;\n&lt;td&gt;Presentation&lt;/td&gt;\n&lt;td&gt;30 min&lt;/td&gt;\n&lt;td&gt;Profe
 ssor Benjamin Inigueza\, Tarragona\, Spain:&amp;nbsp\;&lt;em&gt;History and Evolutio
 n of Thin Film Transistors&lt;/em&gt;&lt;/td&gt;\n&lt;/tr&gt;\n&lt;tr&gt;\n&lt;td&gt;12:30 - 1:00 PM&lt;/td
 &gt;\n&lt;td&gt;Lunch&lt;/td&gt;\n&lt;td&gt;60 min&lt;/td&gt;\n&lt;td&gt;&amp;nbsp\;&lt;/td&gt;\n&lt;/tr&gt;\n&lt;tr&gt;\n&lt;td&gt;2:0
 5 - 2:20 PM&lt;/td&gt;\n&lt;td&gt;Presentation&lt;/td&gt;\n&lt;td&gt;15 min&lt;/td&gt;\n&lt;td&gt;&lt;em&gt;Early St
 age and Projected Compact Modeling of OTFTs for Biomedical and Flexible El
 ectronics Applications&lt;/em&gt;&lt;/td&gt;\n&lt;/tr&gt;\n&lt;tr&gt;\n&lt;td&gt;2:20 - 2:50 PM&lt;/td&gt;\n&lt;t
 d&gt;Presentation&lt;/td&gt;\n&lt;td&gt;30 min&lt;/td&gt;\n&lt;td&gt;Dr. Fissum Assaminew&lt;/td&gt;\n&lt;/tr&gt;
 \n&lt;tr&gt;\n&lt;td&gt;3:00 - 3:25 PM&lt;/td&gt;\n&lt;td&gt;Coffee Break&lt;/td&gt;\n&lt;td&gt;25 min&lt;/td&gt;\n&lt;
 td&gt;&amp;nbsp\;&lt;/td&gt;\n&lt;/tr&gt;\n&lt;tr&gt;\n&lt;td&gt;3:30 - 4:00 PM&lt;/td&gt;\n&lt;td&gt;Presentation&lt;/t
 d&gt;\n&lt;td&gt;30 min&lt;/td&gt;\n&lt;td&gt;Professor Mohamed Jamal Desh\, University of Guya
 na\, Canada&lt;/td&gt;\n&lt;/tr&gt;\n&lt;tr&gt;\n&lt;td&gt;4:15 - 5:00 PM&lt;/td&gt;\n&lt;td&gt;Day 1 Closing 
 Remarks\, Photo Sessions\, Networking&lt;/td&gt;\n&lt;td&gt;45 min&lt;/td&gt;\n&lt;td&gt;&amp;nbsp\;&lt;/
 td&gt;\n&lt;/tr&gt;\n&lt;/tbody&gt;\n&lt;/table&gt;\n&lt;/li&gt;\n&lt;li&gt;\n&lt;h3&gt;&lt;strong&gt;Day 2 (May 29\, 2
 025)&lt;/strong&gt;&lt;/h3&gt;\n&lt;div class=&quot;markdown-table-wrapper&quot;&gt;\n&lt;table&gt;\n&lt;thead&gt;
 \n&lt;tr&gt;\n&lt;th&gt;Time (Local)&lt;/th&gt;\n&lt;th&gt;Event&lt;/th&gt;\n&lt;th&gt;Duration&lt;/th&gt;\n&lt;th&gt;Spea
 ker/Details&lt;/th&gt;\n&lt;/tr&gt;\n&lt;/thead&gt;\n&lt;tbody&gt;\n&lt;tr&gt;\n&lt;td&gt;9:00 - 9:20 AM&lt;/td&gt;\
 n&lt;td&gt;Welcome Remarks (cont&amp;rsquo\;d)&lt;/td&gt;\n&lt;td&gt;20 min&lt;/td&gt;\n&lt;td&gt;&amp;nbsp\;&lt;/t
 d&gt;\n&lt;/tr&gt;\n&lt;tr&gt;\n&lt;td&gt;9:20 - 10:05 AM&lt;/td&gt;\n&lt;td&gt;Keynote Speech 2&lt;/td&gt;\n&lt;td&gt;
 45 min&lt;/td&gt;\n&lt;td&gt;Dr. Longfei Wang (Qualcomm):&amp;nbsp\;&lt;em&gt;Power Delivery Net
 work Challenges in Nanoscale Integrated Circuits&lt;/em&gt;&lt;/td&gt;\n&lt;/tr&gt;\n&lt;tr&gt;\n&lt;
 td&gt;10:15 - 10:40 AM&lt;/td&gt;\n&lt;td&gt;Presentation&lt;/td&gt;\n&lt;td&gt;25 min&lt;/td&gt;\n&lt;td&gt;Prof
 essor Albert Wang\, University of California\, Riverside&lt;/td&gt;\n&lt;/tr&gt;\n&lt;tr&gt;
 \n&lt;td&gt;10:55 - 11:15 AM&lt;/td&gt;\n&lt;td&gt;Coffee Break / Networking&lt;/td&gt;\n&lt;td&gt;20 mi
 n&lt;/td&gt;\n&lt;td&gt;&amp;nbsp\;&lt;/td&gt;\n&lt;/tr&gt;\n&lt;tr&gt;\n&lt;td&gt;11:20 - 11:50 AM&lt;/td&gt;\n&lt;td&gt;Pres
 entation&lt;/td&gt;\n&lt;td&gt;30 min&lt;/td&gt;\n&lt;td&gt;Dr. Wendem Beyene:&amp;nbsp\;&lt;em&gt;Meta Augm
 ented Technology Frontier&lt;/em&gt;&lt;/td&gt;\n&lt;/tr&gt;\n&lt;tr&gt;\n&lt;td&gt;12:00 - 1:20 PM&lt;/td&gt;
 \n&lt;td&gt;Lunch&lt;/td&gt;\n&lt;td&gt;80 min&lt;/td&gt;\n&lt;td&gt;&amp;nbsp\;&lt;/td&gt;\n&lt;/tr&gt;\n&lt;tr&gt;\n&lt;td&gt;2:00
  - 4:30 PM&lt;/td&gt;\n&lt;td&gt;Visit to High-tech Institution &amp;amp\; City Tour&lt;/td&gt;\
 n&lt;td&gt;150 min&lt;/td&gt;\n&lt;td&gt;Includes visit to Entoto Mountain.&lt;/td&gt;\n&lt;/tr&gt;\n&lt;tr
 &gt;\n&lt;td&gt;4:30 PM&lt;/td&gt;\n&lt;td&gt;Closing Remarks &amp;amp\; Passing the Torch&lt;/td&gt;\n&lt;t
 d&gt;&amp;nbsp\;&lt;/td&gt;\n&lt;td&gt;Next host: IEEE Kenya Section&lt;/td&gt;\n&lt;/tr&gt;\n&lt;/tbody&gt;\n&lt;
 /table&gt;\n&lt;/div&gt;\n&lt;/li&gt;\n&lt;/ul&gt;
END:VEVENT
END:VCALENDAR

