BEGIN:VCALENDAR
VERSION:2.0
PRODID:IEEE vTools.Events//EN
CALSCALE:GREGORIAN
BEGIN:VTIMEZONE
TZID:America/Los_Angeles
BEGIN:DAYLIGHT
DTSTART:20250309T030000
TZOFFSETFROM:-0800
TZOFFSETTO:-0700
RRULE:FREQ=YEARLY;BYDAY=2SU;BYMONTH=3
TZNAME:PDT
END:DAYLIGHT
BEGIN:STANDARD
DTSTART:20251102T010000
TZOFFSETFROM:-0700
TZOFFSETTO:-0800
RRULE:FREQ=YEARLY;BYDAY=1SU;BYMONTH=11
TZNAME:PST
END:STANDARD
END:VTIMEZONE
BEGIN:VEVENT
DTSTAMP:20250611T213127Z
UID:B434A0BC-B8E3-4BAC-851F-FB923A82948D
DTSTART;TZID=America/Los_Angeles:20250528T180000
DTEND;TZID=America/Los_Angeles:20250528T203000
DESCRIPTION:Join IEEE Vancouver Young Professionals (YP) for a Social Mixer
 \, a dynamic networking event held in conjunction with the Canadian Confer
 ence on Electrical and Computer Engineering (CCECE) 2025 reception. This e
 vent is designed to connect early-career professionals\, students\, and in
 dustry leaders in a relaxed and inclusive setting.\n\nThis mixer takes pla
 ce alongside the CCECE 2025 Industry Summit—a three-day program of high-
 impact sessions and practical workshops addressing today’s most pressing
  technological challenges and innovations\, including:\n\n🔹 Workshops (
 May 26): Hands-on sessions on standards\, design creativity\, technical wr
 iting\, and collaborative research\n🔹 Industry Summit (May 27–29): Tr
 acks on AI\, cybersecurity\, entrepreneurship\, clean energy\, EV infrastr
 ucture\, smart cities\, and more\n----------------------------------------
 -----------------------\n\n🌟 Why Attend the YP Social Mixer?\n\n- Offer
 s a unique forum for YPs to connect with peers\, mentors\, and speakers fr
 om leading industry tracks\n- Helps develop soft skills and confidence thr
 ough informal peer-to-peer and mentor interactions\n- Encourages greater p
 articipation in IEEE technical communities\n- Supports the student-to-YP t
 ransition and builds a stronger sense of belonging\n- Reinforces the value
  of community and collaboration within IEEE beyond academic and technical 
 sessions\n\n🤝 YP Info Booth | 🍴 Catered\n\nWhether you are attending
  the Industry Summit or just joining us for the evening\, this event is yo
 ur opportunity to connect\, reflect\, and grow.\n\nP.S. If you are volunte
 ering at CCECE 2025\, please contact sabooram@sfu.ca to receive your free 
 ticket to the YP Social Mixer.\n\nCo-sponsored by: CCECE 2025\n\nBldg: UBC
  Fred Kaiser Building Atrium\, 2332 Main Mall\, Vancouver\, British Columb
 ia\, Canada\, V6T 1Z4
LOCATION:Bldg: UBC Fred Kaiser Building Atrium\, 2332 Main Mall\, Vancouver
 \, British Columbia\, Canada\, V6T 1Z4
ORGANIZER:sabooram@sfu.ca
SEQUENCE:191
SUMMARY:IEEE YP Social Mixer at CCECE 2025 – Bridging Innovation &amp; Indust
 ry
URL;VALUE=URI:https://events.vtools.ieee.org/m/486403
X-ALT-DESC:Description: &lt;br /&gt;&lt;p class=&quot;MsoNormal&quot;&gt;Join IEEE Vancouver Youn
 g Professionals (YP) for a Social Mixer\, a dynamic networking event held 
 in conjunction with the Canadian Conference on Electrical and Computer Eng
 ineering (CCECE) 2025 reception. This event is designed to connect early-c
 areer professionals\, students\, and industry leaders in a relaxed and inc
 lusive setting.&lt;/p&gt;\n&lt;p class=&quot;MsoNormal&quot;&gt;This mixer takes place alongside
  the CCECE 2025 Industry Summit&amp;mdash\;a three-day program of high-impact 
 sessions and practical workshops addressing today&amp;rsquo\;s most pressing t
 echnological challenges and innovations\, including:&lt;/p&gt;\n&lt;p class=&quot;MsoNor
 mal&quot;&gt;&lt;span style=&quot;font-family: &#39;Segoe UI Emoji&#39;\, sans-serif\; color: rgb(
 132\, 63\, 161)\;&quot;&gt;🔹&lt;/span&gt; Workshops (May 26): Hands-on sessions on st
 andards\, design creativity\, technical writing\, and collaborative resear
 ch&lt;br&gt;&lt;span style=&quot;color: rgb(132\, 63\, 161)\;&quot;&gt;&lt;span style=&quot;font-family:
  &#39;Segoe UI Emoji&#39;\,sans-serif\; mso-bidi-font-family: &#39;Segoe UI Emoji&#39;\;&quot;&gt;
 🔹&lt;/span&gt; &lt;/span&gt;Industry Summit (May 27&amp;ndash\;29): Tracks on AI\, cybe
 rsecurity\, entrepreneurship\, clean energy\, EV infrastructure\, smart ci
 ties\, and more&lt;/p&gt;\n&lt;div class=&quot;MsoNormal&quot; style=&quot;text-align: center\;&quot; a
 lign=&quot;center&quot;&gt;&lt;hr align=&quot;center&quot; size=&quot;2&quot; width=&quot;100%&quot;&gt;&lt;/div&gt;\n&lt;p class=&quot;M
 soNormal&quot;&gt;&lt;span style=&quot;font-family: &#39;Segoe UI Emoji&#39;\,sans-serif\; mso-bid
 i-font-family: &#39;Segoe UI Emoji&#39;\;&quot;&gt;🌟&lt;/span&gt; &lt;strong&gt;Why Attend the YP S
 ocial Mixer?&lt;/strong&gt;&lt;/p&gt;\n&lt;ul style=&quot;margin-top: 0in\;&quot; type=&quot;disc&quot;&gt;\n&lt;li
  class=&quot;MsoNormal&quot; style=&quot;mso-list: l0 level1 lfo1\; tab-stops: list .5in\
 ;&quot;&gt;Offers a unique forum for YPs to connect with peers\, mentors\, and spe
 akers from leading industry tracks&lt;/li&gt;\n&lt;li class=&quot;MsoNormal&quot; style=&quot;mso-
 list: l0 level1 lfo1\; tab-stops: list .5in\;&quot;&gt;Helps develop soft skills a
 nd confidence through informal peer-to-peer and mentor interactions&lt;/li&gt;\n
 &lt;li class=&quot;MsoNormal&quot; style=&quot;mso-list: l0 level1 lfo1\; tab-stops: list .5
 in\;&quot;&gt;Encourages greater participation in IEEE technical communities&lt;/li&gt;\
 n&lt;li class=&quot;MsoNormal&quot; style=&quot;mso-list: l0 level1 lfo1\; tab-stops: list .
 5in\;&quot;&gt;Supports the student-to-YP transition and builds a stronger sense o
 f belonging&lt;/li&gt;\n&lt;li class=&quot;MsoNormal&quot; style=&quot;mso-list: l0 level1 lfo1\; 
 tab-stops: list .5in\;&quot;&gt;Reinforces the value of community and collaboratio
 n within IEEE beyond academic and technical sessions&lt;/li&gt;\n&lt;/ul&gt;\n&lt;p class
 =&quot;MsoNormal&quot;&gt;&lt;span style=&quot;font-family: &#39;Segoe UI Emoji&#39;\,sans-serif\; mso-
 bidi-font-family: &#39;Segoe UI Emoji&#39;\;&quot;&gt;🤝&lt;/span&gt; YP Info Booth | &lt;span st
 yle=&quot;font-family: &#39;Segoe UI Emoji&#39;\,sans-serif\; mso-bidi-font-family: &#39;Se
 goe UI Emoji&#39;\;&quot;&gt;🍴&lt;/span&gt; Catered&lt;/p&gt;\n&lt;p class=&quot;MsoNormal&quot;&gt;Whether you
  are attending the Industry Summit or just joining us for the evening\, th
 is event is your opportunity to connect\, reflect\, and grow.&lt;/p&gt;\n&lt;p clas
 s=&quot;MsoNormal&quot;&gt;P.S. If you are volunteering at CCECE 2025\, please contact 
 &lt;a class=&quot;cursor-pointer&quot; rel=&quot;noopener&quot; data-start=&quot;213&quot; data-end=&quot;228&quot;&gt;s
 abooram@sfu.ca&lt;/a&gt; to receive your free ticket to the YP Social Mixer.&lt;/p&gt;
END:VEVENT
END:VCALENDAR

