BEGIN:VCALENDAR
VERSION:2.0
PRODID:IEEE vTools.Events//EN
CALSCALE:GREGORIAN
BEGIN:VTIMEZONE
TZID:America/Lima
BEGIN:DAYLIGHT
DTSTART:20380118T221407
TZOFFSETFROM:-0500
TZOFFSETTO:-0500
RRULE:FREQ=YEARLY;BYDAY=3MO;BYMONTH=1
TZNAME:-05
END:DAYLIGHT
BEGIN:STANDARD
DTSTART:19940331T230000
TZOFFSETFROM:-0400
TZOFFSETTO:-0500
RRULE:FREQ=YEARLY;BYDAY=-1TH;BYMONTH=3
TZNAME:-05
END:STANDARD
END:VTIMEZONE
BEGIN:VEVENT
DTSTAMP:20250711T014900Z
UID:622B0874-7B2A-4B95-8ED7-7DEA6AB7F3C1
DTSTART;TZID=America/Lima:20250705T090000
DTEND;TZID=America/Lima:20250705T173000
DESCRIPTION:El proyecto MISSION: STEM es una iniciativa educativa organizad
 a por el Grupo de Afinidad Women in Engineering (WIE) de IEEE Sección Ecu
 ador\, que busca fomentar el interés por la ciencia y la tecnología en n
 iños y niñas mediante actividades lúdicas\, prácticas y formativas.\n\
 nEl evento se desarrollará el sábado 5 de julio de 2025\, en el marco de
 l IEEE WIE DAY\, bajo la temática “Pioneering Safe Cyberspace: Bridging
  Technology and Light for Security”\, y contará con talleres de robóti
 ca\, electricidad básica\, pintura y actividades recreativas.\n\nParticip
 an instituciones como el GAD de Salcedo\, ESPE Latacunga\, el Instituto Te
 cnológico Traversari\, y voluntarios IEEE.\n\n[]\n\nAgenda: \nGENDA GENER
 AL – MISSION: STEAM\n\n[📍] Lugar: ESPE – Sede Latacunga\n[📅] Fec
 ha: Sábado\, 5 de julio de 2025\n\nHORARIO\n\nSECCIÓN\n\nACTIVIDAD\n\n08
 h30 – 09h00\n\nRecepción\n\nRegistro y llegada de participantes\n\n09h0
 0 – 09h05\n\nInauguración\n\nBienvenida institucional\n\n09h05 – 09h1
 0\n\nPalabras de bienvenida – Ing. David Rivas\, PhD. (Presidente IEEE S
 ección Ecuador)\n\n09h10 – 09h15\n\nPalabras de inauguración – Jacqu
 eline Llanos (Mentora WIE ESPE Latacunga)\n\n09h15 – 09h20\n\nPalabras d
 e agradecimiento – Marcela Gallegos A. (Coordinadora WIE IEEE Sección E
 cuador)\n\n09h20 – 09h30\n\nExplicación de la dinámica y conformación
  de grupos (4 grupos de 10 niños/as)\n\n09h30 – 10h10\n\nTalleres Simul
 táneos – Ronda 1\n\n[🔹] Ambientes de aprendizaje experimentales\n\n[
 🔹] Experiencias inmersivas y videojuegos\n\n[🔹] Electrónica y elect
 ricidad básica\n\n[🔹] Demostración de robots\n\n10h15 – 10h55\n\nTa
 lleres – Ronda 2\n\nRotación por estaciones\n\n11h00 – 11h40\n\nTalle
 res – Ronda 3\n\nRotación por estaciones\n\n11h45 – 12h25\n\nTalleres
  – Ronda 4\n\nRotación por estaciones\n\n12h30 – 12h40\n\nCierre del 
 Evento\n\nEntrega de refrigerios\n\n12h40 – 12h50\n\nEntrega de souvenir
 s para niños/as\n\n12h50 – 13h00\n\nEntrega de certificados a:\n\n- Ni
 ños participantes\n\n- Voluntarios\n\n- Instituciones participantes\n\n13
 h00 – 13h10\n\nFoto oficial del evento\n\n13h10 – 13h15\n\nPalabras de
  cierre – Representante del GAD Municipal de Salcedo\n\nSALCEDO\, Cotopa
 xi\, Ecuador
LOCATION:SALCEDO\, Cotopaxi\, Ecuador
ORGANIZER:m_gallegos@ieee.org
SEQUENCE:16
SUMMARY:MISSION: STEAM
URL;VALUE=URI:https://events.vtools.ieee.org/m/486725
X-ALT-DESC:Description: &lt;br /&gt;&lt;p data-start=&quot;98&quot; data-end=&quot;376&quot;&gt;El proyecto
  &lt;strong data-start=&quot;110&quot; data-end=&quot;127&quot;&gt;MISSION: STEM&lt;/strong&gt; es una ini
 ciativa educativa organizada por el Grupo de Afinidad Women in Engineering
  (WIE) de IEEE Secci&amp;oacute\;n Ecuador\, que busca fomentar el inter&amp;eacut
 e\;s por la ciencia y la tecnolog&amp;iacute\;a en ni&amp;ntilde\;os y ni&amp;ntilde\;
 as mediante actividades l&amp;uacute\;dicas\, pr&amp;aacute\;cticas y formativas.&lt;
 /p&gt;\n&lt;p data-start=&quot;378&quot; data-end=&quot;780&quot;&gt;El evento se desarrollar&amp;aacute\; 
 el &lt;strong data-start=&quot;407&quot; data-end=&quot;436&quot;&gt;s&amp;aacute\;bado 5 de julio de 20
 25&lt;/strong&gt;\, en el marco del &lt;strong data-start=&quot;454&quot; data-end=&quot;470&quot;&gt;IEEE
  WIE DAY&lt;/strong&gt;\, bajo la tem&amp;aacute\;tica &lt;strong data-start=&quot;489&quot; data
 -end=&quot;565&quot;&gt;&amp;ldquo\;Pioneering Safe Cyberspace: Bridging Technology and Lig
 ht for Security&amp;rdquo\;&lt;/strong&gt;\, y contar&amp;aacute\; con talleres de rob&amp;o
 acute\;tica\, electricidad b&amp;aacute\;sica\, pintura y actividades recreati
 vas.&lt;/p&gt;\n&lt;p data-start=&quot;378&quot; data-end=&quot;780&quot;&gt;Participan instituciones como
  el GAD de Salcedo\, ESPE Latacunga\, el Instituto Tecnol&amp;oacute\;gico Tra
 versari\, y voluntarios IEEE.&lt;/p&gt;\n&lt;p data-start=&quot;378&quot; data-end=&quot;780&quot;&gt;&lt;img
  src=&quot;https://events.vtools.ieee.org/vtools_ui/media/display/452d339d-ec7e
 -4bd7-80da-d0cb63db1adb&quot; alt=&quot;&quot; width=&quot;786&quot; height=&quot;982&quot;&gt;&lt;/p&gt;\n&lt;p data-sta
 rt=&quot;378&quot; data-end=&quot;780&quot;&gt;&amp;nbsp\;&lt;/p&gt;&lt;br /&gt;&lt;br /&gt;Agenda: &lt;br /&gt;&lt;p class=&quot;Mso
 Normal&quot;&gt;&lt;strong&gt;GENDA GENERAL &amp;ndash\; MISSION: STEAM&lt;/strong&gt;&lt;/p&gt;\n&lt;p cla
 ss=&quot;MsoNormal&quot;&gt;&lt;img class=&quot;an1&quot; draggable=&quot;false&quot; src=&quot;https://fonts.gstat
 ic.com/s/e/notoemoji/16.0/1f4cd/72.png&quot; alt=&quot;📍&quot; width=&quot;26&quot; height=&quot;26&quot; 
 loading=&quot;lazy&quot; data-emoji=&quot;📍&quot; aria-label=&quot;📍&quot;&gt;&amp;nbsp\;&lt;em&gt;Lugar&lt;/em&gt;: 
 ESPE &amp;ndash\; Sede Latacunga&lt;br&gt;&lt;img class=&quot;an1&quot; draggable=&quot;false&quot; src=&quot;ht
 tps://fonts.gstatic.com/s/e/notoemoji/16.0/1f4c5/72.png&quot; alt=&quot;📅&quot; width=
 &quot;27&quot; height=&quot;27&quot; loading=&quot;lazy&quot; data-emoji=&quot;📅&quot; aria-label=&quot;📅&quot;&gt;&amp;nbsp\
 ;&lt;em&gt;Fecha&lt;/em&gt;: S&amp;aacute\;bado\, 5 de julio de 2025&lt;/p&gt;\n&lt;div align=&quot;cent
 er&quot;&gt;\n&lt;table style=&quot;width: 757px\; height: 1222.2px\;&quot; border=&quot;1&quot; width=&quot;5
 99&quot; cellspacing=&quot;3&quot; cellpadding=&quot;0&quot;&gt;\n&lt;thead&gt;\n&lt;tr style=&quot;height: 35.3889p
 x\;&quot;&gt;\n&lt;td style=&quot;width: 162.667px\; height: 35.3889px\;&quot; width=&quot;110&quot;&gt;\n&lt;p
  class=&quot;MsoNormal&quot; align=&quot;center&quot;&gt;&lt;strong&gt;HORARIO&lt;/strong&gt;&lt;/p&gt;\n&lt;/td&gt;\n&lt;td
  style=&quot;width: 205.004px\; height: 35.3889px\;&quot;&gt;\n&lt;p class=&quot;MsoNormal&quot; ali
 gn=&quot;center&quot;&gt;&lt;strong&gt;SECCI&amp;Oacute\;N&lt;/strong&gt;&lt;/p&gt;\n&lt;/td&gt;\n&lt;td style=&quot;width:
  386.129px\; height: 35.3889px\;&quot;&gt;\n&lt;p class=&quot;MsoNormal&quot; align=&quot;center&quot;&gt;&lt;s
 trong&gt;ACTIVIDAD&lt;/strong&gt;&lt;/p&gt;\n&lt;/td&gt;\n&lt;/tr&gt;\n&lt;/thead&gt;\n&lt;tbody&gt;\n&lt;tr style=&quot;
 height: 54.3889px\;&quot;&gt;\n&lt;td style=&quot;width: 162.667px\; height: 54.3889px\;&quot; 
 width=&quot;110&quot;&gt;\n&lt;p class=&quot;MsoNormal&quot;&gt;08h30 &amp;ndash\; 09h00&lt;/p&gt;\n&lt;/td&gt;\n&lt;td st
 yle=&quot;width: 205.004px\; height: 54.3889px\;&quot;&gt;\n&lt;p class=&quot;MsoNormal&quot;&gt;&lt;stron
 g&gt;Recepci&amp;oacute\;n&lt;/strong&gt;&lt;/p&gt;\n&lt;/td&gt;\n&lt;td style=&quot;width: 386.129px\; hei
 ght: 54.3889px\;&quot;&gt;\n&lt;p class=&quot;MsoNormal&quot;&gt;Registro y llegada de participant
 es&lt;/p&gt;\n&lt;/td&gt;\n&lt;/tr&gt;\n&lt;tr style=&quot;height: 54.3889px\;&quot;&gt;\n&lt;td style=&quot;width: 
 162.667px\; height: 54.3889px\;&quot; width=&quot;110&quot;&gt;\n&lt;p class=&quot;MsoNormal&quot;&gt;09h00 
 &amp;ndash\; 09h05&lt;/p&gt;\n&lt;/td&gt;\n&lt;td style=&quot;width: 205.004px\; height: 54.3889px
 \;&quot;&gt;\n&lt;p class=&quot;MsoNormal&quot;&gt;&lt;strong&gt;Inauguraci&amp;oacute\;n&lt;/strong&gt;&lt;/p&gt;\n&lt;/td
 &gt;\n&lt;td style=&quot;width: 386.129px\; height: 54.3889px\;&quot;&gt;\n&lt;p class=&quot;MsoNorma
 l&quot;&gt;Bienvenida institucional&lt;/p&gt;\n&lt;/td&gt;\n&lt;/tr&gt;\n&lt;tr style=&quot;height: 76.7917p
 x\;&quot;&gt;\n&lt;td style=&quot;width: 162.667px\; height: 76.7917px\;&quot; width=&quot;110&quot;&gt;\n&lt;p
  class=&quot;MsoNormal&quot;&gt;09h05 &amp;ndash\; 09h10&lt;/p&gt;\n&lt;/td&gt;\n&lt;td style=&quot;width: 205.
 004px\; height: 76.7917px\;&quot;&gt;&amp;nbsp\;&lt;/td&gt;\n&lt;td style=&quot;width: 386.129px\; h
 eight: 76.7917px\;&quot;&gt;\n&lt;p class=&quot;MsoNormal&quot;&gt;Palabras de bienvenida &amp;ndash\;
  Ing. David Rivas\, PhD. (Presidente IEEE Secci&amp;oacute\;n Ecuador)&lt;/p&gt;\n&lt;/
 td&gt;\n&lt;/tr&gt;\n&lt;tr style=&quot;height: 76.7917px\;&quot;&gt;\n&lt;td style=&quot;width: 162.667px\
 ; height: 76.7917px\;&quot; width=&quot;110&quot;&gt;\n&lt;p class=&quot;MsoNormal&quot;&gt;09h10 &amp;ndash\; 0
 9h15&lt;/p&gt;\n&lt;/td&gt;\n&lt;td style=&quot;width: 205.004px\; height: 76.7917px\;&quot;&gt;&amp;nbsp\
 ;&lt;/td&gt;\n&lt;td style=&quot;width: 386.129px\; height: 76.7917px\;&quot;&gt;\n&lt;p class=&quot;Mso
 Normal&quot;&gt;Palabras de inauguraci&amp;oacute\;n &amp;ndash\; Jacqueline Llanos (Mento
 ra WIE ESPE Latacunga)&lt;/p&gt;\n&lt;/td&gt;\n&lt;/tr&gt;\n&lt;tr style=&quot;height: 76.7917px\;&quot;&gt;
 \n&lt;td style=&quot;width: 162.667px\; height: 76.7917px\;&quot; width=&quot;110&quot;&gt;\n&lt;p clas
 s=&quot;MsoNormal&quot;&gt;09h15 &amp;ndash\; 09h20&lt;/p&gt;\n&lt;/td&gt;\n&lt;td style=&quot;width: 205.004px
 \; height: 76.7917px\;&quot;&gt;&amp;nbsp\;&lt;/td&gt;\n&lt;td style=&quot;width: 386.129px\; height
 : 76.7917px\;&quot;&gt;\n&lt;p class=&quot;MsoNormal&quot;&gt;Palabras de agradecimiento &amp;ndash\; 
 Marcela Gallegos A. (Coordinadora WIE IEEE Secci&amp;oacute\;n Ecuador)&lt;/p&gt;\n&lt;
 /td&gt;\n&lt;/tr&gt;\n&lt;tr style=&quot;height: 76.7917px\;&quot;&gt;\n&lt;td style=&quot;width: 162.667px
 \; height: 76.7917px\;&quot; width=&quot;110&quot;&gt;\n&lt;p class=&quot;MsoNormal&quot;&gt;09h20 &amp;ndash\; 
 09h30&lt;/p&gt;\n&lt;/td&gt;\n&lt;td style=&quot;width: 205.004px\; height: 76.7917px\;&quot;&gt;&amp;nbsp
 \;&lt;/td&gt;\n&lt;td style=&quot;width: 386.129px\; height: 76.7917px\;&quot;&gt;\n&lt;p class=&quot;Ms
 oNormal&quot;&gt;Explicaci&amp;oacute\;n de la din&amp;aacute\;mica y conformaci&amp;oacute\;n
  de grupos (4 grupos de 10 ni&amp;ntilde\;os/as)&lt;/p&gt;\n&lt;/td&gt;\n&lt;/tr&gt;\n&lt;tr style=
 &quot;height: 198.181px\;&quot;&gt;\n&lt;td style=&quot;width: 162.667px\; height: 198.181px\;&quot;
  width=&quot;110&quot;&gt;\n&lt;p class=&quot;MsoNormal&quot;&gt;09h30 &amp;ndash\; 10h10&lt;/p&gt;\n&lt;/td&gt;\n&lt;td s
 tyle=&quot;width: 205.004px\; height: 198.181px\;&quot;&gt;\n&lt;p class=&quot;MsoNormal&quot;&gt;&lt;stro
 ng&gt;Talleres Simult&amp;aacute\;neos &amp;ndash\; Ronda 1&lt;/strong&gt;&lt;/p&gt;\n&lt;/td&gt;\n&lt;td 
 style=&quot;width: 386.129px\; height: 198.181px\;&quot;&gt;\n&lt;p class=&quot;MsoNormal&quot;&gt;&lt;img
  class=&quot;an1&quot; draggable=&quot;false&quot; src=&quot;https://fonts.gstatic.com/s/e/notoemoj
 i/16.0/1f539/72.png&quot; alt=&quot;🔹&quot; width=&quot;25&quot; height=&quot;25&quot; loading=&quot;lazy&quot; data
 -emoji=&quot;🔹&quot; aria-label=&quot;🔹&quot;&gt;&amp;nbsp\;Ambientes de aprendizaje experiment
 ales&lt;/p&gt;\n&lt;p class=&quot;MsoNormal&quot;&gt;&lt;img class=&quot;an1&quot; draggable=&quot;false&quot; src=&quot;htt
 ps://fonts.gstatic.com/s/e/notoemoji/16.0/1f539/72.png&quot; alt=&quot;🔹&quot; width=&quot;
 23&quot; height=&quot;23&quot; loading=&quot;lazy&quot; data-emoji=&quot;🔹&quot; aria-label=&quot;🔹&quot;&gt;&amp;nbsp\;
 Experiencias inmersivas y videojuegos&lt;/p&gt;\n&lt;p class=&quot;MsoNormal&quot;&gt;&lt;img class
 =&quot;an1&quot; draggable=&quot;false&quot; src=&quot;https://fonts.gstatic.com/s/e/notoemoji/16.0
 /1f539/72.png&quot; alt=&quot;🔹&quot; width=&quot;25&quot; height=&quot;25&quot; loading=&quot;lazy&quot; data-emoji
 =&quot;🔹&quot; aria-label=&quot;🔹&quot;&gt;&amp;nbsp\;Electr&amp;oacute\;nica y electricidad b&amp;aacu
 te\;sica&lt;/p&gt;\n&lt;p class=&quot;MsoNormal&quot;&gt;&lt;img class=&quot;an1&quot; draggable=&quot;false&quot; src=
 &quot;https://fonts.gstatic.com/s/e/notoemoji/16.0/1f539/72.png&quot; alt=&quot;🔹&quot; wid
 th=&quot;20&quot; height=&quot;20&quot; loading=&quot;lazy&quot; data-emoji=&quot;🔹&quot; aria-label=&quot;🔹&quot;&gt;&amp;nb
 sp\;Demostraci&amp;oacute\;n de robots&lt;/p&gt;\n&lt;/td&gt;\n&lt;/tr&gt;\n&lt;tr style=&quot;height: 5
 4.3889px\;&quot;&gt;\n&lt;td style=&quot;width: 162.667px\; height: 54.3889px\;&quot; width=&quot;11
 0&quot;&gt;\n&lt;p class=&quot;MsoNormal&quot;&gt;10h15 &amp;ndash\; 10h55&lt;/p&gt;\n&lt;/td&gt;\n&lt;td style=&quot;widt
 h: 205.004px\; height: 54.3889px\;&quot;&gt;\n&lt;p class=&quot;MsoNormal&quot;&gt;&lt;strong&gt;Tallere
 s &amp;ndash\; Ronda 2&lt;/strong&gt;&lt;/p&gt;\n&lt;/td&gt;\n&lt;td style=&quot;width: 386.129px\; heig
 ht: 54.3889px\;&quot;&gt;\n&lt;p class=&quot;MsoNormal&quot;&gt;Rotaci&amp;oacute\;n por estaciones&lt;/p
 &gt;\n&lt;/td&gt;\n&lt;/tr&gt;\n&lt;tr style=&quot;height: 54.3889px\;&quot;&gt;\n&lt;td style=&quot;width: 162.6
 67px\; height: 54.3889px\;&quot; width=&quot;110&quot;&gt;\n&lt;p class=&quot;MsoNormal&quot;&gt;11h00 &amp;ndas
 h\; 11h40&lt;/p&gt;\n&lt;/td&gt;\n&lt;td style=&quot;width: 205.004px\; height: 54.3889px\;&quot;&gt;\
 n&lt;p class=&quot;MsoNormal&quot;&gt;&lt;strong&gt;Talleres &amp;ndash\; Ronda 3&lt;/strong&gt;&lt;/p&gt;\n&lt;/td
 &gt;\n&lt;td style=&quot;width: 386.129px\; height: 54.3889px\;&quot;&gt;\n&lt;p class=&quot;MsoNorma
 l&quot;&gt;Rotaci&amp;oacute\;n por estaciones&lt;/p&gt;\n&lt;/td&gt;\n&lt;/tr&gt;\n&lt;tr style=&quot;height: 5
 4.3889px\;&quot;&gt;\n&lt;td style=&quot;width: 162.667px\; height: 54.3889px\;&quot; width=&quot;11
 0&quot;&gt;\n&lt;p class=&quot;MsoNormal&quot;&gt;11h45 &amp;ndash\; 12h25&lt;/p&gt;\n&lt;/td&gt;\n&lt;td style=&quot;widt
 h: 205.004px\; height: 54.3889px\;&quot;&gt;\n&lt;p class=&quot;MsoNormal&quot;&gt;&lt;strong&gt;Tallere
 s &amp;ndash\; Ronda 4&lt;/strong&gt;&lt;/p&gt;\n&lt;/td&gt;\n&lt;td style=&quot;width: 386.129px\; heig
 ht: 54.3889px\;&quot;&gt;\n&lt;p class=&quot;MsoNormal&quot;&gt;Rotaci&amp;oacute\;n por estaciones&lt;/p
 &gt;\n&lt;/td&gt;\n&lt;/tr&gt;\n&lt;tr style=&quot;height: 54.3889px\;&quot;&gt;\n&lt;td style=&quot;width: 162.6
 67px\; height: 54.3889px\;&quot; width=&quot;110&quot;&gt;\n&lt;p class=&quot;MsoNormal&quot;&gt;12h30 &amp;ndas
 h\; 12h40&lt;/p&gt;\n&lt;/td&gt;\n&lt;td style=&quot;width: 205.004px\; height: 54.3889px\;&quot;&gt;\
 n&lt;p class=&quot;MsoNormal&quot;&gt;&lt;strong&gt;Cierre del Evento&lt;/strong&gt;&lt;/p&gt;\n&lt;/td&gt;\n&lt;td s
 tyle=&quot;width: 386.129px\; height: 54.3889px\;&quot;&gt;\n&lt;p class=&quot;MsoNormal&quot;&gt;Entre
 ga de refrigerios&lt;/p&gt;\n&lt;/td&gt;\n&lt;/tr&gt;\n&lt;tr style=&quot;height: 54.3889px\;&quot;&gt;\n&lt;td
  style=&quot;width: 162.667px\; height: 54.3889px\;&quot; width=&quot;110&quot;&gt;\n&lt;p class=&quot;Ms
 oNormal&quot;&gt;12h40 &amp;ndash\; 12h50&lt;/p&gt;\n&lt;/td&gt;\n&lt;td style=&quot;width: 205.004px\; he
 ight: 54.3889px\;&quot;&gt;&amp;nbsp\;&lt;/td&gt;\n&lt;td style=&quot;width: 386.129px\; height: 54.
 3889px\;&quot;&gt;\n&lt;p class=&quot;MsoNormal&quot;&gt;Entrega de souvenirs para ni&amp;ntilde\;os/a
 s&lt;/p&gt;\n&lt;/td&gt;\n&lt;/tr&gt;\n&lt;tr style=&quot;height: 169.556px\;&quot;&gt;\n&lt;td style=&quot;width: 1
 62.667px\; height: 169.556px\;&quot; width=&quot;110&quot;&gt;\n&lt;p class=&quot;MsoNormal&quot;&gt;12h50 &amp;
 ndash\; 13h00&lt;/p&gt;\n&lt;/td&gt;\n&lt;td style=&quot;width: 205.004px\; height: 169.556px\
 ;&quot;&gt;&amp;nbsp\;&lt;/td&gt;\n&lt;td style=&quot;width: 386.129px\; height: 169.556px\;&quot;&gt;\n&lt;p c
 lass=&quot;MsoNormal&quot;&gt;Entrega de certificados a:&lt;/p&gt;\n&lt;p&gt;-&amp;nbsp\;&amp;nbsp\;&amp;nbsp\;
 &amp;nbsp\;&amp;nbsp\;&amp;nbsp\;&amp;nbsp\;&amp;nbsp\;Ni&amp;ntilde\;os participantes&lt;/p&gt;\n&lt;p&gt;-&amp;n
 bsp\;&amp;nbsp\;&amp;nbsp\;&amp;nbsp\;&amp;nbsp\;&amp;nbsp\;&amp;nbsp\;&amp;nbsp\;Voluntarios&lt;/p&gt;\n&lt;p&gt;
 -&amp;nbsp\;&amp;nbsp\;&amp;nbsp\;&amp;nbsp\;&amp;nbsp\;&amp;nbsp\;&amp;nbsp\;&amp;nbsp\;Instituciones par
 ticipantes&lt;/p&gt;\n&lt;/td&gt;\n&lt;/tr&gt;\n&lt;tr style=&quot;height: 54.3889px\;&quot;&gt;\n&lt;td style=
 &quot;width: 162.667px\; height: 54.3889px\;&quot; width=&quot;110&quot;&gt;\n&lt;p class=&quot;MsoNormal
 &quot;&gt;13h00 &amp;ndash\; 13h10&lt;/p&gt;\n&lt;/td&gt;\n&lt;td style=&quot;width: 205.004px\; height: 5
 4.3889px\;&quot;&gt;\n&lt;p class=&quot;MsoNormal&quot;&gt;&amp;nbsp\;&lt;/p&gt;\n&lt;/td&gt;\n&lt;td style=&quot;width: 3
 86.129px\; height: 54.3889px\;&quot;&gt;\n&lt;p class=&quot;MsoNormal&quot;&gt;Foto oficial del ev
 ento&lt;/p&gt;\n&lt;/td&gt;\n&lt;/tr&gt;\n&lt;tr style=&quot;height: 76.7917px\;&quot;&gt;\n&lt;td style=&quot;width
 : 162.667px\; height: 76.7917px\;&quot; width=&quot;110&quot;&gt;\n&lt;p class=&quot;MsoNormal&quot;&gt;13h1
 0 &amp;ndash\; 13h15&lt;/p&gt;\n&lt;/td&gt;\n&lt;td style=&quot;width: 205.004px\; height: 76.7917
 px\;&quot;&gt;\n&lt;p class=&quot;MsoNormal&quot;&gt;&amp;nbsp\;&lt;/p&gt;\n&lt;/td&gt;\n&lt;td style=&quot;width: 386.129
 px\; height: 76.7917px\;&quot;&gt;\n&lt;p class=&quot;MsoNormal&quot;&gt;Palabras de cierre &amp;ndash
 \; Representante del GAD Municipal de Salcedo&lt;/p&gt;\n&lt;/td&gt;\n&lt;/tr&gt;\n&lt;/tbody&gt;\
 n&lt;/table&gt;\n&lt;/div&gt;
END:VEVENT
END:VCALENDAR

